BEGIN:VCALENDAR
VERSION:2.0
PRODID:-//GPO Guam - ECPv6.0.12//NONSGML v1.0//EN
CALSCALE:GREGORIAN
METHOD:PUBLISH
X-ORIGINAL-URL:https://gpoguam.com
X-WR-CALDESC:Events for GPO Guam
REFRESH-INTERVAL;VALUE=DURATION:PT1H
X-Robots-Tag:noindex
X-PUBLISHED-TTL:PT1H
BEGIN:VTIMEZONE
TZID:Pacific/Guam
BEGIN:STANDARD
TZOFFSETFROM:+1000
TZOFFSETTO:+1000
TZNAME:ChST
DTSTART:20220101T000000
END:STANDARD
END:VTIMEZONE
BEGIN:VEVENT
DTSTART;VALUE=DATE:20220101
DTEND;VALUE=DATE:20221201
DTSTAMP:20260421T022555
CREATED:20220117T064306Z
LAST-MODIFIED:20221215T062652Z
UID:14254-1640995200-1669852799@gpoguam.com
SUMMARY:ENJOY YOUR FREE BIRTHDAY PRESENT FROM GPO!
DESCRIPTION:ENJOY YOUR FREE BIRTHDAY PRESENT FROM GPO!\nTo celebrate GPO’s 25th Anniversary\, we want to give you a birthday present! Visit our Information Booth on the day of your birthday to claim your $25 birthday coupon that can be used at participating stores. We’re only giving away 10 per day\, so stop by early! Promotion start date: January 1\, 2022 \nMust present a valid ID with date of birth. No minimum purchase necessary. This birthday coupon has no cash value. Must be 18 years or older to redeem. Only valid for seven (7) days after receiving this gift certificate with no extensions. Non-transferable. Employees and owners of GPO stores are not eligible. \n\n\n\nPARTICIPATING STORES AND RESTAURANTS\n\n\n\n\n\n\n\n\n\n\n\n\n\n\n  \n\n\n\n\n\n\n\n\n\n\n\n\n\n\n\nAB Sports by Nike\nABC Stores\nAji Ichi\nAjisen\nBestseller Book Store\nCalvin Klein\nCalvin Klein Accessories\nCharley’s\nChatime\nCinnabon\nCold Stone Creamery\nCup & Saucer\nDocomo Pacific\nEco Inventions\nFamous Footwear\nFragrance Outlet\nGuess\nHäagan Dazs\nHair Town\nHong Kong Wok\nImperial Garden\nIT&E\nKing’s\nKFC\nLevi’s outlet\nLocal Fever\nLoco Boutique\nLonghorn Steakhouse\nMemories of Guam\nMongo Mongo\nNike Sports\nNatural by Nina\nNew York Nails\nPanda Express\nPearl House\nPink House\nPort of Mocha\nRuby Tuesday\nSbarro\nSkechers\nSubway\nTaco Bell\nTech Savvy\nTime & Style\nTommy Hilfiger\nTommy Hilfiger Kids\nTwinkles\nVitamin World\nVince Jewelers\nWendy’s
URL:https://gpoguam.com/event/enjoy-your-free-birthday-present-from-gpo/
CATEGORIES:Accessories,Communications,Fashion,Food & Beverage,Health & Beauty,Variety
END:VEVENT
BEGIN:VEVENT
DTSTART;VALUE=DATE:20220601
DTEND;VALUE=DATE:20221030
DTSTAMP:20260421T022555
CREATED:20220609T063416Z
LAST-MODIFIED:20221010T054743Z
UID:14621-1654041600-1667087999@gpoguam.com
SUMMARY:GPO 25TH ANNIVERSARY CASH GIVEAWAY
DESCRIPTION: \n\n𝐆𝐏𝐎 𝟐𝟓𝐭𝐡 𝐀𝐧𝐧𝐢𝐯𝐞𝐫𝐬𝐚𝐫𝐲 𝐂𝐚𝐬𝐡 𝐆𝐢𝐯𝐞𝐚𝐰𝐚𝐲\n\n\n\nStop by the 𝗚𝗣𝗢 𝗜𝗻𝗳𝗼𝗿𝗺𝗮𝘁𝗶𝗼𝗻 𝗕𝗼𝗼𝘁𝗵 from 𝐉𝐮𝐧𝐞 𝟏 𝐭𝐨 𝐎𝐜𝐭𝐨𝐛𝐞𝐫 𝟐𝟗\,\n& submit your receipt with the purchase of $𝟮𝟱 𝗼𝗿 𝗺𝗼𝗿𝗲\nfrom any GPO store or restaurant & receive an entry form to be entered into the random drawing on 𝗢𝗰𝘁𝗼𝗯𝗲𝗿 𝟮𝟵\, 𝟮𝟬𝟮𝟮\nto be one of ten winners to win a total of $𝟐𝟓\,𝟎𝟎𝟎 in 𝑪𝒂𝒔𝒉 & 𝑮𝒊𝒇𝒕 𝑪𝒆𝒓𝒕𝒊𝒇𝒊𝒄𝒂𝒕𝒆𝒔.*\nTen winners will be selected on October 29 to win $2000 cash & $500 worth of GPO Mall Gift Certificates each.\n\n\n\n*𝙽𝚘 𝚙𝚞𝚛𝚌𝚑𝚊𝚜𝚎 𝚗𝚎𝚌𝚎𝚜𝚜𝚊𝚛𝚢. 𝙾𝚗𝚎 𝚎𝚗𝚝𝚛𝚢 𝚏𝚘𝚛𝚖 𝚙𝚎𝚛 $𝟸𝟻 𝚛𝚎𝚌𝚎𝚒𝚙𝚝 𝚘𝚛 𝚎𝚕𝚒𝚐𝚒𝚋𝚕𝚎 𝚌𝚘𝚖𝚋𝚒𝚗𝚎𝚍 𝚛𝚎𝚌𝚎𝚒𝚙𝚝𝚜. 𝙼𝚞𝚜𝚝 𝚋𝚎 𝟷𝟾 𝚢𝚎𝚊𝚛𝚜 𝚘𝚕𝚍 𝚘𝚛 𝚘𝚕𝚍𝚎𝚛 𝚝𝚘 𝚎𝚗𝚝𝚎𝚛.\n𝙼𝚞𝚜𝚝 𝚋𝚎 𝚊 𝙶𝚞𝚊𝚖 𝚛𝚎𝚜𝚒𝚍𝚎𝚗𝚝. 𝙴𝚖𝚙𝚕𝚘𝚢𝚎𝚎𝚜 𝚘𝚏 𝙶𝙿𝙾 & 𝚒𝚝’𝚜 𝚛𝚎𝚜𝚙𝚎𝚌𝚝𝚒𝚟𝚎 𝚊𝚐𝚎𝚗𝚌𝚒𝚎𝚜 & 𝚝𝚑𝚎𝚒𝚛 𝚒𝚖𝚖𝚎𝚍𝚒𝚊𝚝𝚎 𝚏𝚊𝚖𝚒𝚕𝚒𝚎𝚜 𝚊𝚛𝚎 𝚗𝚘𝚝 𝚎𝚕𝚒𝚐𝚒𝚋𝚕𝚎 𝚝𝚘 𝚠𝚒𝚗.\n𝙼𝚞𝚜𝚝 𝚋𝚎 𝚙𝚛𝚎𝚜𝚎𝚗𝚝 𝚝𝚘 𝚠𝚒𝚗.\n\n\n\n𝘈𝘚 𝘛𝘏𝘌 𝘏𝘌𝘈𝘓𝘛𝘏 & 𝘚𝘈𝘍𝘌𝘛𝘠 𝘖𝘍 𝘖𝘜𝘙 𝘊𝘜𝘚𝘛𝘖𝘔𝘌𝘙𝘚 𝘙𝘌𝘔𝘈𝘐𝘕 𝘛𝘏𝘌 𝘛𝘖𝘗 𝘗𝘙𝘐𝘖𝘙𝘐𝘛𝘠\, 𝘓𝘐𝘝𝘌 𝘋𝘙𝘈𝘞𝘐𝘕𝘎 𝘔𝘈𝘠 𝘊𝘏𝘈𝘕𝘎𝘌 𝘛𝘖 𝘝𝘐𝘙𝘛𝘜𝘈𝘓 𝘋𝘌𝘗𝘌𝘕𝘋𝘐𝘕𝘎 𝘖𝘕 𝘊𝘖𝘝𝘐𝘋 𝘚𝘐𝘛𝘜𝘈𝘛𝘐𝘖𝘕 𝘈𝘛 𝘛𝘏𝘌 𝘛𝘐𝘔𝘌. 𝘋𝘙𝘈𝘞𝘐𝘕𝘎 𝘞𝘐𝘓𝘓 𝘉𝘌 𝘏𝘌𝘓𝘋 𝘖𝘕 𝘚𝘈𝘛𝘜𝘙𝘋𝘈𝘠\, 𝘖𝘊𝘛𝘖𝘉𝘌𝘙 29 𝘈𝘛 3𝘗𝘔 𝘈𝘛 𝘛𝘏𝘌 𝘎𝘗𝘖 𝘛𝘏𝘌𝘈𝘛𝘌𝘙 𝘗𝘓𝘈𝘡𝘈. 𝘋𝘌𝘚𝘐𝘎𝘕𝘈𝘛𝘌𝘋 𝘞𝘐𝘕𝘕𝘌𝘙𝘚 𝘞𝘐𝘓𝘓 𝘎𝘖 𝘛𝘏𝘙𝘖𝘜𝘎𝘏 𝘈 𝘝𝘌𝘙𝘐𝘍𝘐𝘊𝘈𝘛𝘐𝘖𝘕 𝘗𝘙𝘖𝘊𝘌𝘚𝘚. 𝘗𝘓𝘌𝘈𝘚𝘌 𝘚𝘛𝘈𝘠 𝘛𝘜𝘕𝘌𝘋 𝘖𝘕 𝘖𝘜𝘙 𝘍𝘈𝘊𝘌𝘉𝘖𝘖𝘒\, 𝘐𝘕𝘚𝘛𝘈𝘎𝘙𝘈𝘔\, & 𝘛𝘞𝘐𝘛𝘛𝘌𝘙 𝘍𝘖𝘙 𝘓𝘐𝘝𝘌 𝘜𝘗𝘋𝘈𝘛𝘌𝘚.\n\n\nFor more information visit  https://gpoguam.com/25th-anniversary-promo/
URL:https://gpoguam.com/event/gpo-25th-anniversary-cash-giveaway/
LOCATION:GPO Shopping Center
CATEGORIES:Entertainment,Sales
END:VEVENT
BEGIN:VEVENT
DTSTART;TZID=Pacific/Guam:20221008T110000
DTEND;TZID=Pacific/Guam:20221008T130000
DTSTAMP:20260421T022555
CREATED:20221006T055212Z
LAST-MODIFIED:20221006T055212Z
UID:14939-1665226800-1665234000@gpoguam.com
SUMMARY:Governor's Youth Empowerment & Education Assistance Grant Program Exhibition
DESCRIPTION:
URL:https://gpoguam.com/event/governors-youth-empowerment-education-assistance-grant-program-exhibition/
LOCATION:GPO Center Court\, Guam
CATEGORIES:Outreach Event
END:VEVENT
BEGIN:VEVENT
DTSTART;TZID=Pacific/Guam:20221022T130000
DTEND;TZID=Pacific/Guam:20221022T150000
DTSTAMP:20260421T022555
CREATED:20221010T001953Z
LAST-MODIFIED:20221010T001953Z
UID:14946-1666443600-1666450800@gpoguam.com
SUMMARY:Halloween Pet Costume Contest
DESCRIPTION:On Saturday\, October 22 join Rocky’s Pet Supplies at our Center Court for a frightfully FUN & scary GOOD TIME in our first annual Halloween Costume Contest! \n\n\nBring your furry friend in costume between 1-3pm at the GPO Center Court to WIN one of three spooktacular prizes!\n\n\n\nAll pets that arrive in costume will receive a FREE treat until supplies last! Checkout the contest info below! \n\n\n\n-All pets MUST wear a costume to be entered.\n\n\n\n-Register to enter your pet at the Rocky’s Pet Supplies Store between October 10 – October 21.\n\n\n\n-There will be three (3) categories: “Scariest”\, “Most Creative”\, & “Best Duo (Owner & Dog)”.\n\n\n\n-Winners will receive a special gift basket filled with one $50 gift certificate to Rocky’s Pet Supplies as well as gift certificates to select GPO stores PLUS prizes for both owner & pet!
URL:https://gpoguam.com/event/halloween-pet-costume-contest/
LOCATION:GPO Center Court\, Guam
CATEGORIES:Entertainment
END:VEVENT
BEGIN:VEVENT
DTSTART;TZID=Pacific/Guam:20221028T110000
DTEND;TZID=Pacific/Guam:20221031T180000
DTSTAMP:20260421T022555
CREATED:20221025T040312Z
LAST-MODIFIED:20221025T040312Z
UID:14961-1666954800-1667239200@gpoguam.com
SUMMARY:Baldayga Job Fair
DESCRIPTION:
URL:https://gpoguam.com/event/baldayga-job-fair/
CATEGORIES:Outreach Event
END:VEVENT
BEGIN:VEVENT
DTSTART;VALUE=DATE:20221029
DTEND;VALUE=DATE:20221030
DTSTAMP:20260421T022555
CREATED:20221025T044625Z
LAST-MODIFIED:20221025T044625Z
UID:14964-1667001600-1667087999@gpoguam.com
SUMMARY:GPO 25th Anniversary Cash Giveaway
DESCRIPTION:25th Anniversary Cash Giveaway\nShow up early for savings\, entertainment from Jack Larimer\, the Guam Chamber of Commerce Pop-Up Shop & prize giveaways! \nGuam Chamber of Commerce Pop-Up Shop \n 10am – 2pm in the GPO Shopping Center \nLive Performance from Jack Larimer \n  12pm – 2:00pm in the GPO Food Court \nMini Giveaways \n2:30pm – 3pm in the GPO Theater Plaza \nCash Giveaway Drawing \n3pm – 4pm GPO Theater Plaza \n 
URL:https://gpoguam.com/event/gpo-25th-anniversary-cash-giveaway-2/
LOCATION:GPO Shopping Center
CATEGORIES:Entertainment,Giveaway,Outreach Event,Sales
END:VEVENT
BEGIN:VEVENT
DTSTART;TZID=Pacific/Guam:20221031T060000
DTEND;TZID=Pacific/Guam:20221031T200000
DTSTAMP:20260421T022555
CREATED:20221010T063252Z
LAST-MODIFIED:20221010T063252Z
UID:14949-1667196000-1667246400@gpoguam.com
SUMMARY:Trick or Treat & Halloween Costume Contest
DESCRIPTION:GPO invites you to our SPOOK-tacular 𝙃𝙖𝙡𝙡𝙤𝙬𝙚𝙚𝙣 𝙀𝙫𝙚𝙣𝙩 & 𝑪𝒐𝒔𝒕𝒖𝒎𝒆 𝑪𝒐𝒏𝒕𝒆𝒔𝒕.\nBring your trick-or-treat bag and dress in your best costume on 𝗢𝗰𝘁𝗼𝗯𝗲𝗿 𝟯𝟭\, 𝟮𝟬𝟮𝟮\nto enter the costume contest for a chance to win gift certificates to GPO Halloween goodies\, and more!\n\nTrick-or-Treating: 6pm – Closing (While supplies last)\n\nRegistration for Costume Contest : 6:30pm – 7pm\n\nCostume Contest Location: GPO Food Court\n\nContest: 7pm\n\nCategories: Most Creative\, Best Duo\, Funniest\, Scariest\n\nSponsored by: Haagen-Dazs & Twinkles
URL:https://gpoguam.com/event/trick-or-treat-halloween-costume-contest/
CATEGORIES:Entertainment,Giveaway
END:VEVENT
END:VCALENDAR