BEGIN:VCALENDAR
VERSION:2.0
PRODID:-//GPO Guam - ECPv6.0.12//NONSGML v1.0//EN
CALSCALE:GREGORIAN
METHOD:PUBLISH
X-ORIGINAL-URL:https://gpoguam.com
X-WR-CALDESC:Events for GPO Guam
REFRESH-INTERVAL;VALUE=DURATION:PT1H
X-Robots-Tag:noindex
X-PUBLISHED-TTL:PT1H
BEGIN:VTIMEZONE
TZID:Pacific/Guam
BEGIN:STANDARD
TZOFFSETFROM:+1000
TZOFFSETTO:+1000
TZNAME:ChST
DTSTART:20210101T000000
END:STANDARD
END:VTIMEZONE
BEGIN:VEVENT
DTSTART;VALUE=DATE:20210425
DTEND;VALUE=DATE:20221001
DTSTAMP:20260421T104019
CREATED:20210706T011552Z
LAST-MODIFIED:20221215T062613Z
UID:13721-1619308800-1664582399@gpoguam.com
SUMMARY:LUNCH WITH JOE GUAM
DESCRIPTION:LIVE PERFORMANCE: Lunch With Joe Guam \nJoin us for a lunch break with Joe Guam playing LIVE \nevery Tuesday from 12pm – 2pm \nthroughout the summer in Food Court. Hope to see you there! \n*PERFORMANCE WILLBE LIVE STREAMED ON GPO’S FACEBOOK & JOE GUAM’S FACEBOOK & YOUTUBE PAGE.
URL:https://gpoguam.com/event/lunch-with-joe-guam/
LOCATION:GPO Food Court
CATEGORIES:Entertainment
END:VEVENT
BEGIN:VEVENT
DTSTART;VALUE=DATE:20220101
DTEND;VALUE=DATE:20221201
DTSTAMP:20260421T104019
CREATED:20220117T064306Z
LAST-MODIFIED:20221215T062652Z
UID:14254-1640995200-1669852799@gpoguam.com
SUMMARY:ENJOY YOUR FREE BIRTHDAY PRESENT FROM GPO!
DESCRIPTION:ENJOY YOUR FREE BIRTHDAY PRESENT FROM GPO!\nTo celebrate GPO’s 25th Anniversary\, we want to give you a birthday present! Visit our Information Booth on the day of your birthday to claim your $25 birthday coupon that can be used at participating stores. We’re only giving away 10 per day\, so stop by early! Promotion start date: January 1\, 2022 \nMust present a valid ID with date of birth. No minimum purchase necessary. This birthday coupon has no cash value. Must be 18 years or older to redeem. Only valid for seven (7) days after receiving this gift certificate with no extensions. Non-transferable. Employees and owners of GPO stores are not eligible. \n\n\n\nPARTICIPATING STORES AND RESTAURANTS\n\n\n\n\n\n\n\n\n\n\n\n\n\n\n  \n\n\n\n\n\n\n\n\n\n\n\n\n\n\n\nAB Sports by Nike\nABC Stores\nAji Ichi\nAjisen\nBestseller Book Store\nCalvin Klein\nCalvin Klein Accessories\nCharley’s\nChatime\nCinnabon\nCold Stone Creamery\nCup & Saucer\nDocomo Pacific\nEco Inventions\nFamous Footwear\nFragrance Outlet\nGuess\nHäagan Dazs\nHair Town\nHong Kong Wok\nImperial Garden\nIT&E\nKing’s\nKFC\nLevi’s outlet\nLocal Fever\nLoco Boutique\nLonghorn Steakhouse\nMemories of Guam\nMongo Mongo\nNike Sports\nNatural by Nina\nNew York Nails\nPanda Express\nPearl House\nPink House\nPort of Mocha\nRuby Tuesday\nSbarro\nSkechers\nSubway\nTaco Bell\nTech Savvy\nTime & Style\nTommy Hilfiger\nTommy Hilfiger Kids\nTwinkles\nVitamin World\nVince Jewelers\nWendy’s
URL:https://gpoguam.com/event/enjoy-your-free-birthday-present-from-gpo/
CATEGORIES:Accessories,Communications,Fashion,Food & Beverage,Health & Beauty,Variety
END:VEVENT
BEGIN:VEVENT
DTSTART;VALUE=DATE:20220316
DTEND;VALUE=DATE:20220601
DTSTAMP:20260421T104019
CREATED:20220316T061857Z
LAST-MODIFIED:20220316T061857Z
UID:14456-1647388800-1654041599@gpoguam.com
SUMMARY:SUBWAY: NEW FRESH MELTS
DESCRIPTION:Subway: NEW Fresh Melts \nNEW Subs available now at #subway!\nEnjoy the new “Fresh Melts” sandwiches which include: Ham & Cheese Melt\, Tuna Melt\, & Steak & Cheese Melt.  \nSubway is available at our food court. Food court is open 11am – 7pm daily. #gpoguam #guampremieroutlets #guam #guamfood #guamfoodies
URL:https://gpoguam.com/event/subway-new-fresh-melts/
LOCATION:Subway
CATEGORIES:Food & Beverage
END:VEVENT
BEGIN:VEVENT
DTSTART;VALUE=DATE:20220412
DTEND;VALUE=DATE:20220502
DTSTAMP:20260421T104019
CREATED:20220411T050537Z
LAST-MODIFIED:20220411T050537Z
UID:14519-1649721600-1651449599@gpoguam.com
SUMMARY:TELLING TALES WITH TRASH
DESCRIPTION:  \n \nMarianas Climate Change Alliance: Telling Tales with Trash \nOver 400 students from across the island up-cycled trash into beautiful art pieces that depict local legends as well as native flora and fauna. We are encouraging everyone to stop by GPO from April 12-May 1st to see these incredibly well made art pieces and vote for whichever one you like best. Voting will close on April 26th and the winning submissions with the most votes will win cash prizes!  \n\nSpecial thanks to @numalorefillery @thebluelatitude @marcialpontillas_official @marleyalace @cdegurrola for being apart of our team and helping to make this happen!  \n\nWe also would like to thank the Zero Waste Task Force and Mr. Rubbishman for their generous donations which helped to fund this program and to the staff at @gpoguam for allowing us to host the exhibit at their space!  \n\n*THIS PROJECT IS SUPPORTED IN PART BY A GRANT FROM THE NATIONAL ENDOWMENT FOR THE ARTS\, THE GUAM COUNCIL ON THE ARTS AND HUMANITIES AGENCY\, GOVERNMENT OF GUAM AND THE OFFICE OF THE GOVERNOR*
URL:https://gpoguam.com/event/telling-tales-with-trash/
LOCATION:GPO Center Court\, Guam
CATEGORIES:Entertainment
END:VEVENT
BEGIN:VEVENT
DTSTART;VALUE=DATE:20220505
DTEND;VALUE=DATE:20220512
DTSTAMP:20260421T104019
CREATED:20220505T061419Z
LAST-MODIFIED:20220505T061419Z
UID:14541-1651708800-1652313599@gpoguam.com
SUMMARY:TOMMY HILFIGER: CELEBRATE HER
DESCRIPTION:Tommy Hilfiger: Celebrate Her \nUp to 50% OFF entire store & 40% OFF all handbags* \nPlus\, 20% OFF your purchase of $100+ OR 15% OFF your entire purchase** \nMAY 5 – 11 \nPromo Code: 631712006136 \nAll styles not available at all locations. May not be available at tommy.com. Not valid for purchases through the TH Anywhere program. *Ticketed price. Exclusions may apply. OFFER IS VALID 5/5/22 – 5/11/22. **OFFER IS VALID 5/5/22 – 5/11/22. All offers are redeemable for an amount up to the discount stated on this posting and must be presented in-person at Tommy Hilfiger stores in the United States\, Puerto Rico\, and Guam. It may be used only once whether or not fully redeemed and must be surrendered at purchase with any remaining value of the Offer forfeited. Not redeemable for store credit or cash. The offers may not be combined with any other promotion and have no cash value. Offers are not valid for previously purchased merchandise\, gift cards\, or Internet transactions. Any discount (as shown on the receipt) applied to merchandise that is returned will be deducted from any refund amount. Customer must present posting at time of purchase to receive the offers. Reproductions of the offers will not be accepted. PVH associates not eligible. Not valid in department stores\, Clearance stores\, Tommy Hilfiger stores in Canada\, or on tommy.com. Promo Code: 631712006136
URL:https://gpoguam.com/event/tommy-hilfiger-celebrate-her/
LOCATION:Tommy Hilfiger
CATEGORIES:Fashion,Sales
END:VEVENT
BEGIN:VEVENT
DTSTART;VALUE=DATE:20220505
DTEND;VALUE=DATE:20220512
DTSTAMP:20260421T104019
CREATED:20220505T061830Z
LAST-MODIFIED:20220505T061830Z
UID:14545-1651708800-1652313599@gpoguam.com
SUMMARY:TOMMY HILFIGER KIDS: CELEBRATE HER
DESCRIPTION:Tommy Hilfiger Kids: Celebrate Her \nUp to 50% OFF entire store & 40% OFF all handbags* \nPlus\, 20% OFF your purchase of $100+ OR 15% OFF your entire purchase** \nMAY 5 – 11 \nPromo Code: 631712006136 \nAll styles not available at all locations. May not be available at tommy.com. Not valid for purchases through the TH Anywhere program. *Ticketed price. Exclusions may apply. OFFER IS VALID 5/5/22 – 5/11/22. **OFFER IS VALID 5/5/22 – 5/11/22. All offers are redeemable for an amount up to the discount stated on this posting and must be presented in-person at Tommy Hilfiger stores in the United States\, Puerto Rico\, and Guam. It may be used only once whether or not fully redeemed and must be surrendered at purchase with any remaining value of the Offer forfeited. Not redeemable for store credit or cash. The offers may not be combined with any other promotion and have no cash value. Offers are not valid for previously purchased merchandise\, gift cards\, or Internet transactions. Any discount (as shown on the receipt) applied to merchandise that is returned will be deducted from any refund amount. Customer must present posting at time of purchase to receive the offers. Reproductions of the offers will not be accepted. PVH associates not eligible. Not valid in department stores\, Clearance stores\, Tommy Hilfiger stores in Canada\, or on tommy.com. Promo Code: 631712006136
URL:https://gpoguam.com/event/tommy-hilfiger-kids-celebrate-her/
LOCATION:Tommy Hilfiger Kids\, Guam
CATEGORIES:Fashion,Sales
END:VEVENT
BEGIN:VEVENT
DTSTART;VALUE=DATE:20220506
DTEND;VALUE=DATE:20220510
DTSTAMP:20260421T104019
CREATED:20220505T064507Z
LAST-MODIFIED:20220505T064507Z
UID:14547-1651795200-1652140799@gpoguam.com
SUMMARY:FAMOUS FOOTWEAR: WEEKEND SALE
DESCRIPTION:Famous Footwear: Weekend Sale \nFamous Footwear is having a WEEKEND PROMOTION beginning now until May 9\, 200. \nCoupon is available via website\, email\, or mobile app. \nFamous Footwear is open 11am – 7pm daily. \n#guampremieroutlets #gpoguam #shopGPO #guamshopping #guam #famousfootwearguam
URL:https://gpoguam.com/event/famous-footwear-weekend-sale-2/
LOCATION:Famous Footwear
CATEGORIES:Accessories,Fashion,Sales
END:VEVENT
BEGIN:VEVENT
DTSTART;VALUE=DATE:20220510
DTEND;VALUE=DATE:20220601
DTSTAMP:20260421T104019
CREATED:20220510T043805Z
LAST-MODIFIED:20220510T043805Z
UID:14573-1652140800-1654041599@gpoguam.com
SUMMARY:DOCOMO: SAMSUNG GALAXY S22 ULTRA
DESCRIPTION:Docomo: Samsung Galaxy GALAXY S22 Ultra \nBright. Epic. Ultra. Break the rules of light with the all-new Samsung Galaxy S22 Ultra.  \nAvailable NOW on our 5G network with Access $60.  \nGive your phone the 5G coverage it deserves\, offered only at DOCOMO PACIFIC. #S22Ultra #bettertogether
URL:https://gpoguam.com/event/docomo-samsung-galaxy-s22-ultra/
LOCATION:Docomo Pacific\, Tamuning
END:VEVENT
BEGIN:VEVENT
DTSTART;VALUE=DATE:20220526
DTEND;VALUE=DATE:20220602
DTSTAMP:20260421T104019
CREATED:20220526T230955Z
LAST-MODIFIED:20220526T231217Z
UID:14605-1653523200-1654127999@gpoguam.com
SUMMARY:TOMMY HILFIGER KIDS: MEMORIAL DAY SAVINGS
DESCRIPTION:Tommy Hilfiger Kids: Memorial Day Savings \nReceive 30-60% OFF storewide at Tommy Hilfiger & Tommy Hilfiger Kids*  \nPlus\, 20% OFF your purchase of $100+ OR 15% OFF your entire purchase.** * \nVALID UNTIL: MAY 31. EXCLUSIONS MAY APPLY.  \nPromo Code: 631712006136  \nAll styles not available at all locations. May not be available at tommy.com. Not valid for purchases through the TH Anywhere program. *Ticketed price. Exclusions may apply. OFFER IS VALID 5/26/22 – 5/31/22. **OFFER IS VALID 5/26/22 – 5/31/22. offers are redeemable for an amount up to the discount stated on this posting and must be presented in-person at Tommy Hilfiger stores in the United States\, Puerto Rico\, and Guam. It may be used only once whether or not fully redeemed and must be surrendered at purchase with any remaining value of the Offer forfeited. Not redeemable for store credit or cash. The offers may not be combined with any other promotion and have no cash value. Offers are not valid for previously purchased merchandise\, gift cards\, or Internet transactions. Any discount (as shown on the receipt) applied to merchandise that is returned will be deducted from any refund amount. Customer must present posting at time of purchase to receive the offers. Reproductions of the offers will not be accepted. PVH associates not eligible. Not valid in department stores\, Clearance stores\, Tommy Hilfiger stores in Canada\, or on tommy.com. Promo Code: 631712006136
URL:https://gpoguam.com/event/tommy-hilfiger-kids-memorial-day-savings/
LOCATION:Tommy Hilfiger Kids\, Guam
CATEGORIES:Fashion,Sales
END:VEVENT
BEGIN:VEVENT
DTSTART;VALUE=DATE:20220527
DTEND;VALUE=DATE:20220601
DTSTAMP:20260421T104019
CREATED:20220526T230316Z
LAST-MODIFIED:20220526T231511Z
UID:14602-1653609600-1654041599@gpoguam.com
SUMMARY:TOMMY HIFIGER: MEMORIAL DAY SAVINGS
DESCRIPTION:Tommy Hilfiger: Memorial Day Savings \nReceive 30-60% OFF storewide at Tommy Hilfiger & Tommy Hilfiger Kids*  \nPlus\, 20% OFF your purchase of $100+ OR 15% OFF your entire purchase.** * \nVALID UNTIL: MAY 31. EXCLUSIONS MAY APPLY.  \nPromo Code: 631712006136  \nAll styles not available at all locations. May not be available at tommy.com. Not valid for purchases through the TH Anywhere program. *Ticketed price. Exclusions may apply. OFFER IS VALID 5/26/22 – 5/31/22. **OFFER IS VALID 5/26/22 – 5/31/22. offers are redeemable for an amount up to the discount stated on this posting and must be presented in-person at Tommy Hilfiger stores in the United States\, Puerto Rico\, and Guam. It may be used only once whether or not fully redeemed and must be surrendered at purchase with any remaining value of the Offer forfeited. Not redeemable for store credit or cash. The offers may not be combined with any other promotion and have no cash value. Offers are not valid for previously purchased merchandise\, gift cards\, or Internet transactions. Any discount (as shown on the receipt) applied to merchandise that is returned will be deducted from any refund amount. Customer must present posting at time of purchase to receive the offers. Reproductions of the offers will not be accepted. PVH associates not eligible. Not valid in department stores\, Clearance stores\, Tommy Hilfiger stores in Canada\, or on tommy.com. Promo Code: 631712006136
URL:https://gpoguam.com/event/tommy-hifiger-memorial-day-savings/
CATEGORIES:Fashion,Sales
END:VEVENT
BEGIN:VEVENT
DTSTART;TZID=Pacific/Guam:20220527T100000
DTEND;TZID=Pacific/Guam:20220527T140000
DTSTAMP:20260421T104019
CREATED:20220510T042127Z
LAST-MODIFIED:20220510T042127Z
UID:14568-1653645600-1653660000@gpoguam.com
SUMMARY:721ST ARMY BAND COMMUNITY REALTIONS CONCERT
DESCRIPTION:721st Army Band Community Relations Concert  \n(Memorial Day Concert Series) \nThe 721st Army Band musicians will be performing on \nMay 27\, 2022 at our GPO Center Court near A.B. Sports from 11am – 2pm.
URL:https://gpoguam.com/event/721st-army-band-community-realtions-concert/
LOCATION:GPO Center Court\, Guam
CATEGORIES:Entertainment
END:VEVENT
END:VCALENDAR