BEGIN:VCALENDAR
VERSION:2.0
PRODID:-//GPO Guam - ECPv6.0.12//NONSGML v1.0//EN
CALSCALE:GREGORIAN
METHOD:PUBLISH
X-WR-CALNAME:GPO Guam
X-ORIGINAL-URL:https://gpoguam.com
X-WR-CALDESC:Events for GPO Guam
REFRESH-INTERVAL;VALUE=DURATION:PT1H
X-Robots-Tag:noindex
X-PUBLISHED-TTL:PT1H
BEGIN:VTIMEZONE
TZID:Pacific/Guam
BEGIN:STANDARD
TZOFFSETFROM:+1000
TZOFFSETTO:+1000
TZNAME:ChST
DTSTART:20200101T000000
END:STANDARD
END:VTIMEZONE
BEGIN:VEVENT
DTSTART;VALUE=DATE:20200226
DTEND;VALUE=DATE:20200305
DTSTAMP:20260423T050623
CREATED:20200225T005650Z
LAST-MODIFIED:20200225T005650Z
UID:12426-1582675200-1583366399@gpoguam.com
SUMMARY:Calvin Klein: Shop the Wardrobe Event
DESCRIPTION:Weekly Web Promotion \nFebruary 26th – March 4th\, 2020  \nExclusions Apply \n\nCalvin Klein Company Stores \nShop The Wardrobe Event \nSave Up to 50% Off Entire Store \n\n\nCalvin Klein Accessory Stores \nShop The Wardrobe Event \nAccessories up to 50% Off
URL:https://gpoguam.com/event/calvin-klein-shop-the-wardrobe-event/
LOCATION:Calvin Klein
CATEGORIES:Sales
END:VEVENT
BEGIN:VEVENT
DTSTART;VALUE=DATE:20200302
DTEND;VALUE=DATE:20200326
DTSTAMP:20260423T050623
CREATED:20200310T044428Z
LAST-MODIFIED:20200310T044428Z
UID:12457-1583107200-1585180799@gpoguam.com
SUMMARY:Vitamin World: Spring Savings
DESCRIPTION:  \n \nVitamin World Buy 1 Get 2 Free/ Mix & Match (select items)\nVitamin World & Precision Engineering BOGO (Buy One Get One) Free/ Mix & Match\nSavings Madness Sports Up to 40% off (select items)\nDiet BOGO (Buy One Get One) Free/ Mix & Match\nHealth & Beauty BOGO (Buy One Get One) Free/ Mix & Match\nEnergize BOGO (Buy One Get One) Free/ Mix & Match\nSolgar 25% off\nOngoing: Clearance Up to 80% off\nOngoing: Blender Bottle 2 for $11.99\nOngoing: Bars Buy 3 Get 1 Free Mix & Match (includes drinks)
URL:https://gpoguam.com/event/vitamin-world-spring-savings/
LOCATION:Vitamin World
CATEGORIES:Sales
END:VEVENT
BEGIN:VEVENT
DTSTART;VALUE=DATE:20200305
DTEND;VALUE=DATE:20200312
DTSTAMP:20260423T050623
CREATED:20200303T224500Z
LAST-MODIFIED:20200303T224500Z
UID:12429-1583366400-1583971199@gpoguam.com
SUMMARY:Calvin Klein: Shop New Spring Fashion
DESCRIPTION:Weekly Web Promotion \nMarch 5th – March 11th\, 2020  \nExclusions Apply \n  \nCalvin Klein Company Stores \nShop New Spring Fashion \nSave Up to 40% Off Entire Store \n\nCalvin Klein Accessory Stores \nShop New Spring Fashion \nAccessories Up to 50%
URL:https://gpoguam.com/event/calvin-klein-shop-new-spring-fashion/
LOCATION:Calvin Klein
CATEGORIES:Sales
END:VEVENT
BEGIN:VEVENT
DTSTART;TZID=Pacific/Guam:20200307T140000
DTEND;TZID=Pacific/Guam:20200307T150000
DTSTAMP:20260423T050623
CREATED:20200204T042012Z
LAST-MODIFIED:20200204T042012Z
UID:12397-1583589600-1583593200@gpoguam.com
SUMMARY:PIPIT Cultural Dance Performance
DESCRIPTION:Discover and experience an authentic cultural performance by Para I Probechu’n I Taotao-ya (PIPIT) every Saturday at 2:00 pm in the GPO Food Court. \nPIPIT’s young performers help preserve and carry on Guam’s rich Chamorro culture through dance\, weaving and language. \n*Free admission!
URL:https://gpoguam.com/event/pipit-cultural-dance-performance-4/
LOCATION:GPO Food Court
CATEGORIES:Entertainment
END:VEVENT
BEGIN:VEVENT
DTSTART;TZID=Pacific/Guam:20200308T110000
DTEND;TZID=Pacific/Guam:20200308T130000
DTSTAMP:20260423T050623
CREATED:20200306T054456Z
LAST-MODIFIED:20200306T054456Z
UID:12442-1583665200-1583672400@gpoguam.com
SUMMARY:Chamorro Month Celebrations: Mes CHamoru
DESCRIPTION:Join us every weekend in March at GPO for cultural performances and demonstrations from local talent\, schools and traditional healers.
URL:https://gpoguam.com/event/chamorro-month-celebrations-mes-chamoru/
LOCATION:GPO Food Court
CATEGORIES:Entertainment
END:VEVENT
BEGIN:VEVENT
DTSTART;VALUE=DATE:20200312
DTEND;VALUE=DATE:20200319
DTSTAMP:20260423T050623
CREATED:20200310T235103Z
LAST-MODIFIED:20200310T235103Z
UID:12462-1583971200-1584575999@gpoguam.com
SUMMARY:Calvin Klein: Shop Our Must-Have Items
DESCRIPTION:Weekly Web Promotion \nMarch 12th – March 18th\, 2020  \nExclusions Apply \n\nCalvin Klein Company Stores \nShop Our Must-Have Items \nEntire Store 40-70% Off \n\nCalvin Klein Accessory Stores \nShop Our Must-Have Items \nEntire Store 40-70% Off
URL:https://gpoguam.com/event/calvin-klein-shop-our-must-have-items/
LOCATION:Calvin Klein
CATEGORIES:Sales
END:VEVENT
BEGIN:VEVENT
DTSTART;TZID=Pacific/Guam:20200314T110000
DTEND;TZID=Pacific/Guam:20200314T120000
DTSTAMP:20260423T050623
CREATED:20200306T054852Z
LAST-MODIFIED:20200306T054852Z
UID:12444-1584183600-1584187200@gpoguam.com
SUMMARY:Chamorro Month Celebrations: Mes Chamoru
DESCRIPTION:Join us every weekend in March at GPO for cultural performances and demonstrations from local talent\, schools and traditional healers!
URL:https://gpoguam.com/event/chamorro-month-celebrations-mes-chamoru-2/
LOCATION:GPO Food Court
CATEGORIES:Entertainment
END:VEVENT
BEGIN:VEVENT
DTSTART;TZID=Pacific/Guam:20200314T140000
DTEND;TZID=Pacific/Guam:20200314T150000
DTSTAMP:20260423T050623
CREATED:20200204T042342Z
LAST-MODIFIED:20200204T042342Z
UID:12399-1584194400-1584198000@gpoguam.com
SUMMARY:PIPIT Cultural Dance Performances
DESCRIPTION:Discover and experience an authentic cultural performance by Para I Probechu’n I Taotao-ya (PIPIT) every Saturday at 2:00 pm in the GPO Food Court. \nPIPIT’s young performers help preserve and carry on Guam’s rich Chamorro culture through dance\, weaving and language. \n*Free admission!
URL:https://gpoguam.com/event/pipit-cultural-dance-performances/
LOCATION:GPO Food Court
CATEGORIES:Entertainment
END:VEVENT
BEGIN:VEVENT
DTSTART;TZID=Pacific/Guam:20200315T110000
DTEND;TZID=Pacific/Guam:20200315T114500
DTSTAMP:20260423T050623
CREATED:20200306T055147Z
LAST-MODIFIED:20200306T055147Z
UID:12446-1584270000-1584272700@gpoguam.com
SUMMARY:Chamorro Month Celebrations: Mes Chamoru
DESCRIPTION:Join us every weekend in March at GPO for cultural performances and demonstrations from local talent\, schools and traditional healers.
URL:https://gpoguam.com/event/chamorro-month-celebrations-mes-chamoru-3/
LOCATION:GPO Food Court
CATEGORIES:Entertainment
END:VEVENT
END:VCALENDAR