BEGIN:VCALENDAR
VERSION:2.0
PRODID:-//GPO Guam - ECPv6.0.12//NONSGML v1.0//EN
CALSCALE:GREGORIAN
METHOD:PUBLISH
X-WR-CALNAME:GPO Guam
X-ORIGINAL-URL:https://gpoguam.com
X-WR-CALDESC:Events for GPO Guam
REFRESH-INTERVAL;VALUE=DURATION:PT1H
X-Robots-Tag:noindex
X-PUBLISHED-TTL:PT1H
BEGIN:VTIMEZONE
TZID:Pacific/Guam
BEGIN:STANDARD
TZOFFSETFROM:+1000
TZOFFSETTO:+1000
TZNAME:ChST
DTSTART:20190101T000000
END:STANDARD
END:VTIMEZONE
BEGIN:VEVENT
DTSTART;VALUE=DATE:20190228
DTEND;VALUE=DATE:20190404
DTSTAMP:20260423T225139
CREATED:20190227T225254Z
LAST-MODIFIED:20190227T225254Z
UID:11121-1551312000-1554335999@gpoguam.com
SUMMARY:Famous Footwear Sale
DESCRIPTION:Sweet Sneaks Starting at $39.99 \nOffer ends April 3\, 2019.
URL:https://gpoguam.com/event/famous-footwear-sale-2/
LOCATION:Famous Footwear
CATEGORIES:Sales
END:VEVENT
BEGIN:VEVENT
DTSTART;VALUE=DATE:20190401
DTEND;VALUE=DATE:20190408
DTSTAMP:20260423T225139
CREATED:20190401T012742Z
LAST-MODIFIED:20190401T012742Z
UID:11163-1554076800-1554681599@gpoguam.com
SUMMARY:Calvin Klein Sale
DESCRIPTION:Calvin Klein Outlet & Accessory Stores \nWeekly Promotion\n4.01.19 – 4.07.19\n*Some Exclusions Apply \nCalvin Klein Outlet Stores\nSpring forward up to 50% off \nCalvin Klein Accessory Store\nSpring forward up to 50% off
URL:https://gpoguam.com/event/calvin-klein-sale-12/
LOCATION:Calvin Klein
CATEGORIES:Sales
END:VEVENT
BEGIN:VEVENT
DTSTART;VALUE=DATE:20190401
DTEND;VALUE=DATE:20190411
DTSTAMP:20260423T225139
CREATED:20190124T041816Z
LAST-MODIFIED:20190124T041816Z
UID:11064-1554076800-1554940799@gpoguam.com
SUMMARY:Tommy Hilfiger New Spring Arrivals
DESCRIPTION:New Spring Arrivals  \n40% off select styles* \nPlus\, present this offer in-store and receive \n20% off your purchase of $150 or more or 15% off your entire purchase** \nApril 1-10 \n*Original Store price. Valid on select items. Not valid in Tommy Hilfiger stores in California. All styles not available at all locations. May not be available on tommy.com. **THIS OFFER EXPIRES ON 4/10/19 and is redeemable for the discount amount stated on this Offer and must be presented in-person at Tommy Hilfiger stores in the United States\, Puerto Rico\, and Guam. It may be used only once whether or not fully redeemed and must be surrendered at purchase with any remaining value of the Offer forfeited. Not redeemable for store credit or cash. The Offer may not be combined with any other promotion and has no cash value. It is not valid for previously purchased merchandise\, gift cards\, or Internet transactions. Any discount (as shown on the receipt) applied to merchandise that is returned will be deducted from any refund amount. Customer must present card at time of purchase to receive the Offer. Reproductions of the Offer will not be accepted. PVH associates not eligible. Not valid in department stores\, Clearance stores\, South Beach – FL\, 5th Ave. – NY\, Tommy Hilfiger stores in Canada\, or on tommy.com.  Promo Code: 500020504000
URL:https://gpoguam.com/event/tommy-hilfiger-new-spring-arrivals/
LOCATION:Tommy Hilfiger
CATEGORIES:Sales
END:VEVENT
BEGIN:VEVENT
DTSTART;VALUE=DATE:20190408
DTEND;VALUE=DATE:20190415
DTSTAMP:20260423T225139
CREATED:20190409T005816Z
LAST-MODIFIED:20190409T005816Z
UID:11181-1554681600-1555286399@gpoguam.com
SUMMARY:Calvin Klein Sale
DESCRIPTION:Calvin Klein Outlet & Calvin Klein Accessory Store\n \nWeekly Promotion\n4.8.2019 – 4.14.2019\n*Some Exclusions Apply \nCalvin Klein Outlet \nShop The Best Of Calvin 40% Off Entire Store \nCalvin Klein Accessory Stores \nSpring forward up to 50% off
URL:https://gpoguam.com/event/calvin-klein-sale-13/
LOCATION:Calvin Klein
CATEGORIES:Sales
END:VEVENT
BEGIN:VEVENT
DTSTART;VALUE=DATE:20190408
DTEND;VALUE=DATE:20190501
DTSTAMP:20260423T225139
CREATED:20190408T063631Z
LAST-MODIFIED:20190408T063631Z
UID:11176-1554681600-1556668799@gpoguam.com
SUMMARY:Skechers Energy Lights Sale
DESCRIPTION:60% off all Energy Lights shoes! \nSkechers has sizes & styles for the whole family. \nWhile supplies last.
URL:https://gpoguam.com/event/skechers-energy-lights-sale/
LOCATION:Skechers
CATEGORIES:Sales
END:VEVENT
BEGIN:VEVENT
DTSTART;VALUE=DATE:20190411
DTEND;VALUE=DATE:20190415
DTSTAMP:20260423T225139
CREATED:20190411T034607Z
LAST-MODIFIED:20190411T034607Z
UID:11183-1554940800-1555286399@gpoguam.com
SUMMARY:Forever 21: Take a selfie\, Get 21% OFF
DESCRIPTION:Take a selfie and get 21% off at Forever 21! \n\nPose in your Forever 21 outfit\nTag us @forever21 #F21XME #F21XPROMO\nShow your post at the register to receive 21% off!\n\nValid from April 11 – April 14!
URL:https://gpoguam.com/event/forever-21-take-a-selfie-get-21-off/
LOCATION:Forever 21
CATEGORIES:Sales
END:VEVENT
BEGIN:VEVENT
DTSTART;VALUE=DATE:20190411
DTEND;VALUE=DATE:20190415
DTSTAMP:20260423T225139
CREATED:20190411T035224Z
LAST-MODIFIED:20190411T035549Z
UID:11188-1554940800-1555286399@gpoguam.com
SUMMARY:NATURALIZER 25% Off Sale
DESCRIPTION:For the most comfortable shoes\, visit Naturalizer located next to GUESS inside Guam Premier Outlets. \n\nNATURALIZER  \n25% off entire purchase\nApril 11 – 14\nand April 18 – 22
URL:https://gpoguam.com/event/naturalizer-25-off-sale/
LOCATION:Naturalizer
CATEGORIES:Sales
END:VEVENT
BEGIN:VEVENT
DTSTART;VALUE=DATE:20190411
DTEND;VALUE=DATE:20190502
DTSTAMP:20260423T225139
CREATED:20190124T042125Z
LAST-MODIFIED:20190124T042125Z
UID:11066-1554940800-1556755199@gpoguam.com
SUMMARY:Tommy Hilfiger Annual Spring Sale
DESCRIPTION:Annual Spring Sale  \nUp to 50% off Entire Store* \nPlus\, present this offer in-store and receive \n20% off your purchase of $150 or more or 15% off your entire purchase** \nApril 11-May 1 \n*Original store price. Excludes socks\, underwear and other select items. Not valid in Tommy Hilfiger stores in California. All styles not available at all locations. May not be available on tommy.com. **THIS OFFER EXPIRES ON 5/1/19 and is redeemable for the discount amount stated on this Offer and must be presented in-person at Tommy Hilfiger stores in the United States\, Puerto Rico\, and Guam. It may be used only once whether or not fully redeemed and must be surrendered at purchase with any remaining value of the Offer forfeited. Not redeemable for store credit or cash. The Offer may not be combined with any other promotion and has no cash value. It is not valid for previously purchased merchandise\, gift cards\, or Internet transactions. Any discount (as shown on the receipt) applied to merchandise that is returned will be deducted from any refund amount. Customer must present this posting at time of purchase to receive the Offer. Reproductions of the Offer will not be accepted. PVH associates not eligible. Not valid in department stores\, Clearance stores\, South Beach – FL\, 5th Ave. – NY\, Tommy Hilfiger stores in Canada\, or on tommy.com.  Promo Code: 500020507000
URL:https://gpoguam.com/event/tommy-hilfiger-annual-spring-sale/
LOCATION:Tommy Hilfiger
CATEGORIES:Sales
END:VEVENT
BEGIN:VEVENT
DTSTART;TZID=Pacific/Guam:20190413T120000
DTEND;TZID=Pacific/Guam:20190413T150000
DTSTAMP:20260423T225139
CREATED:20190405T035505Z
LAST-MODIFIED:20190405T035714Z
UID:11168-1555156800-1555167600@gpoguam.com
SUMMARY:Guam Girl Scouts: Somebunny Cares About You Event
DESCRIPTION:Help the Guam Girl Scouts make get-well cards for those hospitalized during the springtime!\nJoin us for Face-painting\, Henna Tattoos & free Photobooth for the whole family. \nGirl Scout Cookies will be available for purchase! \nLocated by the Nike store (AB Sports) at Guam Premier Outlets on Saturday\, April 13 from 12pm – 3pm.
URL:https://gpoguam.com/event/guam-girl-scouts-somebunny-cares-about-you-event/
LOCATION:by Nike Store
CATEGORIES:Entertainment
END:VEVENT
BEGIN:VEVENT
DTSTART;VALUE=DATE:20190415
DTEND;VALUE=DATE:20190417
DTSTAMP:20260423T225139
CREATED:20190318T054125Z
LAST-MODIFIED:20190416T042134Z
UID:11153-1555286400-1555459199@gpoguam.com
SUMMARY:Vitamin World Relocation
DESCRIPTION:Vitamin World will be relocating to the space between AB Sports & ABC Store by the main entrance. \nStay updated through our social media as we plan a Grand Re-Opening in April!
URL:https://gpoguam.com/event/vitamin-world-relocation/
END:VEVENT
BEGIN:VEVENT
DTSTART;VALUE=DATE:20190415
DTEND;VALUE=DATE:20190425
DTSTAMP:20260423T225139
CREATED:20190414T224527Z
LAST-MODIFIED:20190414T224527Z
UID:11201-1555286400-1556150399@gpoguam.com
SUMMARY:Calvin Klein Sale
DESCRIPTION:Calvin Klein Outlet & Calvin Klein Accessory Store\nWeekly Promotion \n4.15.19 – 4.24.19\n*Some Exclusions Apply\n \n\nCalvin Klein Outlet Store \nDress To Impress Up to 50% off \n\nCalvin Klein Accessory Stores \nEntire store up to 50% off
URL:https://gpoguam.com/event/calvin-klein-sale-14/
LOCATION:Calvin Klein
CATEGORIES:Sales
END:VEVENT
BEGIN:VEVENT
DTSTART;VALUE=DATE:20190418
DTEND;VALUE=DATE:20190423
DTSTAMP:20260423T225139
CREATED:20190411T035734Z
LAST-MODIFIED:20190411T035734Z
UID:11196-1555545600-1555977599@gpoguam.com
SUMMARY:NATURALIZER 25% Off Sale
DESCRIPTION:For the most comfortable shoes\, visit Naturalizer located next to GUESS inside Guam Premier Outlets. \n\nNATURALIZER  \n25% off entire purchase\nApril 18 – 22
URL:https://gpoguam.com/event/naturalizer-25-off-sale-2/
LOCATION:Naturalizer
CATEGORIES:Sales
END:VEVENT
BEGIN:VEVENT
DTSTART;VALUE=DATE:20190421
DTEND;VALUE=DATE:20190601
DTSTAMP:20260423T225139
CREATED:20190424T002251Z
LAST-MODIFIED:20190424T002251Z
UID:11249-1555804800-1559347199@gpoguam.com
SUMMARY:Haagen-Dazs: Easter & Golden Tea Waffle Cone
DESCRIPTION:Get the limited edition EASTER and GOLDEN TEA WAFFLE CONE creation exclusively at Haagen Dazs!\nNow til May 31. \nIngredients: Waffle cone\, Macadamia Nut and Green Tea Ice Cream Scoops\, Mochi\, Azuki Beans\, Tim Tam\, & Whipped Cream.\nHaagen-Dazs is located next to GUESS.
URL:https://gpoguam.com/event/haagen-dazs-easter-golden-tea-waffle-cone/
LOCATION:Haagen-Dazs
CATEGORIES:Sales
END:VEVENT
BEGIN:VEVENT
DTSTART;VALUE=DATE:20190425
DTEND;VALUE=DATE:20190502
DTSTAMP:20260423T225139
CREATED:20190422T034355Z
LAST-MODIFIED:20190422T034355Z
UID:11214-1556150400-1556755199@gpoguam.com
SUMMARY:Calvin Klein Sale
DESCRIPTION:Calvin Klein Outlet & Calvin Klein Accessory Store \nWeekly Promotion\n4.25.2019 – 5.1.2019\n \nCalvin Klein Outlet Store \nFriends and Family Event\, Take An Extra 30% Off \nPlus\, Up to 50% Off Entire Store \n\nCalvin Klein Accessory Stores \nFriends and Family Event\, Take An Extra 30% Off \nPlus\, Up to 50% Off Entire Store \n> Exclusions Apply <
URL:https://gpoguam.com/event/calvin-klein-sale-15/
LOCATION:Calvin Klein
CATEGORIES:Sales
END:VEVENT
BEGIN:VEVENT
DTSTART;TZID=Pacific/Guam:20190427T130000
DTEND;TZID=Pacific/Guam:20190427T150000
DTSTAMP:20260423T225139
CREATED:20190416T044219Z
LAST-MODIFIED:20190416T044219Z
UID:11211-1556370000-1556377200@gpoguam.com
SUMMARY:Vitamin World Grand Re-Opening
DESCRIPTION:Vitamin World has relocated between ABC Store and AB Sports. \nCelebrate the Grand Re-Opening with pre-workout samples\, giveaways\, free photobooth\, live music and Zumba performances by Urban Fitness!
URL:https://gpoguam.com/event/vitamin-world-grand-re-opening/
LOCATION:by Nike Store
CATEGORIES:Entertainment
END:VEVENT
BEGIN:VEVENT
DTSTART;TZID=Pacific/Guam:20190427T140000
DTEND;TZID=Pacific/Guam:20190427T150000
DTSTAMP:20260423T225139
CREATED:20190422T053250Z
LAST-MODIFIED:20190422T053250Z
UID:11241-1556373600-1556377200@gpoguam.com
SUMMARY:Cultural Dance Show: Guma' Irensian Taotao Tano'
DESCRIPTION:Discover and experience an authentic Chamorro Cultural Experience with Guma’ Irensian Taotao Tano’\n& Master of Chamorro Dance – Eileen Meno. \nEvery Saturday at 2PM in the GPO Food Court!
URL:https://gpoguam.com/event/cultural-dance-show-guma-irensian-taotao-tano/
LOCATION:GPO Food Court
CATEGORIES:Entertainment
END:VEVENT
END:VCALENDAR