BEGIN:VCALENDAR
VERSION:2.0
PRODID:-//GPO Guam - ECPv6.0.12//NONSGML v1.0//EN
CALSCALE:GREGORIAN
METHOD:PUBLISH
X-WR-CALNAME:GPO Guam
X-ORIGINAL-URL:https://gpoguam.com
X-WR-CALDESC:Events for GPO Guam
REFRESH-INTERVAL;VALUE=DURATION:PT1H
X-Robots-Tag:noindex
X-PUBLISHED-TTL:PT1H
BEGIN:VTIMEZONE
TZID:Pacific/Guam
BEGIN:STANDARD
TZOFFSETFROM:+1000
TZOFFSETTO:+1000
TZNAME:ChST
DTSTART:20190101T000000
END:STANDARD
END:VTIMEZONE
BEGIN:VEVENT
DTSTART;VALUE=DATE:20190128
DTEND;VALUE=DATE:20190215
DTSTAMP:20260424T022504
CREATED:20181101T014239Z
LAST-MODIFIED:20181101T014239Z
UID:10877-1548633600-1550188799@gpoguam.com
SUMMARY:Tommy Hilfiger Valentine's Day Sale
DESCRIPTION:Valentine’s Day Sale \nPresent this offer in-store and receive \n15% off your purchase of $150+ or 10% off your entire purchase* \nJanuary 28 – February 14 \nAll styles not available at all locations. May not be available on tommy.com. *THIS OFFER EXPIRES ON 2/14/19 and is redeemable for an amount up to the discount stated on this Offer and must be presented in-person at Tommy Hilfiger stores in the United States\, Puerto Rico\, and Guam. It may be used only once whether or not fully redeemed and must be surrendered at purchase with any remaining value of the Offer forfeited. Not redeemable for store credit or cash. The Offer may not be combined with any other promotion and has no cash value. It is not valid for previously purchased merchandise\, gift cards\, or Internet transactions. Any discount (as shown on the receipt) applied to merchandise that is returned will be deducted from any refund amount. Customer must present card at time of purchase to receive the Offer. Reproductions of the Offer will not be accepted. PVH associates not eligible. Not valid in department stores\, Clearance stores\, South Beach – FL\, 5th Ave. – NY\, Tommy Hilfiger stores in Canada\, or on tommy.com. Promo Code: 500019927000
URL:https://gpoguam.com/event/tommy-hilfiger-valentines-day-sale/
LOCATION:Tommy Hilfiger
CATEGORIES:Sales
END:VEVENT
BEGIN:VEVENT
DTSTART;VALUE=DATE:20190128
DTEND;VALUE=DATE:20190215
DTSTAMP:20260424T022504
CREATED:20190121T011823Z
LAST-MODIFIED:20190121T011823Z
UID:11025-1548633600-1550188799@gpoguam.com
SUMMARY:Be Our Valentine
DESCRIPTION:Follow us on Facebook @GPOGuam for details on our 2019 Valentine’s Giveaway!
URL:https://gpoguam.com/event/be-our-valentine/
LOCATION:GPO Shopping Center
CATEGORIES:Entertainment
END:VEVENT
BEGIN:VEVENT
DTSTART;TZID=Pacific/Guam:20190201T170000
DTEND;TZID=Pacific/Guam:20190203T200000
DTSTAMP:20260424T022504
CREATED:20190121T005535Z
LAST-MODIFIED:20190121T005535Z
UID:11017-1549040400-1549224000@gpoguam.com
SUMMARY:Guam Girl Scouts Cookie Booth
DESCRIPTION:Guam Girl Scouts will be selling cookies to fund their community service activities & ceremonies.\nTheir booth is located next to IT&E. \nSchedule is as follows:\nFriday\, January 25\, February 1 and 8: 5pm – 8pm\nSaturday\, January 26\, February 2 and 9: 10am – 8pm\nSunday\, January 27\, February 3 and 10: 10am – 8pm
URL:https://gpoguam.com/event/guam-girl-scouts-cookie-booth-2/
LOCATION:by IT&E
CATEGORIES:Sales
END:VEVENT
BEGIN:VEVENT
DTSTART;TZID=Pacific/Guam:20190202T140000
DTEND;TZID=Pacific/Guam:20190202T150000
DTSTAMP:20260424T022504
CREATED:20190121T012616Z
LAST-MODIFIED:20190121T012616Z
UID:11023-1549116000-1549119600@gpoguam.com
SUMMARY:Para I Probechu'n I Taotao-Ta Cultural Performance
DESCRIPTION:Discover and experience an authentic Chamorro Cultural Experience. \nEvery Saturday at 2PM in the GPO Food Court.
URL:https://gpoguam.com/event/para-i-probechun-i-taotao-ta-cultural-performance/
LOCATION:GPO Food Court
CATEGORIES:Entertainment
END:VEVENT
BEGIN:VEVENT
DTSTART;VALUE=DATE:20190207
DTEND;VALUE=DATE:20190214
DTSTAMP:20260424T022504
CREATED:20190124T041040Z
LAST-MODIFIED:20190124T221951Z
UID:11056-1549497600-1550102399@gpoguam.com
SUMMARY:Tommy Hilfiger Denim
DESCRIPTION:Denim \nPresent this offer in-store and receive \n15% off your purchase of $150 or more or 10% off your entire purchase* \nFebruary 7-13 \nAll styles not available at all locations. May not be available on tommy.com. *THIS OFFER EXPIRES ON 2/13/19 and is redeemable for the discount amount stated on this Offer and must be presented in-person at Tommy Hilfiger stores in the United States\, Puerto Rico\, and Guam. It may be used only once whether or not fully redeemed and must be surrendered at purchase with any remaining value of the Offer forfeited. Not redeemable for store credit or cash. The Offer may not be combined with any other promotion and has no cash value. It is not valid for previously purchased merchandise\, gift cards\, or Internet transactions. Any discount (as shown on the receipt) applied to merchandise that is returned will be deducted from any refund amount. Customer must present this posting at time of purchase to receive the Offer. Reproductions of the Offer will not be accepted. PVH associates not eligible. Not valid in department stores\, Clearance stores\, South Beach – FL\, 5th Ave. – NY\, Tommy Hilfiger stores in Canada\, or on tommy.com.  Promo Code: 500020495000
URL:https://gpoguam.com/event/tommy-hilfiger-denim/
LOCATION:Tommy Hilfiger
CATEGORIES:Sales
END:VEVENT
BEGIN:VEVENT
DTSTART;VALUE=DATE:20190208
DTEND;VALUE=DATE:20190215
DTSTAMP:20260424T022504
CREATED:20190207T011102Z
LAST-MODIFIED:20190207T011102Z
UID:11088-1549584000-1550188799@gpoguam.com
SUMMARY:Calvin Klein Sale
DESCRIPTION:Calvin Klein Outlet & Accessory Stores\nWeek of 2/8/19 – 2/14/19 \nCalvin Klein Outlet\nMen’s + women’s underwear up to 40% off \nCalvin Klein Accessory Store\nClearance up to 70% off \n*Exclusions Apply
URL:https://gpoguam.com/event/calvin-klein-sale-8/
LOCATION:Calvin Klein
CATEGORIES:Sales
END:VEVENT
BEGIN:VEVENT
DTSTART;TZID=Pacific/Guam:20190208T130000
DTEND;TZID=Pacific/Guam:20190208T170000
DTSTAMP:20260424T022505
CREATED:20190121T014956Z
LAST-MODIFIED:20190121T014956Z
UID:11047-1549630800-1549645200@gpoguam.com
SUMMARY:AmeriCorps Recruitment Drive
DESCRIPTION:AmeriCorps Recruitment Drive will take place from 1:00pm – 5:00pm by Ross.
URL:https://gpoguam.com/event/americorps-recruitment-drive/
LOCATION:by Ross
END:VEVENT
BEGIN:VEVENT
DTSTART;TZID=Pacific/Guam:20190208T170000
DTEND;TZID=Pacific/Guam:20190210T200000
DTSTAMP:20260424T022505
CREATED:20190121T005719Z
LAST-MODIFIED:20190121T005719Z
UID:11019-1549645200-1549828800@gpoguam.com
SUMMARY:Guam Girl Scouts Cookie Booth
DESCRIPTION:Guam Girl Scouts will be selling cookies to fund their community service activities & ceremonies.\nTheir booth is located next to IT&E. \nSchedule is as follows:\nFriday\, January 25\, February 1 and 8: 5pm – 8pm\nSaturday\, January 26\, February 2 and 9: 10am – 8pm\nSunday\, January 27\, February 3 and 10: 10am – 8pm
URL:https://gpoguam.com/event/guam-girl-scouts-cookie-booth-3/
LOCATION:by IT&E
CATEGORIES:Sales
END:VEVENT
BEGIN:VEVENT
DTSTART;VALUE=DATE:20190214
DTEND;VALUE=DATE:20190228
DTSTAMP:20260424T022505
CREATED:20190124T041247Z
LAST-MODIFIED:20190124T222137Z
UID:11058-1550102400-1551311999@gpoguam.com
SUMMARY:Tommy Hilfiger President's Day Sale
DESCRIPTION:Presidents’ Day Sale \nUp to 50% off Entire Store*  \nPlus\, present this offer in-store and receive \n20% off your purchase of $150 or more or 15% off your entire purchase** \nFebruary 14-27 \n*Original store price. Excludes socks\, underwear and other select items. Not valid in Tommy Hilfiger stores in California. All styles not available at all locations. May not be available on tommy.com. **THIS OFFER EXPIRES ON 2/27/19 and is redeemable for the discount amount stated on this Offer and must be presented in-person at Tommy Hilfiger stores in the United States\, Puerto Rico\, and Guam. It may be used only once whether or not fully redeemed and must be surrendered at purchase with any remaining value of the Offer forfeited. Not redeemable for store credit or cash. The Offer may not be combined with any other promotion and has no cash value. It is not valid for previously purchased merchandise\, gift cards\, or Internet transactions. Any discount (as shown on the receipt) applied to merchandise that is returned will be deducted from any refund amount. Customer must present this posting at time of purchase to receive the Offer. Reproductions of the Offer will not be accepted. PVH associates not eligible. Not valid in department stores\, Clearance stores\, South Beach – FL\, 5th Ave. – NY\, Tommy Hilfiger stores in Canada\, or on tommy.com.  Promo Code: 500020498000
URL:https://gpoguam.com/event/tommy-hilfiger-presidents-day-sale/
LOCATION:Tommy Hilfiger
CATEGORIES:Sales
END:VEVENT
BEGIN:VEVENT
DTSTART;VALUE=DATE:20190215
DTEND;VALUE=DATE:20190219
DTSTAMP:20260424T022505
CREATED:20190213T233208Z
LAST-MODIFIED:20190213T233208Z
UID:11091-1550188800-1550534399@gpoguam.com
SUMMARY:Calvin Klein Sale
DESCRIPTION:Calvin Klein Outlet & Calvin Klein Accessories \nWeek of 2.15.19 – 2.18.19 \n  \nCalvin Klein Outlet \nNew arrivals 40% off \n\nCalvin Klein Accessory Store \nup to 60% Off \n*Exclusions Apply
URL:https://gpoguam.com/event/calvin-klein-sale-9/
LOCATION:Calvin Klein
CATEGORIES:Sales
END:VEVENT
BEGIN:VEVENT
DTSTART;VALUE=DATE:20190221
DTEND;VALUE=DATE:20190304
DTSTAMP:20260424T022505
CREATED:20190220T061337Z
LAST-MODIFIED:20190220T061337Z
UID:11098-1550707200-1551657599@gpoguam.com
SUMMARY:Famous Footwear Special Offer
DESCRIPTION:We’ve got that spring feeling already. Start saving on your wardrobe refresh with 15% off your entire purchase with this barcode!
URL:https://gpoguam.com/event/famous-footwear-special-offer/
LOCATION:Famous Footwear
CATEGORIES:Sales
END:VEVENT
BEGIN:VEVENT
DTSTART;VALUE=DATE:20190222
DTEND;VALUE=DATE:20190228
DTSTAMP:20260424T022505
CREATED:20190220T230421Z
LAST-MODIFIED:20190222T004921Z
UID:11111-1550793600-1551311999@gpoguam.com
SUMMARY:Calvin Klein Sale
DESCRIPTION:  \n \nCalvin Klein Outlet & Calvin Klein Accessory Stores\nWeek of 2.22.19 – 2.27.19 \n  \nCalvin Klein Outlet \nSpring Forward. New Arrivals up to 50% off \nCalvin Klein Accessory Store \nSpring Forward. New Arrivals up to 50% off \n*Exclusions Apply
URL:https://gpoguam.com/event/11111/
LOCATION:Calvin Klein
CATEGORIES:Sales
END:VEVENT
BEGIN:VEVENT
DTSTART;VALUE=DATE:20190228
DTEND;VALUE=DATE:20190304
DTSTAMP:20260424T022505
CREATED:20190227T235142Z
LAST-MODIFIED:20190227T235142Z
UID:11124-1551312000-1551657599@gpoguam.com
SUMMARY:Calvin Klein Sale
DESCRIPTION:Calvin Klein Outlet & Calvin Klein Accessory Store \n\nWeek of 2.28.19 – 3.3.19\n*Exclusions Apply\n \nCalvin Klein Outlet \nStep Into Spring. All Apparel 50% off \n\nCalvin Klein Accessory Store \nStep Into Spring. New Arrivals 50% off
URL:https://gpoguam.com/event/calvin-klein-sale-10/
LOCATION:Calvin Klein
CATEGORIES:Sales
END:VEVENT
BEGIN:VEVENT
DTSTART;VALUE=DATE:20190228
DTEND;VALUE=DATE:20190321
DTSTAMP:20260424T022505
CREATED:20190124T041423Z
LAST-MODIFIED:20190124T041423Z
UID:11060-1551312000-1553126399@gpoguam.com
SUMMARY:Tommy Hilfiger Hit Refresh
DESCRIPTION:Hit Refresh \n30-50% off* \nPlus\, present this offer in-store and receive  \n20% off your purchase of $150 or more or 15% off your entire purchase** \nFebruary 28- March 20 \n*Original store price. Valid on select items.  Not valid in Tommy Hilfiger stores in California. All styles not available at all locations. May not be available on tommy.com. **THIS OFFER EXPIRES ON 3/20/19 and is redeemable for the discount amount stated on this Offer and must be presented in-person at Tommy Hilfiger stores in the United States\, Puerto Rico\, and Guam. It may be used only once whether or not fully redeemed and must be surrendered at purchase with any remaining value of the Offer forfeited. Not redeemable for store credit or cash. The Offer may not be combined with any other promotion and has no cash value. It is not valid for previously purchased merchandise\, gift cards\, or Internet transactions. Any discount (as shown on the receipt) applied to merchandise that is returned will be deducted from any refund amount. Customer must present this posting at time of purchase to receive the Offer. Reproductions of the Offer will not be accepted. PVH associates not eligible. Not valid in department stores\, Clearance stores\, South Beach – FL\, 5th Ave. – NY\, Tommy Hilfiger stores in Canada\, or on tommy.com.  Promo Code: 500020500000
URL:https://gpoguam.com/event/tommy-hilfiger-hit-refresh/
CATEGORIES:Sales
END:VEVENT
BEGIN:VEVENT
DTSTART;VALUE=DATE:20190228
DTEND;VALUE=DATE:20190404
DTSTAMP:20260424T022505
CREATED:20190227T225254Z
LAST-MODIFIED:20190227T225254Z
UID:11121-1551312000-1554335999@gpoguam.com
SUMMARY:Famous Footwear Sale
DESCRIPTION:Sweet Sneaks Starting at $39.99 \nOffer ends April 3\, 2019.
URL:https://gpoguam.com/event/famous-footwear-sale-2/
LOCATION:Famous Footwear
CATEGORIES:Sales
END:VEVENT
END:VCALENDAR