BEGIN:VCALENDAR
VERSION:2.0
PRODID:-//GPO Guam - ECPv6.0.12//NONSGML v1.0//EN
CALSCALE:GREGORIAN
METHOD:PUBLISH
X-WR-CALNAME:GPO Guam
X-ORIGINAL-URL:https://gpoguam.com
X-WR-CALDESC:Events for GPO Guam
REFRESH-INTERVAL;VALUE=DURATION:PT1H
X-Robots-Tag:noindex
X-PUBLISHED-TTL:PT1H
BEGIN:VTIMEZONE
TZID:Pacific/Guam
BEGIN:STANDARD
TZOFFSETFROM:+1000
TZOFFSETTO:+1000
TZNAME:ChST
DTSTART:20180101T000000
END:STANDARD
END:VTIMEZONE
BEGIN:VEVENT
DTSTART;VALUE=DATE:20181123
DTEND;VALUE=DATE:20181216
DTSTAMP:20260424T051404
CREATED:20181031T050629Z
LAST-MODIFIED:20181127T050324Z
UID:10840-1542931200-1544918399@gpoguam.com
SUMMARY:Dear Santa Contest
DESCRIPTION:GPO invites kids from Kindergarten – 5th grade to write Dear Santa letters and be given a chance to win gifts from Twinkles! \nKids are welcome to stop by the Information Booth to pick up letter cards & drop their letters into Santa’s mailbox beginning Friday\, Nov. 23rd – Saturday\, Dec. 15th.
URL:https://gpoguam.com/event/dear-santa-contest/
LOCATION:GPO Shopping Center
END:VEVENT
BEGIN:VEVENT
DTSTART;VALUE=DATE:20181126
DTEND;VALUE=DATE:20181210
DTSTAMP:20260424T051404
CREATED:20181101T013137Z
LAST-MODIFIED:20181101T013137Z
UID:10860-1543190400-1544399999@gpoguam.com
SUMMARY:Tommy Hilfiger Holiday Countdown Sale
DESCRIPTION:Holiday Countdown \nUp to 50% off Entire Store* \nPresent this offer in-store and receive \n20% off your purchase of $150 or more or 15% off your entire purchase** \nNovember 26 – December 9 \n*Original store price. Valid on select items. All styles not available at all locations. May not be available on tommy.com. **THIS OFFER EXPIRES ON 12/9/18 and is redeemable for an amount up to the discount stated on this Offer and must be presented in-person at Tommy Hilfiger stores in the United States\, Puerto Rico\, and Guam. It may be used only once whether or not fully redeemed and must be surrendered at purchase with any remaining value of the Offer forfeited. Not redeemable for store credit or cash. The Offer may not be combined with any other promotion and has no cash value. It is not valid for previously purchased merchandise\, gift cards\, or Internet transactions. Any discount (as shown on the receipt) applied to merchandise that is returned will be deducted from any refund amount. Customer must present card at time of purchase to receive the Offer. Reproductions of the Offer will not be accepted. PVH associates not eligible. Not valid in department stores\, Clearance stores\, South Beach – FL\, 5th Ave. – NY\, Tommy Hilfiger stores in Canada\, or on tommy.com. Promo Code: 500019922000
URL:https://gpoguam.com/event/tommy-hilfiger-holiday-countdown-sale/
LOCATION:Tommy Hilfiger
CATEGORIES:Sales
END:VEVENT
BEGIN:VEVENT
DTSTART;VALUE=DATE:20181129
DTEND;VALUE=DATE:20181206
DTSTAMP:20260424T051404
CREATED:20181203T004330Z
LAST-MODIFIED:20181203T004330Z
UID:10916-1543449600-1544054399@gpoguam.com
SUMMARY:Calvin Klein Sale
DESCRIPTION:Calvin Klein Outlet & Calvin Klein Accessory Stores \n11.29.18 – 12.5.18 \nCalvin Klein Outlet \nEntire store up to 70% off \nCalvin Klein Accessory Stores \nEntire Store up to 60% off \n*Exclusions Apply
URL:https://gpoguam.com/event/calvin-klein-sale-3/
LOCATION:Calvin Klein
CATEGORIES:Sales
END:VEVENT
BEGIN:VEVENT
DTSTART;TZID=Pacific/Guam:20181201T100000
DTEND;TZID=Pacific/Guam:20181201T140000
DTSTAMP:20260424T051404
CREATED:20181127T045506Z
LAST-MODIFIED:20181127T045506Z
UID:10907-1543658400-1543672800@gpoguam.com
SUMMARY:Junior Achievement Trade Fair
DESCRIPTION:Junior Achievement student companies will be showcasing their products to sell from 10am – 2pm by the Nike Store.
URL:https://gpoguam.com/event/junior-achievement-trade-fair/
LOCATION:by Nike Store
CATEGORIES:Entertainment
END:VEVENT
BEGIN:VEVENT
DTSTART;VALUE=DATE:20181206
DTEND;VALUE=DATE:20181211
DTSTAMP:20260424T051404
CREATED:20181206T070347Z
LAST-MODIFIED:20181206T070347Z
UID:10924-1544054400-1544486399@gpoguam.com
SUMMARY:Famous Footwear Friends & Family Event
DESCRIPTION:Holiday savings start here!  \nTake 25% off your entire in-store purchase during our Friends & Family Event with this barcode through 12/10.
URL:https://gpoguam.com/event/famous-footwear-friends-family-event/
LOCATION:Famous Footwear
CATEGORIES:Sales
END:VEVENT
BEGIN:VEVENT
DTSTART;VALUE=DATE:20181207
DTEND;VALUE=DATE:20181217
DTSTAMP:20260424T051404
CREATED:20181101T013813Z
LAST-MODIFIED:20181101T013813Z
UID:10869-1544140800-1545004799@gpoguam.com
SUMMARY:Tommy Hilfiger 10 Days Of Giving
DESCRIPTION:10 Days of Giving \nUp to 60% off Entire Store* \nPlus\, present this offer in-store and receive \n20% off your purchase of $150+ or 15% off your entire purchase every time you shop** \nDecember 7 – December 16 \n*Original store price. Valid on select items. All styles not available at all locations. May not be available on tommy.com. **THIS OFFER EXPIRES ON 12/16/18 and is redeemable for an amount up to the discount stated on this Offer and must be presented in-person at Tommy Hilfiger stores in the United States\, Puerto Rico\, and Guam. It may be used only once whether or not fully redeemed and must be surrendered at purchase with any remaining value of the Offer forfeited. Not redeemable for store credit or cash. The Offer may not be combined with any other promotion and has no cash value. It is not valid for previously purchased merchandise\, gift cards\, or Internet transactions. Any discount (as shown on the receipt) applied to merchandise that is returned will be deducted from any refund amount. Customer must present card at time of purchase to receive the Offer. Reproductions of the Offer will not be accepted. PVH associates not eligible. Not valid in department stores\, Clearance stores\, South Beach – FL\, 5th Ave. – NY\, Tommy Hilfiger stores in Canada\, or on tommy.com. Promo Code: 500019923000
URL:https://gpoguam.com/event/tommy-hilfiger-10-days-of-giving/
LOCATION:Tommy Hilfiger
CATEGORIES:Sales
END:VEVENT
BEGIN:VEVENT
DTSTART;VALUE=DATE:20181212
DTEND;VALUE=DATE:20181224
DTSTAMP:20260424T051404
CREATED:20181031T050729Z
LAST-MODIFIED:20181031T050729Z
UID:10842-1544572800-1545609599@gpoguam.com
SUMMARY:12 Deals of Christmas
DESCRIPTION:Look out for a new deal each day from Wednesday\, December 12th  – Sunday\, December 23rd . \nFollow our social media pages for details @GPOGuam.
URL:https://gpoguam.com/event/12-deals-of-christmas/
LOCATION:GPO Shopping Center
END:VEVENT
BEGIN:VEVENT
DTSTART;VALUE=DATE:20181213
DTEND;VALUE=DATE:20181219
DTSTAMP:20260424T051404
CREATED:20181213T032739Z
LAST-MODIFIED:20181213T032739Z
UID:10995-1544659200-1545177599@gpoguam.com
SUMMARY:Calvin Klein Sale
DESCRIPTION:Calvin Klein Outlet & Calvin Klein Accessory Stores\n12.13.18 – 12.18.18 \nCalvin Klein Outlet \nEntire store up to 70% off \n*Some Exclusions Apply \nCalvin Klein Accessory Stores \n12.13.18 – 12.18.18 \nEntire Store up to 60% off \n*Exclusions Apply
URL:https://gpoguam.com/event/calvin-klein-sale-4/
LOCATION:Calvin Klein
CATEGORIES:Sales
END:VEVENT
BEGIN:VEVENT
DTSTART;VALUE=DATE:20181213
DTEND;VALUE=DATE:20181225
DTSTAMP:20260424T051404
CREATED:20181101T013925Z
LAST-MODIFIED:20181101T014922Z
UID:10871-1544659200-1545695999@gpoguam.com
SUMMARY:Tommy Hilfiger Last Chance Sale
DESCRIPTION:Last Chance Sale \nEntire Store on Sale Up to 60% off* \nPlus\, present this offer in-store and receive \n20% off your purchase of $150+ or 15% off your entire purchase** \nDecember 13 – December 24 \n*Original store price. Valid on select items. All styles not available at all locations. May not be available on tommy.com. **THIS OFFER EXPIRES ON 12/24/18 and is redeemable for an amount up to the discount stated on this Offer and must be presented in-person at Tommy Hilfiger stores in the United States\, Puerto Rico\, and Guam. It may be used only once whether or not fully redeemed and must be surrendered at purchase with any remaining value of the Offer forfeited. Not redeemable for store credit or cash. The Offer may not be combined with any other promotion and has no cash value. It is not valid for previously purchased merchandise\, gift cards\, or Internet transactions. Any discount (as shown on the receipt) applied to merchandise that is returned will be deducted from any refund amount. Customer must present card at time of purchase to receive the Offer. Reproductions of the Offer will not be accepted. PVH associates not eligible. Not valid in department stores\, Clearance stores\, South Beach – FL\, 5th Ave. – NY\, Tommy Hilfiger stores in Canada\, or on tommy.com. Promo Code: 500019924000
URL:https://gpoguam.com/event/tommy-hilfiger-last-chance-sale/
LOCATION:Tommy Hilfiger
CATEGORIES:Sales
END:VEVENT
BEGIN:VEVENT
DTSTART;VALUE=DATE:20181219
DTEND;VALUE=DATE:20181227
DTSTAMP:20260424T051404
CREATED:20181220T012800Z
LAST-MODIFIED:20181220T012800Z
UID:10998-1545177600-1545868799@gpoguam.com
SUMMARY:Calvin Klein Sale
DESCRIPTION:Calvin Klein Outlet & Accessory Store\n12.19.18 – 12.26.18 \nCalvin Klein Outlet \n12.19.18 – 12.26.18 \nEntire store up to 70% off \n*Some Exclusions Apply \nCalvin Klein Accessory Store \n12.19.18 – 12.26.18 \nEntire Store up to 60% off \n*Exclusions Apply
URL:https://gpoguam.com/event/calvin-klein-sale-5/
LOCATION:Calvin Klein
CATEGORIES:Sales
END:VEVENT
BEGIN:VEVENT
DTSTART;VALUE=DATE:20181226
DTEND;VALUE=DATE:20190110
DTSTAMP:20260424T051404
CREATED:20181101T014027Z
LAST-MODIFIED:20181101T014027Z
UID:10873-1545782400-1547078399@gpoguam.com
SUMMARY:Tommy Hilfiger End of Season Sale
DESCRIPTION:End of Season Sale \nUp to 70% Entire Store* \nPlus\, present this offer in-store and receive \n20% off your purchase of $150+ or 15% off your entire purchase** \nDecember 26 – January 9 \n*Original store price. Valid on select items. All styles not available at all locations. May not be available on tommy.com. **THIS OFFER EXPIRES ON 1/9/19 and is redeemable for an amount up to the discount stated on this Offer and must be presented in-person at Tommy Hilfiger stores in the United States\, Puerto Rico\, and Guam. It may be used only once whether or not fully redeemed and must be surrendered at purchase with any remaining value of the Offer forfeited. Not redeemable for store credit or cash. The Offer may not be combined with any other promotion and has no cash value. It is not valid for previously purchased merchandise\, gift cards\, or Internet transactions. Any discount (as shown on the receipt) applied to merchandise that is returned will be deducted from any refund amount. Customer must present card at time of purchase to receive the Offer. Reproductions of the Offer will not be accepted. PVH associates not eligible Not valid in department stores\, Clearance stores\, South Beach – FL\, 5th Ave. – NY\, Tommy Hilfiger stores in Canada\, or on tommy.com. Promo Code: 500019925000
URL:https://gpoguam.com/event/tommy-hilfiger-end-of-season-sale/
LOCATION:Tommy Hilfiger
CATEGORIES:Sales
END:VEVENT
END:VCALENDAR