BEGIN:VCALENDAR
VERSION:2.0
PRODID:-//GPO Guam - ECPv6.0.12//NONSGML v1.0//EN
CALSCALE:GREGORIAN
METHOD:PUBLISH
X-WR-CALNAME:GPO Guam
X-ORIGINAL-URL:https://gpoguam.com
X-WR-CALDESC:Events for GPO Guam
REFRESH-INTERVAL;VALUE=DURATION:PT1H
X-Robots-Tag:noindex
X-PUBLISHED-TTL:PT1H
BEGIN:VTIMEZONE
TZID:Australia/Melbourne
BEGIN:STANDARD
TZOFFSETFROM:+1100
TZOFFSETTO:+1000
TZNAME:AEST
DTSTART:20180331T160000
END:STANDARD
BEGIN:DAYLIGHT
TZOFFSETFROM:+1000
TZOFFSETTO:+1100
TZNAME:AEDT
DTSTART:20181006T160000
END:DAYLIGHT
TZID:Pacific/Guam
BEGIN:STANDARD
TZOFFSETFROM:+1000
TZOFFSETTO:+1000
TZNAME:ChST
DTSTART:20180101T000000
END:STANDARD
END:VTIMEZONE
BEGIN:VEVENT
DTSTART;VALUE=DATE:20180924
DTEND;VALUE=DATE:20181004
DTSTAMP:20260420T051441
CREATED:20180822T233117Z
LAST-MODIFIED:20180822T235351Z
UID:10547-1537747200-1538611199@gpoguam.com
SUMMARY:Tommy Hilfiger Monday to Friday Sale
DESCRIPTION:Monday to Friday Style \nPresent this offer in-store and receive \n20% off your purchase of $150 or more or 15% off your entire purchase* \nSeptember 24-October 3                \nAll styles not available at all locations. May not be available on tommy.com. *THIS OFFER EXPIRES ON 10/3/18 and is redeemable for an amount up to the discount stated on this Offer and must be presented in-person at Tommy Hilfiger stores in the United States\, Puerto Rico\, and Guam. It may be used only once whether or not fully redeemed and must be surrendered at purchase with any remaining value of the Offer forfeited. Not redeemable for store credit or cash. The Offer may not be combined with any other promotion and has no cash value. It is not valid for previously purchased merchandise\, gift cards\, or Internet transactions. Any discount (as shown on the receipt) applied to merchandise that is returned will be deducted from any refund amount. Customer must present card at time of purchase to receive the Offer. Reproductions of the Offer will not be accepted. PVH associates not eligible. Not valid in department stores\, Clearance stores\, South Beach – FL\, 5th Ave. – NY\, Tommy Hilfiger stores in Canada\, or on tommy.com. Promo Code: 500018877000
URL:https://gpoguam.com/event/tommy-hilfiger-monday-to-friday-sale/
END:VEVENT
BEGIN:VEVENT
DTSTART;VALUE=DATE:20181004
DTEND;VALUE=DATE:20181011
DTSTAMP:20260420T051441
CREATED:20180822T234756Z
LAST-MODIFIED:20180822T234756Z
UID:10555-1538611200-1539215999@gpoguam.com
SUMMARY:Tommy Hilfiger Fall Sets Sale
DESCRIPTION:Fall Sets Sale \n30-50% off select styles* \nPresent this offer in-store and receive \n20% off your purchase of $150+ or 15% off your entire purchase** \nOctober 4-10 \n*Original store price. Valid on select items. All styles not available at all locations. May not be available on tommy.com. **THIS OFFER EXPIRES ON 10/10/18 and is redeemable for an amount up to the discount stated on this Offer and must be presented in-person at Tommy Hilfiger stores in the United States\, Puerto Rico\, and Guam. It may be used only once whether or not fully redeemed and must be surrendered at purchase with any remaining value of the Offer forfeited. Not redeemable for store credit or cash. The Offer may not be combined with any other promotion and has no cash value. It is not valid for previously purchased merchandise\, gift cards\, or Internet transactions. Any discount (as shown on the receipt) applied to merchandise that is returned will be deducted from any refund amount. Customer must present card at time of purchase to receive the Offer. Reproductions of the Offer will not be accepted. PVH associates not eligible. Not valid in department stores\, Clearance stores\, South Beach – FL\, 5th Ave. – NY\, Tommy Hilfiger stores in Canada\, or on tommy.com. Promo Code: 500018879000
URL:https://gpoguam.com/event/tommy-hilfiger-fall-sets-sale/
LOCATION:Tommy Hilfiger
END:VEVENT
BEGIN:VEVENT
DTSTART;TZID=Pacific/Guam:20181006T140000
DTEND;TZID=Pacific/Guam:20181006T140000
DTSTAMP:20260420T051441
CREATED:20180905T235107Z
LAST-MODIFIED:20180905T235107Z
UID:10691-1538834400-1538834400@gpoguam.com
SUMMARY:Pa'a Taotao Tano' Cultural Performance - 2PM
DESCRIPTION:Discover and experience an authentic Chamorro Cultural Experience. \nEvery Saturday at 2PM in the GPO Food Court.
URL:https://gpoguam.com/event/paa-taotao-tano-cultural-performance-2pm-5/
LOCATION:GPO Food Court
CATEGORIES:Entertainment
END:VEVENT
BEGIN:VEVENT
DTSTART;VALUE=DATE:20181011
DTEND;VALUE=DATE:20181025
DTSTAMP:20260420T051441
CREATED:20180822T234927Z
LAST-MODIFIED:20180822T234927Z
UID:10557-1539216000-1540425599@gpoguam.com
SUMMARY:Tommy Hilfiger Sport. Life. Style. Sale
DESCRIPTION:Sport. Life. Style. \nPresent this offer in-store and receive \n20% off your purchase of $150 or more or 15% off your entire purchase* \nOctober 11-24 \nAll styles not available at all locations. May not be available on tommy.com. *THIS OFFER EXPIRES ON 10/24/18 and is redeemable for an amount up to the discount stated on this Offer and must be presented in-person at Tommy Hilfiger stores in the United States\, Puerto Rico\, and Guam. It may be used only once whether or not fully redeemed and must be surrendered at purchase with any remaining value of the Offer forfeited. Not redeemable for store credit or cash. The Offer may not be combined with any other promotion and has no cash value. It is not valid for previously purchased merchandise\, gift cards\, or Internet transactions. Any discount (as shown on the receipt) applied to merchandise that is returned will be deducted from any refund amount. Customer must present card at time of purchase to receive the Offer. Reproductions of the Offer will not be accepted. PVH associates not eligible. Not valid in department stores\, Clearance stores\, South Beach – FL\, 5th Ave. – NY\, Tommy Hilfiger stores in Canada\, or on tommy.com. Promo Code: 500018880000
URL:https://gpoguam.com/event/tommy-hilfiger-sport-life-style-sale/
LOCATION:Tommy Hilfiger
END:VEVENT
BEGIN:VEVENT
DTSTART;TZID=Pacific/Guam:20181013T140000
DTEND;TZID=Pacific/Guam:20181013T140000
DTSTAMP:20260420T051441
CREATED:20180905T235306Z
LAST-MODIFIED:20180905T235306Z
UID:10693-1539439200-1539439200@gpoguam.com
SUMMARY:Pa'a Taotao Tano' Cultural Performance - 2PM
DESCRIPTION:Discover and experience an authentic Chamorro Cultural Experience. \nEvery Saturday at 2PM in the GPO Food Court.
URL:https://gpoguam.com/event/paa-taotao-tano-cultural-performance-2pm-6/
LOCATION:GPO Food Court
CATEGORIES:Entertainment
END:VEVENT
BEGIN:VEVENT
DTSTART;TZID=Pacific/Guam:20181020T140000
DTEND;TZID=Pacific/Guam:20181020T140000
DTSTAMP:20260420T051441
CREATED:20180905T235452Z
LAST-MODIFIED:20180905T235452Z
UID:10695-1540044000-1540044000@gpoguam.com
SUMMARY:Pa'a Taotao Tano' Cultural Performance - 2PM
DESCRIPTION:Discover and experience an authentic Chamorro Cultural Experience. \nEvery Saturday at 2PM in the GPO Food Court.
URL:https://gpoguam.com/event/paa-taotao-tano-cultural-performance-2pm-7/
LOCATION:GPO Food Court
CATEGORIES:Entertainment
END:VEVENT
BEGIN:VEVENT
DTSTART;TZID=Pacific/Guam:20181027T140000
DTEND;TZID=Pacific/Guam:20181027T140000
DTSTAMP:20260420T051441
CREATED:20180905T235535Z
LAST-MODIFIED:20180905T235535Z
UID:10697-1540648800-1540648800@gpoguam.com
SUMMARY:Pa'a Taotao Tano' Cultural Performance - 2PM
DESCRIPTION:Discover and experience an authentic Chamorro Cultural Experience. \nEvery Saturday at 2PM in the GPO Food Court.
URL:https://gpoguam.com/event/paa-taotao-tano-cultural-performance-2pm-8/
LOCATION:GPO Food Court
CATEGORIES:Entertainment
END:VEVENT
BEGIN:VEVENT
DTSTART;TZID=Pacific/Guam:20181027T150000
DTEND;TZID=Pacific/Guam:20181027T150000
DTSTAMP:20260420T051441
CREATED:20181023T044232Z
LAST-MODIFIED:20181023T044232Z
UID:10806-1540652400-1540652400@gpoguam.com
SUMMARY:Howl-loween Pet Costume Contest
DESCRIPTION:Get your fur babies ready! The annual Howl-loween Pet Costume Contest is set for Saturday\, Oct. 27th at 3pm by the Nike store. \nRegister your pets in advance at Feathers n Fins.
URL:https://gpoguam.com/event/howl-loween-pet-costume-contest/
END:VEVENT
BEGIN:VEVENT
DTSTART;VALUE=DATE:20181030
DTEND;VALUE=DATE:20181105
DTSTAMP:20260420T051441
CREATED:20181031T045925Z
LAST-MODIFIED:20181031T045925Z
UID:10824-1540857600-1541375999@gpoguam.com
SUMMARY:Famous Footwear Sale
DESCRIPTION:Just the deal you were looking for. Save 15% in-store with this barcode now through 11/4.
URL:https://gpoguam.com/event/famous-footwear-sale/
LOCATION:Famous Footwear
CATEGORIES:Sales
END:VEVENT
BEGIN:VEVENT
DTSTART;TZID=Pacific/Guam:20181031T180000
DTEND;TZID=Pacific/Guam:20181031T180000
DTSTAMP:20260420T051441
CREATED:20181023T044516Z
LAST-MODIFIED:20181023T044516Z
UID:10808-1541008800-1541008800@gpoguam.com
SUMMARY:Halloween Trick or Treating
DESCRIPTION:Visit any store or kiosk and Trick or Treat GPO-style starting at 6pm!
URL:https://gpoguam.com/event/halloween-trick-or-treating/
END:VEVENT
BEGIN:VEVENT
DTSTART;TZID=Pacific/Guam:20181031T190000
DTEND;TZID=Pacific/Guam:20181031T190000
DTSTAMP:20260420T051441
CREATED:20181031T050217Z
LAST-MODIFIED:20181031T050217Z
UID:10829-1541012400-1541012400@gpoguam.com
SUMMARY:Halloween Trunk or Treat
DESCRIPTION:3MC Car Club Guam will host their first annual Trunk or Treat outside at the GPO Theater Plaza starting at 7pm. \nAll ages are welcome!
URL:https://gpoguam.com/event/halloween-trunk-or-treat/
LOCATION:Theater Plaza
CATEGORIES:Entertainment
END:VEVENT
END:VCALENDAR