BEGIN:VCALENDAR
VERSION:2.0
PRODID:-//GPO Guam - ECPv6.0.12//NONSGML v1.0//EN
CALSCALE:GREGORIAN
METHOD:PUBLISH
X-ORIGINAL-URL:https://gpoguam.com
X-WR-CALDESC:Events for GPO Guam
REFRESH-INTERVAL;VALUE=DURATION:PT1H
X-Robots-Tag:noindex
X-PUBLISHED-TTL:PT1H
BEGIN:VTIMEZONE
TZID:UTC
BEGIN:STANDARD
TZOFFSETFROM:+0000
TZOFFSETTO:+0000
TZNAME:UTC
DTSTART:20180101T000000
END:STANDARD
TZID:Australia/Melbourne
BEGIN:STANDARD
TZOFFSETFROM:+1100
TZOFFSETTO:+1000
TZNAME:AEST
DTSTART:20180331T160000
END:STANDARD
BEGIN:DAYLIGHT
TZOFFSETFROM:+1000
TZOFFSETTO:+1100
TZNAME:AEDT
DTSTART:20181006T160000
END:DAYLIGHT
TZID:Pacific/Guam
BEGIN:STANDARD
TZOFFSETFROM:+1000
TZOFFSETTO:+1000
TZNAME:ChST
DTSTART:20180101T000000
END:STANDARD
END:VTIMEZONE
BEGIN:VEVENT
DTSTART;TZID=UTC:20180804T140000
DTEND;TZID=UTC:20180804T140000
DTSTAMP:20260424T132237
CREATED:20180815T193833Z
LAST-MODIFIED:20180821T004959Z
UID:10341-1533391200-1533391200@gpoguam.com
SUMMARY:Pa'a Taotao Tano' Cultural Performance - 2PM
DESCRIPTION:Discover and experience an authentic Chamorro Cultural Experience. \nEvery Saturday at 2PM in the GPO Food Court.
URL:https://gpoguam.com/event/paa-taotao-tano-cultural-performance/
LOCATION:GPO Food Court
CATEGORIES:Entertainment
END:VEVENT
BEGIN:VEVENT
DTSTART;VALUE=DATE:20180809
DTEND;VALUE=DATE:20180830
DTSTAMP:20260424T132237
CREATED:20180822T232405Z
LAST-MODIFIED:20180822T234344Z
UID:10536-1533772800-1535587199@gpoguam.com
SUMMARY:Tommy Hilfiger New Fall Arrival Sale & Denim Launch
DESCRIPTION:Tommy Hilfiger Denim Launch \nPresent this offer in-store and receive \n15% off your entire purchase when you buy a THD item** \nAugust 9-29 \nAll styles not available at all locations. May not be available on tommy.com \n**THIS OFFER EXPIRES ON 8/29/18 and is redeemable for an amount up to the discount stated on this Offer and must be presented in-person at Tommy Hilfiger stores in the United States\, Puerto Rico\, and Guam. It may be used only once whether or not fully redeemed and must be surrendered at purchase with any remaining value of the Offer forfeited. Not redeemable for store credit or cash. The Offer may not be combined with any other promotion and has no cash value. It is not valid for previously purchased merchandise\, gift cards\, or Internet transactions. Any discount (as shown on the receipt) applied to merchandise that is returned will be deducted from any refund amount. Customer must present card at time of purchase to receive the Offer. Reproductions of the Offer will not be accepted. PVH associates not eligible. Not valid in department stores\, Clearance stores\, South Beach – FL\, Garden State Plaza – NJ\, 5th Ave. – NY\, Tommy Hilfiger stores in Canada\, or on tommy.com. Promo Code: 500018873000 \n  \nNew Fall Arrivals \nUp to 50% off*  \nPlus\, present this offer in-store and receive \n25% off your purchase of $250+ or 20% off your purchase of $150+ or 15% off your entire purchase** \nAugust 9-29 \n*Original store price. Valid on select items. All styles not available at all locations. May not be available on tommy.com. **THIS OFFER EXPIRES ON 8/29/18 and is redeemable for an amount up to the discount stated on this Offer and must be presented in-person at Tommy Hilfiger stores in the United States\, Puerto Rico\, and Guam. It may be used only once whether or not fully redeemed and must be surrendered at purchase with any remaining value of the Offer forfeited. Not redeemable for store credit or cash. The Offer may not be combined with any other promotion and has no cash value. It is not valid for previously purchased merchandise\, gift cards\, or Internet transactions. Any discount (as shown on the receipt) applied to merchandise that is returned will be deducted from any refund amount. Customer must present card at time of purchase to receive the Offer. Reproductions of the Offer will not be accepted. PVH associates not eligible. Not valid in department stores\, Clearance stores\, South Beach – FL\, Garden State Plaza – NJ\, 5th Ave. – NY\, Tommy Hilfiger stores in Canada\, or on tommy.com. Promo Code: 500018874000
URL:https://gpoguam.com/event/tommy-hilfiger-new-fall-arrival-sale/
LOCATION:Tommy Hilfiger
END:VEVENT
BEGIN:VEVENT
DTSTART;TZID=UTC:20180811T140000
DTEND;TZID=UTC:20180811T140000
DTSTAMP:20260424T132237
CREATED:20180815T195252Z
LAST-MODIFIED:20180821T005022Z
UID:10348-1533996000-1533996000@gpoguam.com
SUMMARY:Pa'a Taotao Tano' Cultural Performance - 2PM
DESCRIPTION:Discover and experience an authentic Chamorro Cultural Experience. \nEvery Saturday at 2PM in the GPO Food Court.
URL:https://gpoguam.com/event/paa-taotao-tano-cultural-performance-2/
LOCATION:GPO Food Court
CATEGORIES:Entertainment
END:VEVENT
BEGIN:VEVENT
DTSTART;VALUE=DATE:20180816
DTEND;VALUE=DATE:20180823
DTSTAMP:20260424T132237
CREATED:20180815T200326Z
LAST-MODIFIED:20180815T212241Z
UID:10352-1534377600-1534982399@gpoguam.com
SUMMARY:Calvin Klein 50% Off
DESCRIPTION:Shop iconic essentials at Calvin Klein Outlet & Calvin Klein Accessory Stores. Enjoy up to 50% off your purchase. \n*Exlusions Apply
URL:https://gpoguam.com/event/calvin-klein-50-off/
LOCATION:Calvin Klein
CATEGORIES:Sales
END:VEVENT
BEGIN:VEVENT
DTSTART;TZID=UTC:20180818T140000
DTEND;TZID=UTC:20180818T140000
DTSTAMP:20260424T132237
CREATED:20180815T203209Z
LAST-MODIFIED:20180821T005025Z
UID:10360-1534600800-1534600800@gpoguam.com
SUMMARY:Pa'a Taotao Tano' Cultural Performance - 2PM
DESCRIPTION:Discover and experience an authentic Chamorro Cultural Experience. \nEvery Saturday at 2PM in the GPO Food Court.
URL:https://gpoguam.com/event/paa-taotao-tano-cultural-performance-3/
LOCATION:GPO Food Court
CATEGORIES:Entertainment
END:VEVENT
BEGIN:VEVENT
DTSTART;VALUE=DATE:20180822
DTEND;VALUE=DATE:20180830
DTSTAMP:20260424T132237
CREATED:20180822T230416Z
LAST-MODIFIED:20180822T230611Z
UID:10527-1534896000-1535587199@gpoguam.com
SUMMARY:Calvin Klein 50% Off
DESCRIPTION:Shop iconic essentials at Calvin Klein Outlet & Calvin Klein Accessory Stores. Enjoy up to 50% off your purchase.\n*Exclusions Apply\n 
URL:https://gpoguam.com/event/calvin-klein-50-off-2/
LOCATION:Calvin Klein
END:VEVENT
BEGIN:VEVENT
DTSTART;TZID=UTC:20180825T140000
DTEND;TZID=UTC:20180825T140000
DTSTAMP:20260424T132237
CREATED:20180815T203954Z
LAST-MODIFIED:20180821T005028Z
UID:10365-1535205600-1535205600@gpoguam.com
SUMMARY:Pa'a Taotao Tano' Cultural Performance - 2PM
DESCRIPTION:Discover and experience an authentic Chamorro Cultural Experience. \nEvery Saturday at 2PM in the GPO Food Court.
URL:https://gpoguam.com/event/paa-taotao-tano-cultural-performance-4/
LOCATION:GPO Food Court
CATEGORIES:Entertainment
END:VEVENT
BEGIN:VEVENT
DTSTART;VALUE=DATE:20180829
DTEND;VALUE=DATE:20180904
DTSTAMP:20260424T132237
CREATED:20180829T041622Z
LAST-MODIFIED:20180829T041622Z
UID:10663-1535500800-1536019199@gpoguam.com
SUMMARY:Calvin Klein Labor Day Sale
DESCRIPTION:Calvin Klein Outlet\nShop the Labor Day Sale at CALVIN KLEIN.  Save up to 70% off entire store + take an additional 20% off select styles. Valid 8.29-9.3* \n  \n \nCalvin Klein Accessory Stores\nShop the Labor Day Sale at CALVIN KLEIN.  Save up to 50% off entire store + take an additional 20% off select styles. Valid 8.29-9.3* \n*Some Exclusions Apply
URL:https://gpoguam.com/event/calvin-klein-labor-day-sale/
LOCATION:Calvin Klein
END:VEVENT
BEGIN:VEVENT
DTSTART;VALUE=DATE:20180830
DTEND;VALUE=DATE:20180907
DTSTAMP:20260424T132237
CREATED:20180822T232737Z
LAST-MODIFIED:20180822T232737Z
UID:10540-1535587200-1536278399@gpoguam.com
SUMMARY:Tommy Hilfiger Labor Day Sale
DESCRIPTION:Labor Day Sale \n30-50% off entire store* \nPlus\, present this offer in-store and receive \n25% off your purchase of $250+ or 20% off your purchase of $150+ or 15% off your entire purchase** \nAugust 30-September 6 \n*Original store price. Excludes socks\, underwear and other select items. All styles not available at all locations. May not be available on tommy.com. **THIS OFFER EXPIRES ON 9/6/18 and is redeemable for an amount up to the discount stated on this Offer and must be presented in-person at Tommy Hilfiger stores in the United States\, Puerto Rico\, and Guam. It may be used only once whether or not fully redeemed and must be surrendered at purchase with any remaining value of the Offer forfeited. Not redeemable for store credit or cash. The Offer may not be combined with any other promotion and has no cash value. It is not valid for previously purchased me                 rchandise\, gift cards\, or Internet transactions. Any discount (as shown on the receipt) applied to merchandise that is returned will be deducted from any refund amount. Customer must present card at time of purchase to receive the Offer. Reproductions of the Offer will not be accepted. PVH associates not eligible. Not valid in department stores\, Clearance stores\, South Beach – FL\, 5th Ave. – NY\, Tommy Hilfiger stores in Canada\, or on tommy.com. Promo Code: 500018875000
URL:https://gpoguam.com/event/tommy-hilfiger-labor-day-sale/
LOCATION:Tommy Hilfiger
END:VEVENT
BEGIN:VEVENT
DTSTART;VALUE=DATE:20180830
DTEND;VALUE=DATE:20180927
DTSTAMP:20260424T132237
CREATED:20180821T062220Z
LAST-MODIFIED:20180822T230519Z
UID:10507-1535587200-1538006399@gpoguam.com
SUMMARY:Vitamin World Sale
DESCRIPTION:25% off Sheer Strength Labs Keto Series\n \nValid on Sheer Strength brand Keto items only. Valid for Savings Passport Members only. Discount percentage reflected off regular price. See store for details. Expires 9/26/18. \n  \nBOGO FREE MIX Precision Engineered Items\n \nSavings Passport Members only. Discount taken off regular price. Valid on Precision Engineered® brand items only. Free item must be of equal or lesser value. Cannot be combined with other offers. Excludes Wellness Specials\, gift cards\, and clearance items. Other exclusions may apply; while supplies last; not valid on prior purchases. See Store associate for details. Sale valid 8/30 – 9/26/18.
URL:https://gpoguam.com/event/vitamin-world-sale/
LOCATION:Vitamin World
END:VEVENT
END:VCALENDAR