BEGIN:VCALENDAR
VERSION:2.0
PRODID:-//GPO Guam - ECPv6.0.12//NONSGML v1.0//EN
CALSCALE:GREGORIAN
METHOD:PUBLISH
X-WR-CALNAME:GPO Guam
X-ORIGINAL-URL:https://gpoguam.com
X-WR-CALDESC:Events for GPO Guam
REFRESH-INTERVAL;VALUE=DURATION:PT1H
X-Robots-Tag:noindex
X-PUBLISHED-TTL:PT1H
BEGIN:VTIMEZONE
TZID:Pacific/Guam
BEGIN:STANDARD
TZOFFSETFROM:+1000
TZOFFSETTO:+1000
TZNAME:ChST
DTSTART:20260101T000000
END:STANDARD
END:VTIMEZONE
BEGIN:VEVENT
DTSTART;TZID=Pacific/Guam:20260509T100000
DTEND;TZID=Pacific/Guam:20260509T180000
DTSTAMP:20260426T011930
CREATED:20260325T034129Z
LAST-MODIFIED:20260424T035639Z
UID:16634-1778320800-1778349600@gpoguam.com
SUMMARY:MAY POP-UP EVENT
DESCRIPTION:Join us on Saturday\, May 9\, 2026\, from 10:00 AM – 6:00 PM in support of local small businesses at our May Pop-up Event! For vendor information\, email marketing@gpoguam.com
URL:https://gpoguam.com/event/april-pop-up-event/
LOCATION:GPO Shopping Center
END:VEVENT
BEGIN:VEVENT
DTSTART;TZID=Pacific/Guam:20260509T110000
DTEND;TZID=Pacific/Guam:20260509T173000
DTSTAMP:20260426T011930
CREATED:20260424T035159Z
LAST-MODIFIED:20260424T035159Z
UID:16673-1778324400-1778347800@gpoguam.com
SUMMARY:GWHS CULTURAL ASSOCIATION OUTREACH
DESCRIPTION:Visit the GW Cultural Association in the GPO Food Court on May 9\, 2026 from 11:00 AM – 5:30 PM for information on upcoming events and assistance with the GWHS Mega Reunion.
URL:https://gpoguam.com/event/gwhs-cultural-association-outreach-5/
LOCATION:GPO Food Court
END:VEVENT
BEGIN:VEVENT
DTSTART;TZID=Pacific/Guam:20260516T110000
DTEND;TZID=Pacific/Guam:20260516T173000
DTSTAMP:20260426T011930
CREATED:20260424T035531Z
LAST-MODIFIED:20260424T035531Z
UID:16676-1778929200-1778952600@gpoguam.com
SUMMARY:GWHS CULTURAL ASSOCIATION OUTREACH
DESCRIPTION:Visit the GW Cultural Association in the GPO Food Court on May 16\, 2026 from 11:00 AM – 5:30 PM for information on upcoming events and assistance with the GWHS Mega Reunion.
URL:https://gpoguam.com/event/gwhs-cultural-association-outreach-6/
LOCATION:GPO Food Court
END:VEVENT
BEGIN:VEVENT
DTSTART;TZID=Pacific/Guam:20260523T110000
DTEND;TZID=Pacific/Guam:20260523T173000
DTSTAMP:20260426T011930
CREATED:20260424T035605Z
LAST-MODIFIED:20260424T035605Z
UID:16678-1779534000-1779557400@gpoguam.com
SUMMARY:GWHS CULTURAL ASSOCIATION OUTREACH
DESCRIPTION:Visit the GW Cultural Association in the GPO Food Court on May 23\, 2026 from 11:00 AM – 5:30 PM for information on upcoming events and assistance with the GWHS Mega Reunion.
URL:https://gpoguam.com/event/gwhs-cultural-association-outreach-7/
LOCATION:GPO Food Court
END:VEVENT
BEGIN:VEVENT
DTSTART;TZID=Pacific/Guam:20260530T110000
DTEND;TZID=Pacific/Guam:20260530T173000
DTSTAMP:20260426T011930
CREATED:20260424T035753Z
LAST-MODIFIED:20260424T035753Z
UID:16681-1780138800-1780162200@gpoguam.com
SUMMARY:GWHS CULTURAL ASSOCIATION OUTREACH
DESCRIPTION:Visit the GW Cultural Association in the GPO Food Court on May 30\, 2026 from 11:00 AM – 5:30 PM for information on upcoming events and assistance with the GWHS Mega Reunion.
URL:https://gpoguam.com/event/gwhs-cultural-association-outreach-8/
LOCATION:GPO Food Court
END:VEVENT
END:VCALENDAR