BEGIN:VCALENDAR
VERSION:2.0
PRODID:-//GPO Guam - ECPv6.0.12//NONSGML v1.0//EN
CALSCALE:GREGORIAN
METHOD:PUBLISH
X-ORIGINAL-URL:https://gpoguam.com
X-WR-CALDESC:Events for GPO Guam
REFRESH-INTERVAL;VALUE=DURATION:PT1H
X-Robots-Tag:noindex
X-PUBLISHED-TTL:PT1H
BEGIN:VTIMEZONE
TZID:Pacific/Guam
BEGIN:STANDARD
TZOFFSETFROM:+1000
TZOFFSETTO:+1000
TZNAME:ChST
DTSTART:20200101T000000
END:STANDARD
END:VTIMEZONE
BEGIN:VEVENT
DTSTART;VALUE=DATE:20200627
DTEND;VALUE=DATE:20200926
DTSTAMP:20260423T010527
CREATED:20200730T233045Z
LAST-MODIFIED:20200730T233045Z
UID:12872-1593216000-1601078399@gpoguam.com
SUMMARY:ABC STORES: HOT PROMOTION
DESCRIPTION:ABC Stores: HOT Promotion \n\nOffer valid from until September 25\, 2020 \n  \nMauna Loa Snack Pack \n~ The perfect snack size portion of premium macadamia nuts. Available in an assortment of flavors. \n\n– Single 1.15 oz $1.99 2/$3\n– 6 Pack $10.99\n– 16 Pack $26.99
URL:https://gpoguam.com/event/abc-stores-hot-promotion-2/
LOCATION:ABC Stores\, Tamuning\, 96913\, Guam
CATEGORIES:Sales
END:VEVENT
BEGIN:VEVENT
DTSTART;VALUE=DATE:20200701
DTEND;VALUE=DATE:20201201
DTSTAMP:20260423T010527
CREATED:20200701T050703Z
LAST-MODIFIED:20201115T002529Z
UID:12712-1593561600-1606780799@gpoguam.com
SUMMARY:SKECHERS BLOW OUT SALE
DESCRIPTION:  \nBuy One Get One Free at Skechers \nJuly 1\, 2020 – November 31\, 2020 \n*Cash & Carry ONLY \n*All sales are final. No return & exchange. \n*GPO location ONLY \n*Free shoe is of equal value or less. Cannot be combined with other discounts or offers. \n 
URL:https://gpoguam.com/event/skechers-blow-out-sale/
LOCATION:Skechers
CATEGORIES:Sales
END:VEVENT
BEGIN:VEVENT
DTSTART;TZID=Pacific/Guam:20200701T140000
DTEND;TZID=Pacific/Guam:20200831T180000
DTSTAMP:20260423T010527
CREATED:20200702T044030Z
LAST-MODIFIED:20200702T044122Z
UID:12751-1593612000-1598896800@gpoguam.com
SUMMARY:CHATIME HAPPY HOUR SPECIAL
DESCRIPTION:Chatime Happy Hour Special \nSpecial Ends: August 31\, 2020 \nMonday – Thursday \n2pm – 6pm \nBuy One Get One Free off any Chatime drink. \n*Free Drink must be equal value or less.
URL:https://gpoguam.com/event/chatime-happy-hour-special/
LOCATION:Chatime
CATEGORIES:Sales
END:VEVENT
BEGIN:VEVENT
DTSTART;VALUE=DATE:20200703
DTEND;VALUE=DATE:20200901
DTSTAMP:20260423T010527
CREATED:20200710T020116Z
LAST-MODIFIED:20200730T224519Z
UID:12782-1593734400-1598918399@gpoguam.com
SUMMARY:WENDY'S MEGA VALUE
DESCRIPTION:MEGA VALUE! \n\n\n\n\n\n$1.70 for a 40oz Coca-Cola beverage!\n\n\nBest price on Guam!\n\n\n\n\n\nFor a limited time only so head on over now!
URL:https://gpoguam.com/event/wendys-mega-value/
LOCATION:Wendy’s
CATEGORIES:Food & Beverage,Sales
END:VEVENT
BEGIN:VEVENT
DTSTART;VALUE=DATE:20200707
DTEND;VALUE=DATE:20200901
DTSTAMP:20260423T010527
CREATED:20200708T020713Z
LAST-MODIFIED:20200730T231600Z
UID:12771-1594080000-1598918399@gpoguam.com
SUMMARY:CALVIN KLEIN: SEMI-ANNUAL SALE
DESCRIPTION:Calvin Klein: Semi-Annual Sale \nValid: 7.7.20 – 7.31.20 \n  \nSave Up to 80% Off Entire Store and additional 20%  OFF on clearance! \nPlus\, sign up to become a member at Calvin Klein and \nreceive additional 15% off your purchase. \nExclusions Apply
URL:https://gpoguam.com/event/calvin-klein-fourth-of-july-sale/
LOCATION:by Calvin Klein
CATEGORIES:Sales
END:VEVENT
BEGIN:VEVENT
DTSTART;VALUE=DATE:20200717
DTEND;VALUE=DATE:20210101
DTSTAMP:20260423T010527
CREATED:20200717T064702Z
LAST-MODIFIED:20201029T060847Z
UID:12807-1594944000-1609459199@gpoguam.com
SUMMARY:SUBWAY $5 FOOTLONG
DESCRIPTION:Subway $5 Footlong \nFor a limited time buy a footlong at Subway and get another for $5 only! \nPlease visit website link for more information.
URL:https://gpoguam.com/event/subway-5-footlong/
CATEGORIES:Food & Beverage,Sales
END:VEVENT
BEGIN:VEVENT
DTSTART;TZID=Pacific/Guam:20200724T110000
DTEND;TZID=Pacific/Guam:20201130T190000
DTSTAMP:20260423T010527
CREATED:20200726T015521Z
LAST-MODIFIED:20201029T055635Z
UID:12839-1595588400-1606762800@gpoguam.com
SUMMARY:CINNABON: BUY ONE GET ONE FREE SPECIAL
DESCRIPTION:Buy One Get One FREE Cinnabon Stix Special \nStop by our GPO location from 11am-7pm today and grab a cup of the delightful twist with a frosty dip today! \n*Not valid with any other offer. No cash back.
URL:https://gpoguam.com/event/cinnabon-buy-one-get-one-free-special/
LOCATION:Cinnabon
CATEGORIES:Food & Beverage,Sales
END:VEVENT
BEGIN:VEVENT
DTSTART;VALUE=DATE:20200731
DTEND;VALUE=DATE:20200830
DTSTAMP:20260423T010527
CREATED:20200802T022236Z
LAST-MODIFIED:20200802T022236Z
UID:12900-1596153600-1598745599@gpoguam.com
SUMMARY:FRAGRANCE OUTLET: BOGO 50% OFF
DESCRIPTION:Experience Mercedes Benz The Move for men\,  exclusively at Fragrance Outlet  \nBuy 1 Get 1 50% off*\, Mix and Match Throughout the Store! \nVALID FROM UNTIL:  8/29/20 \nExtra savings on select items…. Buy 1 fragrance get an unlimited number of fragrances for 50% off\, (choose from over 100 exclusive fragrances)  \nALWAYS AUTHENTIC ALWAYS ON SALE !! \n* discount taken on item of equal or lesser value\, some exclusions apply
URL:https://gpoguam.com/event/fragrance-outlet-bogo-50-off-2/
LOCATION:Fragrance Outlet
CATEGORIES:Fashion,Sales
END:VEVENT
BEGIN:VEVENT
DTSTART;VALUE=DATE:20200731
DTEND;VALUE=DATE:20200901
DTSTAMP:20260423T010527
CREATED:20200730T222826Z
LAST-MODIFIED:20200730T223926Z
UID:12851-1596153600-1598918399@gpoguam.com
SUMMARY:RUBY TUESDAY: FOR THE LOVE OF BURGERS
DESCRIPTION:Ruby Tuesday: For The Love of Burgers \nFor the Love of Burgers Menu with six delicious burgers to choose from and served with crispy French fries for only $9.99! \nDine-In or for Curbside Carryout call 647-7828 or 7829 from 11am to 8pm daily\, \nor download the Grab N Grub app for delivery! \nPlease visit website link for more info.
URL:https://gpoguam.com/event/ruby-tuesday-for-the-love-of-burgers/
LOCATION:Ruby Tuesday
CATEGORIES:Food & Beverage,Sales
END:VEVENT
BEGIN:VEVENT
DTSTART;VALUE=DATE:20200731
DTEND;VALUE=DATE:20200901
DTSTAMP:20260423T010527
CREATED:20200730T223815Z
LAST-MODIFIED:20200730T223815Z
UID:12856-1596153600-1598918399@gpoguam.com
SUMMARY:KING'S: ITS KING'S TIME!
DESCRIPTION:King’s: It’s King’s Time! \nFamily Time\, Quality Time\, It’s King’s Time! \nGet the food you love at prices you love more on the It’s Kings Time Breakfast or Lunch and Dinner menu today! \nDine in or carryout customers can enjoy 24hr service\, \nor download the Grab N Grub app for delivery available from 6am to 11pm daily.
URL:https://gpoguam.com/event/kings-its-kings-time/
LOCATION:King’s Restaurant
CATEGORIES:Food & Beverage
END:VEVENT
BEGIN:VEVENT
DTSTART;VALUE=DATE:20200731
DTEND;VALUE=DATE:20200901
DTSTAMP:20260423T010527
CREATED:20200731T064918Z
LAST-MODIFIED:20200731T064918Z
UID:12885-1596153600-1598918399@gpoguam.com
SUMMARY:HAAGEN-DAZS: SUPER EXTRAVAGANZA SPECIAL
DESCRIPTION:Haagen-Dazs: Super Extravaganza Special \nCome by Häagen-Dazs at our GPO location & treat yourself to a scrumptious chocolate fondue \n& get 1/2 OFF any of the following creations: \n– Banana Crepe Encounter \n– Banana Split \n– Belgian Waffle Wonder \n– Brownie Celebration \n– Flower Blossom \n– Paradise \nFor more information please call (671)649-7486.
URL:https://gpoguam.com/event/haagen-dazs-super-extravaganza-special/
LOCATION:Haagen-Dazs
CATEGORIES:Food & Beverage,Sales
END:VEVENT
BEGIN:VEVENT
DTSTART;TZID=Pacific/Guam:20200731T060000
DTEND;TZID=Pacific/Guam:20200831T100000
DTSTAMP:20260423T010527
CREATED:20200730T231054Z
LAST-MODIFIED:20200730T231054Z
UID:12862-1596175200-1598868000@gpoguam.com
SUMMARY:WENDY'S: BEST VALUE ON BREAKFAST
DESCRIPTION:Wendy’s Best Value on Breakfast \nWake up for Guam’s Best Value on Breakfast! \nStarting at 6am\, choose from four local breakfast platters: \n– Bacon Breakfast Platter (Bacon\, Eggs\, & Rice) \n– Portuguese Sausage Breakfast Platter (Portuguese Sausage\, Eggs\, & Rice) \n– Chamorro Sausage Breakfast Platter (Chamorro Sausage\, Eggs\, & Rice) \n– Biggie Breakfast Platter (Breakfast Sausage\, Portuguese Sausage\, Bacon\, Eggs\, & Rice) \nor \nGrab one of Wendy’s Breakfast Sandwiches from the Hone Butter Chicken Biscuit\, Breakfast Baconator\, & more!
URL:https://gpoguam.com/event/wendys-best-value-on-breakfast/
LOCATION:Wendy’s
CATEGORIES:Food & Beverage
END:VEVENT
BEGIN:VEVENT
DTSTART;VALUE=DATE:20200801
DTEND;VALUE=DATE:20200901
DTSTAMP:20260423T010527
CREATED:20200802T015924Z
LAST-MODIFIED:20200802T015924Z
UID:12892-1596240000-1598918399@gpoguam.com
SUMMARY:Tommy Hilfiger Kids Store Now Open
DESCRIPTION:Tommy Hilfiger Kids Store NOW OPEN \nBig News Guam! The Tommy Hilfiger Kids Store is here. Stop by the new store at Space 110.
URL:https://gpoguam.com/event/tommy-hilfiger-kids-store-now-open/
LOCATION:Tommy Hilfiger Kids\, Guam
CATEGORIES:Fashion
END:VEVENT
BEGIN:VEVENT
DTSTART;VALUE=DATE:20200801
DTEND;VALUE=DATE:20200901
DTSTAMP:20260423T010527
CREATED:20200802T021215Z
LAST-MODIFIED:20200802T021215Z
UID:12897-1596240000-1598918399@gpoguam.com
SUMMARY:PORT OF MOCHA: BOGO FREE
DESCRIPTION:Port of Mocha Buy One Get One Free \nSummer just got delicious! \nBuy One Get One Free on Port of Mocha’s summer drink the Coconut Frappe today! \nPromotion Valid Until: August 31\, 2020 \n*Exclusions Apply.
URL:https://gpoguam.com/event/port-of-mocha-bogo-free/
LOCATION:Port of Mocha
CATEGORIES:Food & Beverage,Sales
END:VEVENT
BEGIN:VEVENT
DTSTART;VALUE=DATE:20200801
DTEND;VALUE=DATE:20200901
DTSTAMP:20260423T010527
CREATED:20200810T021828Z
LAST-MODIFIED:20200810T021828Z
UID:12907-1596240000-1598918399@gpoguam.com
SUMMARY:PORT OF MOCHA: SUMMER FRAPPES BOGO FREE
DESCRIPTION:Port of Mocha: Buy One Get One Free Summer Frappes \nPromotion Valid Until : August 31\, 2020 \n  \nBOGO FREE (Buy 1 Get 1 FREE) on our Summer Frappes! \nBring the kids and bring the kid out of you and enjoy these all day long.
URL:https://gpoguam.com/event/port-of-mocha-summer-frappes-bogo-free/
LOCATION:Port of Mocha
CATEGORIES:Food & Beverage,Sales
END:VEVENT
BEGIN:VEVENT
DTSTART;VALUE=DATE:20200810
DTEND;VALUE=DATE:20200901
DTSTAMP:20260423T010527
CREATED:20200810T022610Z
LAST-MODIFIED:20200810T022610Z
UID:12910-1597017600-1598918399@gpoguam.com
SUMMARY:PORT OF MOCHA: $5 BREAKFAST SANDWICH COMBO SPECIAL
DESCRIPTION:Port of Mocha: $5 Breakfast Sandwich Combo Special\n\n$5 for a Tall hot coffee & our NEW Artisan breakfast ciabatta sandwich from 7-11am.\nAfter 11am sandwich only $5.\nEnjoy a better breakfast at our GPO cafe\, open at 7am on the Ross side parking lot.
URL:https://gpoguam.com/event/port-of-mocha-5-breakfast-sandwich-combo-special/
LOCATION:Port of Mocha
CATEGORIES:Food & Beverage,Sales
END:VEVENT
BEGIN:VEVENT
DTSTART;VALUE=DATE:20200810
DTEND;VALUE=DATE:20201001
DTSTAMP:20260423T010527
CREATED:20200810T024909Z
LAST-MODIFIED:20200810T024909Z
UID:12916-1597017600-1601510399@gpoguam.com
SUMMARY:IT&E: BACK TO SCHOOL DEAL
DESCRIPTION:IT&E: Back to School Deal\n\nOffer available until 09/30 or while supplies last.\nhttps://store.ite.net/back-to-school/\n\n\n\nBack to school with Samsung! Get your kid a Samsung Galaxy for FREE!\nChoose between the A20s or A71 and pair it up with a monthly plan\, but don’t forget about our STUDENT DISCOUNT!\n\n\n\nEnjoy monthly savings with our student discount just by presenting your student ID\, school registration or enrollment form!\nCheck out all student discounts available at https://store.ite.net/student-discount/.
URL:https://gpoguam.com/event/ite-back-to-school-deal/
LOCATION:by IT&E
CATEGORIES:Sales
END:VEVENT
BEGIN:VEVENT
DTSTART;TZID=Pacific/Guam:20200816T060000
DTEND;TZID=Pacific/Guam:20200904T020000
DTSTAMP:20260423T010527
CREATED:20200819T022414Z
LAST-MODIFIED:20200828T012624Z
UID:12963-1597557600-1599184800@gpoguam.com
SUMMARY:WENDY'S: PCOR1 Modified Store Hours & Services
DESCRIPTION:Wendy’s: PCOR1 Modified Store Hours & Services \nWendy’s at our Tamuning location is open\n6am – 2am for DRIVE THRU ONLY.
URL:https://gpoguam.com/event/wendys-pcor1-modified-store-hours-services/
LOCATION:Wendy’s
CATEGORIES:Food & Beverage
END:VEVENT
BEGIN:VEVENT
DTSTART;TZID=Pacific/Guam:20200816T060000
DTEND;TZID=Pacific/Guam:20200904T210000
DTSTAMP:20260423T010527
CREATED:20200819T020455Z
LAST-MODIFIED:20200828T012713Z
UID:12955-1597557600-1599253200@gpoguam.com
SUMMARY:KING'S: PCOR1 Modified Store Hours & Services
DESCRIPTION:King’s : PCOR1 Modified Store Hours & Services \n\nKing’s in Tamuning will be open from\n6am – 9pm daily\nfor CURBSIDE PICK-UP only.\n\n\n\nTo place an order or for more information please call (671)647-5464 .
URL:https://gpoguam.com/event/kings-pcor1-modified-store-hours-services/
LOCATION:King’s Restaurant
CATEGORIES:Food & Beverage
END:VEVENT
BEGIN:VEVENT
DTSTART;TZID=Pacific/Guam:20200816T070000
DTEND;TZID=Pacific/Guam:20200904T170000
DTSTAMP:20260423T010527
CREATED:20200819T030354Z
LAST-MODIFIED:20200828T012548Z
UID:12974-1597561200-1599238800@gpoguam.com
SUMMARY:PORT OF MOCHA: PCOR1 Modified Hours & Services
DESCRIPTION:Port of Mocha: PCOR1 Modified Hours & Services \nPort of Mocha at our GPO location will be open \nfor CURBSIDE PICKUP  ONLY \nfrom 7am – 5pm daily until further notice.
URL:https://gpoguam.com/event/port-of-mocha-pcor1-modified-hours-services/
LOCATION:Port of Mocha
CATEGORIES:Food & Beverage
END:VEVENT
BEGIN:VEVENT
DTSTART;TZID=Pacific/Guam:20200816T100000
DTEND;TZID=Pacific/Guam:20200820T170000
DTSTAMP:20260423T010527
CREATED:20200819T015146Z
LAST-MODIFIED:20200828T004415Z
UID:12951-1597572000-1597942800@gpoguam.com
SUMMARY:DOCOMO PACIFIC: PCOR1 Modified Store Hours & Services
DESCRIPTION:Docomo Pacific: PCOR1 Modified Store Hours & Services \n\nDocomo Pacific is open\nfor CURBSIDE PICKUP only\nfrom\n10am – 5pm (Monday through Friday).\n\n\n\nPlease call (671)689-2372 to make arrangements with the Docomo Pacific Team.
URL:https://gpoguam.com/event/docomo-pacific-pcor1-modified-store-hours-services/
LOCATION:Docomo Pacific\, Tamuning
CATEGORIES:Communications
END:VEVENT
BEGIN:VEVENT
DTSTART;TZID=Pacific/Guam:20200816T100000
DTEND;TZID=Pacific/Guam:20200904T180000
DTSTAMP:20260423T010527
CREATED:20200819T012027Z
LAST-MODIFIED:20200828T012648Z
UID:12936-1597572000-1599242400@gpoguam.com
SUMMARY:VITAMIN WORLD: PCOR1 Modified Store Hours & Services
DESCRIPTION:Vitamin World: PCOR1 Modified Store Hours & Services \n\n\n\n\nVitamin World at our GPO location will be open\nfrom 10am – 6pm daily\nfor CURBSIDE PICK-UP ONLY until further notice.\n\n\n\nTo place order or receive more information on products call\n(671) 647-5661/5665
URL:https://gpoguam.com/event/vitamin-world-pcor1-modified-store-hours-services/
LOCATION:Vitamin World
CATEGORIES:Health & Beauty
END:VEVENT
BEGIN:VEVENT
DTSTART;TZID=Pacific/Guam:20200816T110000
DTEND;TZID=Pacific/Guam:20200820T190000
DTSTAMP:20260423T010527
CREATED:20200819T023728Z
LAST-MODIFIED:20200828T004823Z
UID:12966-1597575600-1597950000@gpoguam.com
SUMMARY:CHARLEY'S STEAKERY: PCOR1 MODIFIED SERVICES
DESCRIPTION:Charley’s Steakery: PCOR1 Modified Services \n\nCharley’s Steakery is open\nfor take-out and delivery from 11am – 7pm daily.\n\n\n\nCome in and order your Charley’s favorite for take-out or place an order for delivery through Grab N’ Grub.
URL:https://gpoguam.com/event/charleys-steakery-pcor1-modified-services/
LOCATION:Charley’s Steakery\, Tamuning\, Guam
CATEGORIES:Food & Beverage
END:VEVENT
BEGIN:VEVENT
DTSTART;TZID=Pacific/Guam:20200816T110000
DTEND;TZID=Pacific/Guam:20200820T190000
DTSTAMP:20260423T010527
CREATED:20200819T024458Z
LAST-MODIFIED:20200828T012318Z
UID:12970-1597575600-1597950000@gpoguam.com
SUMMARY:SUBWAY: PCOR1 Modified Services
DESCRIPTION:Subway: PCOR1 Modified Services \n\nSubway at GPO is open\nfor takeout only from 11am – 7pm daily.\n\n\n\nStop by our food court & check out this deal for TWO!\nFor a limited time buy a footlong & get another for $5 only!
URL:https://gpoguam.com/event/subway-pcor1-modified-services/
LOCATION:Subway
CATEGORIES:Food & Beverage,Sales
END:VEVENT
BEGIN:VEVENT
DTSTART;TZID=Pacific/Guam:20200816T110000
DTEND;TZID=Pacific/Guam:20200904T190000
DTSTAMP:20260423T010527
CREATED:20200819T013440Z
LAST-MODIFIED:20200828T012408Z
UID:12945-1597575600-1599246000@gpoguam.com
SUMMARY:CHUCK E. CHEESE'S: PCOR1 Modified Store Hours & Services
DESCRIPTION:Chuck E. Cheese’s: PCOR1 Modified Store Hours \n\nChuck E. Cheese’s will be open\nfor CURBSIDE PICK-UP only\nfrom 11am – 7pm daily.\n\n\n\nPlease call (671)647-4543/2329 to place your orders today!
URL:https://gpoguam.com/event/chuck-e-cheeses-pcor1-modified-store-hours-services/
LOCATION:Chuck E. Cheese’s
CATEGORIES:Food & Beverage
END:VEVENT
BEGIN:VEVENT
DTSTART;TZID=Pacific/Guam:20200816T110000
DTEND;TZID=Pacific/Guam:20200904T200000
DTSTAMP:20260423T010527
CREATED:20200819T021537Z
LAST-MODIFIED:20200828T012145Z
UID:12958-1597575600-1599249600@gpoguam.com
SUMMARY:RUBY TUESDAY: PCOR1 Modified Hours & Services
DESCRIPTION:Ruby Tuesday’s: PCOR1 Modified Hours & Services \nRuby Tuesday is open from 11am – 8pm daily \nfor CURBSIDE PICK-UP only. \nPlace an order & take 20% off your CURBSIDE Orders. \nDiscount can’t be combined with daily specials & food platters. \nPlease contact @rubytuesdayguam at (671) 647-7828 to place your order today!
URL:https://gpoguam.com/event/ruby-tuesdays-pcor1-modified-hours-services/
LOCATION:Ruby Tuesday
CATEGORIES:Food & Beverage,Sales
END:VEVENT
BEGIN:VEVENT
DTSTART;TZID=Pacific/Guam:20200816T110000
DTEND;TZID=Pacific/Guam:20200904T210000
DTSTAMP:20260423T010527
CREATED:20200819T012545Z
LAST-MODIFIED:20200828T012428Z
UID:12939-1597575600-1599253200@gpoguam.com
SUMMARY:AJISEN RAMEN: PCOR 1 Modified Store Hours & Services
DESCRIPTION:Ajisen Ramen: Modified Store Hours & Services \nAjisen Ramen at our GPO location will be open \nfrom 11am – 9pm daily \nfor CURBSIDE\, and DELIVERY only. \nPlease call (671)649-8895/6 \nto place an order or for more information.
URL:https://gpoguam.com/event/ajisen-ramen-pcor-1-modified-store-hours-services/
LOCATION:Ajisen Ramen\, Tamuning
CATEGORIES:Food & Beverage
END:VEVENT
BEGIN:VEVENT
DTSTART;TZID=Pacific/Guam:20200816T120000
DTEND;TZID=Pacific/Guam:20200904T180000
DTSTAMP:20260423T010527
CREATED:20200819T014146Z
LAST-MODIFIED:20200828T012458Z
UID:12948-1597579200-1599242400@gpoguam.com
SUMMARY:COLD STONE CREAMERY: PCOR1 Modified Store Hours & Services
DESCRIPTION:Cold Stone Creamery: PCOR1 Modified Hours & Services \n\nCold Stone Creamery Guam will only be offering\nCurbside Delivery service\nfrom 12 to 6pm.\n\n\n\nOrder online at OrderColdStone.com or call our GPO location at (671)649-4800/1\n\n\nStay safe and well\, Guam!
URL:https://gpoguam.com/event/cold-stone-creamery-pcor1-modified-store-hours-services/
CATEGORIES:Food & Beverage
END:VEVENT
BEGIN:VEVENT
DTSTART;TZID=Pacific/Guam:20200817T093000
DTEND;TZID=Pacific/Guam:20200904T190000
DTSTAMP:20260423T010527
CREATED:20200819T005713Z
LAST-MODIFIED:20200828T011953Z
UID:12930-1597656600-1599246000@gpoguam.com
SUMMARY:ABC STORES: PCOR1 Modified Store Hours
DESCRIPTION:ABC Stores: PCOR1 Modified Store Hours \nABC Stores at our GPO location will be open from 9:30am – 7pm until further notice. \nFollow @abcstores_marianas_islands on Instagram for more info on products & promotions.
URL:https://gpoguam.com/event/abc-stores-pcor1-modified-store-hours/
LOCATION:ABC Stores\, Tamuning\, 96913\, Guam
CATEGORIES:Fashion,Food & Beverage
END:VEVENT
BEGIN:VEVENT
DTSTART;TZID=Pacific/Guam:20200818T130000
DTEND;TZID=Pacific/Guam:20200820T170000
DTSTAMP:20260423T010527
CREATED:20200819T010331Z
LAST-MODIFIED:20200828T004657Z
UID:12933-1597755600-1597942800@gpoguam.com
SUMMARY:FAMOUS FOOTWEAR: PCOR1 Modified Store Hours & Services
DESCRIPTION:Famous Footwear: PCOR1 Modified Store Hours & Services \n\nFamous Footwear is now open from\n1pm – 5pm for CURBSIDE PICKUP only .\n\n\n\nTo Order log on to:\nwww. famousfootwear.com.\n\nSelect GPO as the store & click on “Famously Fast Pickup” when adding to cart.\n\n\n\n◦ Once the order is completed\, Famous staff will get the notification & fulfill the order.\n\n\n\n◦ Once the customer receives their confirmation email\, customer can call the store when they’re ready for the team to bring out their order.\n\n\n\nFor more information please (671)647-2818.\n\n 
URL:https://gpoguam.com/event/famous-footwear-pcor1-modified-store-hours-services/
LOCATION:Famous Footwear
CATEGORIES:Fashion
END:VEVENT
END:VCALENDAR