BEGIN:VCALENDAR
VERSION:2.0
PRODID:-//GPO Guam - ECPv6.0.12//NONSGML v1.0//EN
CALSCALE:GREGORIAN
METHOD:PUBLISH
X-WR-CALNAME:GPO Guam
X-ORIGINAL-URL:https://gpoguam.com
X-WR-CALDESC:Events for GPO Guam
REFRESH-INTERVAL;VALUE=DURATION:PT1H
X-Robots-Tag:noindex
X-PUBLISHED-TTL:PT1H
BEGIN:VTIMEZONE
TZID:Pacific/Guam
BEGIN:STANDARD
TZOFFSETFROM:+1000
TZOFFSETTO:+1000
TZNAME:ChST
DTSTART:20220101T000000
END:STANDARD
END:VTIMEZONE
BEGIN:VEVENT
DTSTART;VALUE=DATE:20220407
DTEND;VALUE=DATE:20220414
DTSTAMP:20260421T191719
CREATED:20220406T233459Z
LAST-MODIFIED:20220406T233459Z
UID:14512-1649289600-1649894399@gpoguam.com
SUMMARY:TOMMY HILFIGER: FRIENDS & FAMILY
DESCRIPTION:Tommy Hilfiger: Friends & Family \nTake an additional 30% OFF your entire purchase* \nAPRIL 7 – APRIL 13 \nPromo Code: 631712005641 \nAll styles not available at all locations. May not be available at tommy.com. \nNot valid for purchases through the TH Anywhere program. \n*Exclusions may apply in-store. OFFER IS VALID 4/7/22 – 4/13/22. Promo Code: 631712005641
URL:https://gpoguam.com/event/tommy-hilfiger-friends-family-2/
LOCATION:Tommy Hilfiger
CATEGORIES:Fashion,Sales
END:VEVENT
END:VCALENDAR