BEGIN:VCALENDAR
VERSION:2.0
PRODID:-//GPO Guam - ECPv6.0.12//NONSGML v1.0//EN
CALSCALE:GREGORIAN
METHOD:PUBLISH
X-ORIGINAL-URL:https://gpoguam.com
X-WR-CALDESC:Events for GPO Guam
REFRESH-INTERVAL;VALUE=DURATION:PT1H
X-Robots-Tag:noindex
X-PUBLISHED-TTL:PT1H
BEGIN:VTIMEZONE
TZID:Pacific/Guam
BEGIN:STANDARD
TZOFFSETFROM:+1000
TZOFFSETTO:+1000
TZNAME:ChST
DTSTART:20250101T000000
END:STANDARD
END:VTIMEZONE
BEGIN:VEVENT
DTSTART;TZID=Pacific/Guam:20250412T160000
DTEND;TZID=Pacific/Guam:20250412T190000
DTSTAMP:20260422T113753
CREATED:20250225T053636Z
LAST-MODIFIED:20250225T053648Z
UID:16219-1744473600-1744484400@gpoguam.com
SUMMARY:Guam Memorial Hospital Volunteers Association Raffle Tickets Booth
DESCRIPTION:Get ready to win big! Raffle tickets will be sold at GPO starting March 4th\, every Tuesday\, Friday\, and Saturday from 4-7 PM near Tommy Hilfiger. Don’t miss out on your chance to enter!
URL:https://gpoguam.com/event/16219/
LOCATION:GPO Shopping Center
CATEGORIES:Outreach Event
END:VEVENT
BEGIN:VEVENT
DTSTART;TZID=Pacific/Guam:20250415T160000
DTEND;TZID=Pacific/Guam:20250415T190000
DTSTAMP:20260422T113753
CREATED:20250225T053735Z
LAST-MODIFIED:20250225T053735Z
UID:16222-1744732800-1744743600@gpoguam.com
SUMMARY:Guam Memorial Hospital Volunteers Association Raffle Tickets Booth
DESCRIPTION:Get ready to win big! Raffle tickets will be sold at GPO starting March 4th\, every Tuesday\, Friday\, and Saturday from 4-7 PM near Tommy Hilfiger. Don’t miss out on your chance to enter!
URL:https://gpoguam.com/event/guam-memorial-hospital-volunteers-association-raffle-tickets-booth-11/
LOCATION:GPO Shopping Center
CATEGORIES:Outreach Event
END:VEVENT
BEGIN:VEVENT
DTSTART;TZID=Pacific/Guam:20250510T110000
DTEND;TZID=Pacific/Guam:20250510T160000
DTSTAMP:20260422T113753
CREATED:20250506T065323Z
LAST-MODIFIED:20250506T065452Z
UID:16424-1746874800-1746892800@gpoguam.com
SUMMARY:Mother's Day Eve at GPO
DESCRIPTION:Celebrate Mom This Mother’s Day! \n\n\n\nJoin us on May 10\, 2025\, from 11 AM to 4 PM at the Food Court & Shopping Center for a day full of fun and surprises:\n\n\n\n– Live performance by Walden & Violy\n\n\n\n– Free cotton candy. While supplies last.\n\n\n\n– Spend $20 to receive a free GPO reusable bag near the play area\, while supplies last. Receipts valid only for that day. Other exclusions may apply.\n\n\n\n– Free Pickleball demonstration & mini games\n\n\n\nCome early and enjoy the festivities! Let’s make this day special for all moms! \n\n\n\n#MothersDay #GuamEvents #FamilyFun #GuamPremierOutlets #gpoguam #guam
URL:https://gpoguam.com/event/16424/
LOCATION:GPO Shopping Center
CATEGORIES:Entertainment,Giveaway,Outreach Event
END:VEVENT
END:VCALENDAR