BEGIN:VCALENDAR
VERSION:2.0
PRODID:-//GPO Guam - ECPv6.0.12//NONSGML v1.0//EN
CALSCALE:GREGORIAN
METHOD:PUBLISH
X-WR-CALNAME:GPO Guam
X-ORIGINAL-URL:https://gpoguam.com
X-WR-CALDESC:Events for GPO Guam
REFRESH-INTERVAL;VALUE=DURATION:PT1H
X-Robots-Tag:noindex
X-PUBLISHED-TTL:PT1H
BEGIN:VTIMEZONE
TZID:Pacific/Guam
BEGIN:STANDARD
TZOFFSETFROM:+1000
TZOFFSETTO:+1000
TZNAME:ChST
DTSTART:20250101T000000
END:STANDARD
END:VTIMEZONE
BEGIN:VEVENT
DTSTART;TZID=Pacific/Guam:20250314T160000
DTEND;TZID=Pacific/Guam:20250314T190000
DTSTAMP:20260422T004511
CREATED:20250225T052923Z
LAST-MODIFIED:20250225T052923Z
UID:16201-1741968000-1741978800@gpoguam.com
SUMMARY:Guam Memorial Hospital Volunteers Association Raffle Tickets Booth
DESCRIPTION:Get ready to win big! Raffle tickets will be sold at GPO starting March 4th\, every Tuesday\, Friday\, and Saturday from 4-7 PM near Tommy Hilfiger. Don’t miss out on your chance to enter!
URL:https://gpoguam.com/event/guam-memorial-hospital-volunteers-association-raffle-tickets-booth-4/
LOCATION:GPO Shopping Center
CATEGORIES:Outreach Event
END:VEVENT
BEGIN:VEVENT
DTSTART;TZID=Pacific/Guam:20250315T120000
DTEND;TZID=Pacific/Guam:20250315T150000
DTSTAMP:20260422T004511
CREATED:20250310T055346Z
LAST-MODIFIED:20250310T055346Z
UID:16242-1742040000-1742050800@gpoguam.com
SUMMARY:Mes CHamoru at GPO: Jack Larimer & Lorzalyn Artistry
DESCRIPTION:  \n \nCelebrate Mes CHamoru weekend with us! 🎉 Enjoy live music from Jack Larimer Saturday\, March 15 from 12 PM to 2 PM at our food court\, where you can savor delicious food while enjoying good music. Plus get a free face paint\, henna tattoo\, or balloon twist art from Lorzalyn Artistry. Don’t miss out!
URL:https://gpoguam.com/event/mes-chamoru-at-gpo-jack-larimer-lorzalyn-artistry/
LOCATION:GPO Food Court
CATEGORIES:Entertainment,Outreach Event
END:VEVENT
BEGIN:VEVENT
DTSTART;TZID=Pacific/Guam:20250315T160000
DTEND;TZID=Pacific/Guam:20250315T190000
DTSTAMP:20260422T004511
CREATED:20250225T051937Z
LAST-MODIFIED:20250225T052711Z
UID:16187-1742054400-1742065200@gpoguam.com
SUMMARY:Guam Memorial Hospital Volunteers Association Raffle Tickets Booth
DESCRIPTION:Get ready to win big! Raffle tickets will be sold at GPO starting March 4th\, every Tuesday\, Friday\, and Saturday from 4-7 PM near Tommy Hilfiger. Don’t miss out on your chance to enter!
URL:https://gpoguam.com/event/guam-memorial-hospital-volunteers-association-raffle-ticket-booth/
LOCATION:GPO Shopping Center
CATEGORIES:Outreach Event
END:VEVENT
BEGIN:VEVENT
DTSTART;TZID=Pacific/Guam:20250318T160000
DTEND;TZID=Pacific/Guam:20250318T190000
DTSTAMP:20260422T004511
CREATED:20250225T051451Z
LAST-MODIFIED:20250225T052016Z
UID:16179-1742313600-1742324400@gpoguam.com
SUMMARY:Guam Memorial Hospital Volunteers Association Raffle Tickets Booth
DESCRIPTION:Get ready to win big! Raffle tickets will be sold at GPO starting March 4th\, every Tuesday\, Friday\, and Saturday from 4-7 PM near Tommy Hilfiger. Don’t miss out on your chance to enter!
URL:https://gpoguam.com/event/guam-memorial-hospital-volunteers-association-2/
LOCATION:GPO Shopping Center
CATEGORIES:Outreach Event
END:VEVENT
BEGIN:VEVENT
DTSTART;TZID=Pacific/Guam:20250321T160000
DTEND;TZID=Pacific/Guam:20250321T190000
DTSTAMP:20260422T004511
CREATED:20250225T053139Z
LAST-MODIFIED:20250225T053148Z
UID:16203-1742572800-1742583600@gpoguam.com
SUMMARY:Guam Memorial Hospital Volunteers Association Raffle Tickets Booth
DESCRIPTION:Get ready to win big! Raffle tickets will be sold at GPO starting March 4th\, every Tuesday\, Friday\, and Saturday from 4-7 PM near Tommy Hilfiger. Don’t miss out on your chance to enter!
URL:https://gpoguam.com/event/16203/
LOCATION:GPO Shopping Center
CATEGORIES:Outreach Event
END:VEVENT
BEGIN:VEVENT
DTSTART;TZID=Pacific/Guam:20250322T160000
DTEND;TZID=Pacific/Guam:20250322T190000
DTSTAMP:20260422T004511
CREATED:20250225T053239Z
LAST-MODIFIED:20250225T053239Z
UID:16206-1742659200-1742670000@gpoguam.com
SUMMARY:Guam Memorial Hospital Volunteers Association Raffle Tickets Booth
DESCRIPTION:Get ready to win big! Raffle tickets will be sold at GPO starting March 4th\, every Tuesday\, Friday\, and Saturday from 4-7 PM near Tommy Hilfiger. Don’t miss out on your chance to enter!
URL:https://gpoguam.com/event/guam-memorial-hospital-volunteers-association-raffle-tickets-booth-5/
LOCATION:GPO Shopping Center
CATEGORIES:Outreach Event
END:VEVENT
BEGIN:VEVENT
DTSTART;TZID=Pacific/Guam:20250325T160000
DTEND;TZID=Pacific/Guam:20250325T190000
DTSTAMP:20260422T004511
CREATED:20250225T051535Z
LAST-MODIFIED:20250225T051535Z
UID:16181-1742918400-1742929200@gpoguam.com
SUMMARY:Guam Memorial Hospital Volunteers Association
DESCRIPTION:Get ready to win big! Raffle tickets will be sold at GPO starting March 4th\, every Tuesday\, Friday\, and Saturday from 4-7 PM near Tommy Hilfiger. Don’t miss out on your chance to enter!
URL:https://gpoguam.com/event/guam-memorial-hospital-volunteers-association-3/
LOCATION:GPO Shopping Center
CATEGORIES:Outreach Event
END:VEVENT
BEGIN:VEVENT
DTSTART;TZID=Pacific/Guam:20250328T160000
DTEND;TZID=Pacific/Guam:20250328T190000
DTSTAMP:20260422T004511
CREATED:20250225T053321Z
LAST-MODIFIED:20250225T053321Z
UID:16208-1743177600-1743188400@gpoguam.com
SUMMARY:Guam Memorial Hospital Volunteers Association Raffle Tickets Booth
DESCRIPTION:Get ready to win big! Raffle tickets will be sold at GPO starting March 4th\, every Tuesday\, Friday\, and Saturday from 4-7 PM near Tommy Hilfiger. Don’t miss out on your chance to enter!
URL:https://gpoguam.com/event/guam-memorial-hospital-volunteers-association-raffle-tickets-booth-6/
LOCATION:GPO Shopping Center
CATEGORIES:Outreach Event
END:VEVENT
BEGIN:VEVENT
DTSTART;TZID=Pacific/Guam:20250329T160000
DTEND;TZID=Pacific/Guam:20250329T190000
DTSTAMP:20260422T004511
CREATED:20250225T053400Z
LAST-MODIFIED:20250225T053400Z
UID:16210-1743264000-1743274800@gpoguam.com
SUMMARY:Guam Memorial Hospital Volunteers Association Raffle Tickets Booth
DESCRIPTION:Get ready to win big! Raffle tickets will be sold at GPO starting March 4th\, every Tuesday\, Friday\, and Saturday from 4-7 PM near Tommy Hilfiger. Don’t miss out on your chance to enter!
URL:https://gpoguam.com/event/guam-memorial-hospital-volunteers-association-raffle-tickets-booth-7/
CATEGORIES:Outreach Event
END:VEVENT
BEGIN:VEVENT
DTSTART;TZID=Pacific/Guam:20250401T160000
DTEND;TZID=Pacific/Guam:20250401T190000
DTSTAMP:20260422T004511
CREATED:20250225T051723Z
LAST-MODIFIED:20250225T052020Z
UID:16183-1743523200-1743534000@gpoguam.com
SUMMARY:Guam Memorial Hospital Volunteers Association Raffle Tickets Booth
DESCRIPTION:Get ready to win big! Raffle tickets will be sold at GPO starting March 4th\, every Tuesday\, Friday\, and Saturday from 4-7 PM near Tommy Hilfiger. Don’t miss out on your chance to enter!
URL:https://gpoguam.com/event/guam-memorial-hospital-volunteers-association-4/
LOCATION:GPO Shopping Center
CATEGORIES:Outreach Event
END:VEVENT
BEGIN:VEVENT
DTSTART;TZID=Pacific/Guam:20250404T160000
DTEND;TZID=Pacific/Guam:20250404T190000
DTSTAMP:20260422T004511
CREATED:20250225T053448Z
LAST-MODIFIED:20250225T053448Z
UID:16212-1743782400-1743793200@gpoguam.com
SUMMARY:Guam Memorial Hospital Volunteers Association Raffle Tickets Booth
DESCRIPTION:Get ready to win big! Raffle tickets will be sold at GPO starting March 4th\, every Tuesday\, Friday\, and Saturday from 4-7 PM near Tommy Hilfiger. Don’t miss out on your chance to enter!
URL:https://gpoguam.com/event/guam-memorial-hospital-volunteers-association-raffle-tickets-booth-8/
LOCATION:GPO Shopping Center
CATEGORIES:Outreach Event
END:VEVENT
BEGIN:VEVENT
DTSTART;TZID=Pacific/Guam:20250405T160000
DTEND;TZID=Pacific/Guam:20250405T190000
DTSTAMP:20260422T004511
CREATED:20250225T053536Z
LAST-MODIFIED:20250225T053536Z
UID:16215-1743868800-1743879600@gpoguam.com
SUMMARY:Guam Memorial Hospital Volunteers Association Raffle Tickets Booth
DESCRIPTION:Get ready to win big! Raffle tickets will be sold at GPO starting March 4th\, every Tuesday\, Friday\, and Saturday from 4-7 PM near Tommy Hilfiger. Don’t miss out on your chance to enter!
URL:https://gpoguam.com/event/guam-memorial-hospital-volunteers-association-raffle-tickets-booth-9/
LOCATION:GPO Shopping Center
CATEGORIES:Outreach Event
END:VEVENT
BEGIN:VEVENT
DTSTART;TZID=Pacific/Guam:20250408T160000
DTEND;TZID=Pacific/Guam:20250408T190000
DTSTAMP:20260422T004511
CREATED:20250225T051835Z
LAST-MODIFIED:20250225T052028Z
UID:16185-1744128000-1744138800@gpoguam.com
SUMMARY:Guam Memorial Hospital Volunteers Association Raffle Tickets Booth
DESCRIPTION:Get ready to win big! Raffle tickets will be sold at GPO starting March 4th\, every Tuesday\, Friday\, and Saturday from 4-7 PM near Tommy Hilfiger. Don’t miss out on your chance to enter!
URL:https://gpoguam.com/event/guam-memorial-hospital-volunteers-association-5/
LOCATION:GPO Shopping Center
CATEGORIES:Outreach Event
END:VEVENT
BEGIN:VEVENT
DTSTART;TZID=Pacific/Guam:20250411T160000
DTEND;TZID=Pacific/Guam:20250411T190000
DTSTAMP:20260422T004511
CREATED:20250225T053608Z
LAST-MODIFIED:20250225T053608Z
UID:16217-1744387200-1744398000@gpoguam.com
SUMMARY:Guam Memorial Hospital Volunteers Association Raffle Tickets Booth
DESCRIPTION:Get ready to win big! Raffle tickets will be sold at GPO starting March 4th\, every Tuesday\, Friday\, and Saturday from 4-7 PM near Tommy Hilfiger. Don’t miss out on your chance to enter!
URL:https://gpoguam.com/event/guam-memorial-hospital-volunteers-association-raffle-tickets-booth-10/
LOCATION:GPO Shopping Center
CATEGORIES:Outreach Event
END:VEVENT
BEGIN:VEVENT
DTSTART;TZID=Pacific/Guam:20250412T160000
DTEND;TZID=Pacific/Guam:20250412T190000
DTSTAMP:20260422T004511
CREATED:20250225T053636Z
LAST-MODIFIED:20250225T053648Z
UID:16219-1744473600-1744484400@gpoguam.com
SUMMARY:Guam Memorial Hospital Volunteers Association Raffle Tickets Booth
DESCRIPTION:Get ready to win big! Raffle tickets will be sold at GPO starting March 4th\, every Tuesday\, Friday\, and Saturday from 4-7 PM near Tommy Hilfiger. Don’t miss out on your chance to enter!
URL:https://gpoguam.com/event/16219/
LOCATION:GPO Shopping Center
CATEGORIES:Outreach Event
END:VEVENT
BEGIN:VEVENT
DTSTART;TZID=Pacific/Guam:20250415T160000
DTEND;TZID=Pacific/Guam:20250415T190000
DTSTAMP:20260422T004511
CREATED:20250225T053735Z
LAST-MODIFIED:20250225T053735Z
UID:16222-1744732800-1744743600@gpoguam.com
SUMMARY:Guam Memorial Hospital Volunteers Association Raffle Tickets Booth
DESCRIPTION:Get ready to win big! Raffle tickets will be sold at GPO starting March 4th\, every Tuesday\, Friday\, and Saturday from 4-7 PM near Tommy Hilfiger. Don’t miss out on your chance to enter!
URL:https://gpoguam.com/event/guam-memorial-hospital-volunteers-association-raffle-tickets-booth-11/
LOCATION:GPO Shopping Center
CATEGORIES:Outreach Event
END:VEVENT
BEGIN:VEVENT
DTSTART;TZID=Pacific/Guam:20250510T110000
DTEND;TZID=Pacific/Guam:20250510T160000
DTSTAMP:20260422T004511
CREATED:20250506T065323Z
LAST-MODIFIED:20250506T065452Z
UID:16424-1746874800-1746892800@gpoguam.com
SUMMARY:Mother's Day Eve at GPO
DESCRIPTION:Celebrate Mom This Mother’s Day! \n\n\n\nJoin us on May 10\, 2025\, from 11 AM to 4 PM at the Food Court & Shopping Center for a day full of fun and surprises:\n\n\n\n– Live performance by Walden & Violy\n\n\n\n– Free cotton candy. While supplies last.\n\n\n\n– Spend $20 to receive a free GPO reusable bag near the play area\, while supplies last. Receipts valid only for that day. Other exclusions may apply.\n\n\n\n– Free Pickleball demonstration & mini games\n\n\n\nCome early and enjoy the festivities! Let’s make this day special for all moms! \n\n\n\n#MothersDay #GuamEvents #FamilyFun #GuamPremierOutlets #gpoguam #guam
URL:https://gpoguam.com/event/16424/
LOCATION:GPO Shopping Center
CATEGORIES:Entertainment,Giveaway,Outreach Event
END:VEVENT
END:VCALENDAR