BEGIN:VCALENDAR
VERSION:2.0
PRODID:-//GPO Guam - ECPv6.0.12//NONSGML v1.0//EN
CALSCALE:GREGORIAN
METHOD:PUBLISH
X-ORIGINAL-URL:https://gpoguam.com
X-WR-CALDESC:Events for GPO Guam
REFRESH-INTERVAL;VALUE=DURATION:PT1H
X-Robots-Tag:noindex
X-PUBLISHED-TTL:PT1H
BEGIN:VTIMEZONE
TZID:Pacific/Guam
BEGIN:STANDARD
TZOFFSETFROM:+1000
TZOFFSETTO:+1000
TZNAME:ChST
DTSTART:20240101T000000
END:STANDARD
END:VTIMEZONE
BEGIN:VEVENT
DTSTART;TZID=Pacific/Guam:20240427T100000
DTEND;TZID=Pacific/Guam:20240427T140000
DTSTAMP:20260421T195900
CREATED:20240412T052106Z
LAST-MODIFIED:20240412T052106Z
UID:15823-1714212000-1714226400@gpoguam.com
SUMMARY:National Take Back Initiative
DESCRIPTION:
URL:https://gpoguam.com/event/national-take-back-initiative-2/
LOCATION:GPO Shopping Center
CATEGORIES:Outreach Event
END:VEVENT
END:VCALENDAR