BEGIN:VCALENDAR
VERSION:2.0
PRODID:-//GPO Guam - ECPv6.0.12//NONSGML v1.0//EN
CALSCALE:GREGORIAN
METHOD:PUBLISH
X-ORIGINAL-URL:https://gpoguam.com
X-WR-CALDESC:Events for GPO Guam
REFRESH-INTERVAL;VALUE=DURATION:PT1H
X-Robots-Tag:noindex
X-PUBLISHED-TTL:PT1H
BEGIN:VTIMEZONE
TZID:Pacific/Guam
BEGIN:STANDARD
TZOFFSETFROM:+1000
TZOFFSETTO:+1000
TZNAME:ChST
DTSTART:20230101T000000
END:STANDARD
END:VTIMEZONE
BEGIN:VEVENT
DTSTART;TZID=Pacific/Guam:20230902T100000
DTEND;TZID=Pacific/Guam:20230902T160000
DTSTAMP:20260422T050331
CREATED:20230901T053518Z
LAST-MODIFIED:20230901T053518Z
UID:15238-1693648800-1693670400@gpoguam.com
SUMMARY:GUMA TRADE FAIR
DESCRIPTION:
URL:https://gpoguam.com/event/guma-trade-fair/
LOCATION:GPO Shopping Center
CATEGORIES:Entertainment,Outreach Event,Pop-Up
END:VEVENT
BEGIN:VEVENT
DTSTART;TZID=Pacific/Guam:20230909T100000
DTEND;TZID=Pacific/Guam:20230909T140000
DTSTAMP:20260422T050331
CREATED:20230908T061641Z
LAST-MODIFIED:20230908T061641Z
UID:15247-1694253600-1694268000@gpoguam.com
SUMMARY:Granite Construction Job Fair
DESCRIPTION:Granite Construction will be hosting a job fair at our shopping center at the former Fragrance Outlet space \nnear A.B. Sports on September 9\, 2023 from 10am – 2pm. \n 
URL:https://gpoguam.com/event/granite-construction-job-fair/
CATEGORIES:Outreach Event
END:VEVENT
BEGIN:VEVENT
DTSTART;TZID=Pacific/Guam:20230916T080000
DTEND;TZID=Pacific/Guam:20230924T170000
DTSTAMP:20260422T050331
CREATED:20230908T061821Z
LAST-MODIFIED:20230908T061834Z
UID:15249-1694851200-1695574800@gpoguam.com
SUMMARY:Mobile Oil Guam Job Fair
DESCRIPTION:Mobile Oil Guam will be hosting a job fair at our shopping center near Calvin Klein on \nSeptember 16\, 2023 from 10am – 5pm. \n 
URL:https://gpoguam.com/event/mobile-oil-guam-job-fair/
LOCATION:GPO Shopping Center
CATEGORIES:Outreach Event
END:VEVENT
BEGIN:VEVENT
DTSTART;TZID=Pacific/Guam:20230923T120000
DTEND;TZID=Pacific/Guam:20230923T170000
DTSTAMP:20260422T050331
CREATED:20230912T035421Z
LAST-MODIFIED:20230912T035421Z
UID:15252-1695470400-1695488400@gpoguam.com
SUMMARY:Tommy Hilfiger Job Fair
DESCRIPTION:TOMMY HILFIGER JOB FAIR \nTommy Hlifiger is hiring!  \nApply online at  http://careeres.pvh.com/tommyhilfiger or visit Tommy Hilfiger in store on September 23 from 12pm- 5 pm \nat the Tommy Hilfiger Job Fair. \nPositions available are:  \n-Temporary/Regular Part Time Sales Associate  \n-Part Time Warehouse Driver  \n*A COPY OF RESUME IS REQUIRED.
URL:https://gpoguam.com/event/tommy-hilfiger-job-fair/
LOCATION:Tommy Hilfiger
CATEGORIES:Outreach Event
END:VEVENT
BEGIN:VEVENT
DTSTART;TZID=Pacific/Guam:20230930T100000
DTEND;TZID=Pacific/Guam:20230930T130000
DTSTAMP:20260422T050331
CREATED:20230928T235232Z
LAST-MODIFIED:20230928T235232Z
UID:15347-1696068000-1696078800@gpoguam.com
SUMMARY:Guam Sunshine Lions Club: Caring for the Sick and the Elderly
DESCRIPTION:The Guam Sunshine Lions Club will be fundraising raffle tickets to benefit the club’s mission of “Caring for the Sick and the Elderly”\, \nfor disaster relief\, hunger relief\, vision\, pediatric cancer\, environment\, and other community projects. \nSupport the Guam Sunshine Lions Club by purchasing a ticket at their ticket booth near the play area at our shopping center. \n 
URL:https://gpoguam.com/event/guam-sunshine-lions-club-caring-for-the-sick-and-the-elderly/
LOCATION:by Play Area
CATEGORIES:Outreach Event
END:VEVENT
END:VCALENDAR