BEGIN:VCALENDAR
VERSION:2.0
PRODID:-//GPO Guam - ECPv6.0.12//NONSGML v1.0//EN
CALSCALE:GREGORIAN
METHOD:PUBLISH
X-WR-CALNAME:GPO Guam
X-ORIGINAL-URL:https://gpoguam.com
X-WR-CALDESC:Events for GPO Guam
REFRESH-INTERVAL;VALUE=DURATION:PT1H
X-Robots-Tag:noindex
X-PUBLISHED-TTL:PT1H
BEGIN:VTIMEZONE
TZID:Pacific/Guam
BEGIN:STANDARD
TZOFFSETFROM:+1000
TZOFFSETTO:+1000
TZNAME:ChST
DTSTART:20230101T000000
END:STANDARD
END:VTIMEZONE
BEGIN:VEVENT
DTSTART;TZID=Pacific/Guam:20230502T100000
DTEND;TZID=Pacific/Guam:20230502T153000
DTSTAMP:20260422T112920
CREATED:20230418T002554Z
LAST-MODIFIED:20230418T002554Z
UID:15175-1683021600-1683041400@gpoguam.com
SUMMARY:DPHSS Mobile Health Clinic
DESCRIPTION:DPHSS Mobile Health Clinic: FREE Covid Vaccinations & Bivalent Boosters \nFREE Covid-19 Vaccinations & Bivalent boosters available on April 11\, 28\, and May 2 from 10am – 3:30pm near Bestseller. \nThe vaccines and boosters are available for 6 months and older. \nMINOR MUST BE ACCOMPANIED BY A PARENT OR LEGAL GUARDIAN. \nPARENT/LEGAL GUARDIAN MUST HAVE A GOVERNMENT-ISSUED PHOTO IDENTIFICATION. \nTHE PARENT/LEGAL GUARDIAN MUST PROVIDE THE MINOR’S BIRTH CERTIFICATE. \nGUARDIANS MUST PRESENT LEGAL GUARDIANSHIP OR POWER-OF-ATTORNEY DOCUMENTS.
URL:https://gpoguam.com/event/dphss-mobile-health-clinic-3/
LOCATION:Calvin Klein Accessories\, Tamuning\, Guam
CATEGORIES:Outreach Event
END:VEVENT
BEGIN:VEVENT
DTSTART;TZID=Pacific/Guam:20230520T100000
DTEND;TZID=Pacific/Guam:20230520T140000
DTSTAMP:20260422T112920
CREATED:20230418T005719Z
LAST-MODIFIED:20230418T005719Z
UID:15181-1684576800-1684591200@gpoguam.com
SUMMARY:National Safe Boating Week (NSBW)
DESCRIPTION:National Safe Boating Week  \nDate: May 20\, 2023 \nTime: 10am – 2pm \nLocation: GPO Center Court
URL:https://gpoguam.com/event/national-safe-boating-week-nsbw/
LOCATION:GPO Center Court\, Guam
CATEGORIES:Outreach Event
END:VEVENT
BEGIN:VEVENT
DTSTART;TZID=Pacific/Guam:20230520T110000
DTEND;TZID=Pacific/Guam:20230520T140000
DTSTAMP:20260422T112920
CREATED:20230418T010254Z
LAST-MODIFIED:20230418T010254Z
UID:15185-1684580400-1684591200@gpoguam.com
SUMMARY:Guam Animals In Need Adoption Event
DESCRIPTION:G.A.I.N.  will be hosting an adoption event on May 20\, 2023 from 11am – 2pm near Bestseller.
URL:https://gpoguam.com/event/guam-animals-in-need-adoption-event/
LOCATION:Calvin Klein Accessories\, Tamuning\, Guam
CATEGORIES:Outreach Event
END:VEVENT
BEGIN:VEVENT
DTSTART;TZID=Pacific/Guam:20230527T100000
DTEND;TZID=Pacific/Guam:20230527T180000
DTSTAMP:20260422T112920
CREATED:20230418T005953Z
LAST-MODIFIED:20230418T005953Z
UID:15183-1685181600-1685210400@gpoguam.com
SUMMARY:Department of Youth Affairs: Governor's Summer Youth Employment Program
DESCRIPTION:Department of Youth Affairs: Governor’s Summer Youth Employment Program \nDYA will be accepting job applications from youth\, ages 14-17 y/o on May 27\, 2023 from 10am – 6pm near Bestseller. \nThe program is open for youth interested in participating in the Governor’s Summer Youth Employment Program.
URL:https://gpoguam.com/event/department-of-youth-affairs-governors-summer-youth-employment-program/
LOCATION:Calvin Klein Accessories\, Tamuning\, Guam
CATEGORIES:Outreach Event
END:VEVENT
END:VCALENDAR