BEGIN:VCALENDAR
VERSION:2.0
PRODID:-//GPO Guam - ECPv6.0.12//NONSGML v1.0//EN
CALSCALE:GREGORIAN
METHOD:PUBLISH
X-ORIGINAL-URL:https://gpoguam.com
X-WR-CALDESC:Events for GPO Guam
REFRESH-INTERVAL;VALUE=DURATION:PT1H
X-Robots-Tag:noindex
X-PUBLISHED-TTL:PT1H
BEGIN:VTIMEZONE
TZID:Pacific/Guam
BEGIN:STANDARD
TZOFFSETFROM:+1000
TZOFFSETTO:+1000
TZNAME:ChST
DTSTART:20210101T000000
END:STANDARD
END:VTIMEZONE
BEGIN:VEVENT
DTSTART;VALUE=DATE:20210902
DTEND;VALUE=DATE:20210908
DTSTAMP:20260424T200342
CREATED:20210903T041748Z
LAST-MODIFIED:20210903T043751Z
UID:13850-1630540800-1631059199@gpoguam.com
SUMMARY:LABOR DAY WEEKEND SALE: FRAGRANCE OUTLET
DESCRIPTION:Labor Day Weekend Sale: Fragrance Outlet\n\nReceive up to 75% OFF select fragrances at Fragrance Outlet!\n\n\n\n*VALID UNTIL: SEPTEMBER 7\, 2021.\nEXCLUSIONS APPLY.
URL:https://gpoguam.com/event/labor-day-weekend-sale-fragrance-outlet/
LOCATION:Fragrance Outlet
CATEGORIES:Health & Beauty,Sales
END:VEVENT
END:VCALENDAR