BEGIN:VCALENDAR
VERSION:2.0
PRODID:-//GPO Guam - ECPv6.0.12//NONSGML v1.0//EN
CALSCALE:GREGORIAN
METHOD:PUBLISH
X-ORIGINAL-URL:https://gpoguam.com
X-WR-CALDESC:Events for GPO Guam
REFRESH-INTERVAL;VALUE=DURATION:PT1H
X-Robots-Tag:noindex
X-PUBLISHED-TTL:PT1H
BEGIN:VTIMEZONE
TZID:Pacific/Guam
BEGIN:STANDARD
TZOFFSETFROM:+1000
TZOFFSETTO:+1000
TZNAME:ChST
DTSTART:20200101T000000
END:STANDARD
END:VTIMEZONE
BEGIN:VEVENT
DTSTART;TZID=Pacific/Guam:20201028T110000
DTEND;TZID=Pacific/Guam:20201031T190000
DTSTAMP:20260425T121217
CREATED:20201029T060241Z
LAST-MODIFIED:20201029T060241Z
UID:13084-1603882800-1604170800@gpoguam.com
SUMMARY:FRAGRANCE OUTLET: HALLOWEEN FREE GIFT
DESCRIPTION:Fragrance Outlet: Halloween Free Gift \nNo tricks only treats this year provided to you by Fragrance Outlet.\nFragrance Outlet is giving a gift to every $100 and up purchase. Gifts are limited to 1 gift per customer\, while supplies last. \nPROMO VALID UNTIL: October 31\, 2020 \nFragrance Outlet is open 11am – 7pm daily.
URL:https://gpoguam.com/event/fragrance-outlet-halloween-free-gift/
LOCATION:Fragrance Outlet
CATEGORIES:Health & Beauty
END:VEVENT
END:VCALENDAR