BEGIN:VCALENDAR
VERSION:2.0
PRODID:-//GPO Guam - ECPv6.0.12//NONSGML v1.0//EN
CALSCALE:GREGORIAN
METHOD:PUBLISH
X-ORIGINAL-URL:https://gpoguam.com
X-WR-CALDESC:Events for GPO Guam
REFRESH-INTERVAL;VALUE=DURATION:PT1H
X-Robots-Tag:noindex
X-PUBLISHED-TTL:PT1H
BEGIN:VTIMEZONE
TZID:Pacific/Guam
BEGIN:STANDARD
TZOFFSETFROM:+1000
TZOFFSETTO:+1000
TZNAME:ChST
DTSTART:20210101T000000
END:STANDARD
END:VTIMEZONE
BEGIN:VEVENT
DTSTART;VALUE=DATE:20211125
DTEND;VALUE=DATE:20211126
DTSTAMP:20260423T001338
CREATED:20211122T005148Z
LAST-MODIFIED:20211122T005148Z
UID:14105-1637798400-1637884799@gpoguam.com
SUMMARY:COLD STONE CREAMERY: NEW PUMPKIN BREAD BATTER PIE
DESCRIPTION:Complete your Thanksgiving Feast with Cold Stone Creamery ice cream cakes and pies. Order in advance! \nTry their new Pumpkin Bread Batter Pie! Made with their new Pumpkin Bread Batter ice cream in a graham cracker pie crust topped with fluffy white frosting\, cinnamon & chocolate leaves. \nOrder online at ColdStoneCreamery.com or give them a call. \nGuam Premier Outlets\n649-4800/1
URL:https://gpoguam.com/event/cold-stone-creamery-new-pumpkin-bread-batter-pie-2/
LOCATION:Cold Stone Creamery
CATEGORIES:Food & Beverage
END:VEVENT
BEGIN:VEVENT
DTSTART;TZID=Pacific/Guam:20211125T100000
DTEND;TZID=Pacific/Guam:20211125T140000
DTSTAMP:20260423T001338
CREATED:20211122T004704Z
LAST-MODIFIED:20211122T004704Z
UID:14101-1637834400-1637848800@gpoguam.com
SUMMARY:COLD STONE CREAMERY: THANKSGIVING HOURS
DESCRIPTION:Cold Stone Creamery is open on Thanksgiving Day. Place your orders in advance for your Thanksgiving Feast!\n\n\nOrder online at ColdStoneCreamery.com or give them a call.\n\n\nGuam Premier Outlets\n649-4800/1
URL:https://gpoguam.com/event/cold-stone-creamery-thanksgiving-hours/
LOCATION:Cold Stone Creamery
CATEGORIES:Food & Beverage
END:VEVENT
END:VCALENDAR