BEGIN:VCALENDAR
VERSION:2.0
PRODID:-//GPO Guam - ECPv6.0.12//NONSGML v1.0//EN
CALSCALE:GREGORIAN
METHOD:PUBLISH
X-ORIGINAL-URL:https://gpoguam.com
X-WR-CALDESC:Events for GPO Guam
REFRESH-INTERVAL;VALUE=DURATION:PT1H
X-Robots-Tag:noindex
X-PUBLISHED-TTL:PT1H
BEGIN:VTIMEZONE
TZID:Pacific/Guam
BEGIN:STANDARD
TZOFFSETFROM:+1000
TZOFFSETTO:+1000
TZNAME:ChST
DTSTART:20210101T000000
END:STANDARD
END:VTIMEZONE
BEGIN:VEVENT
DTSTART;VALUE=DATE:20210902
DTEND;VALUE=DATE:20211001
DTSTAMP:20260423T071129
CREATED:20210922T001331Z
LAST-MODIFIED:20210922T001331Z
UID:13957-1630540800-1633046399@gpoguam.com
SUMMARY:HAAGEN-DAZS: CHOCOLATE DIPPED STRAWBERRIES
DESCRIPTION:Haagen-Dazs: Chocolate Dipped Strawberries \nExtended‼️ \nChocolate Dipped Strawberries:$3 Per Piece (24hr advance notice required for orders)
URL:https://gpoguam.com/event/haagen-dazs-chocolate-dipped-strawberries/
LOCATION:Haagen-Dazs
CATEGORIES:Food & Beverage,Sales
END:VEVENT
BEGIN:VEVENT
DTSTART;VALUE=DATE:20210902
DTEND;VALUE=DATE:20211001
DTSTAMP:20260423T071129
CREATED:20210922T002020Z
LAST-MODIFIED:20210922T002020Z
UID:13962-1630540800-1633046399@gpoguam.com
SUMMARY:HAAGEN-DAZS: FREE WAFFLE CONE
DESCRIPTION:Haagen-Dazs: FREE Waffle Cone\n\nReceive a 𝐅𝐑𝐄𝐄 𝐖𝐀𝐅𝐅𝐋𝐄 𝐂𝐎𝐍𝐄 with any purchase of any scoop of ice cream in a cup!\n\n\nVisit us today!
URL:https://gpoguam.com/event/haagen-dazs-free-waffle-cone/
LOCATION:Haagen-Dazs
CATEGORIES:Food & Beverage,Sales
END:VEVENT
BEGIN:VEVENT
DTSTART;VALUE=DATE:20210902
DTEND;VALUE=DATE:20211001
DTSTAMP:20260423T071129
CREATED:20210922T002742Z
LAST-MODIFIED:20210922T002825Z
UID:13965-1630540800-1633046399@gpoguam.com
SUMMARY:HAAGEN-DAZS: WEDNESDAY FONDUE SPECIAL
DESCRIPTION:Haagen-Dazs: Wednesday Fondue Special \n\nVisit us every Wednesday for our special deals!\n\n\n\nChocolate Fondue for Two: $24 (ONLY AT OUR GPO LOCATION)
URL:https://gpoguam.com/event/haagen-dazs-wednesday-fondue-special/
LOCATION:Haagen-Dazs
CATEGORIES:Food & Beverage,Sales
END:VEVENT
BEGIN:VEVENT
DTSTART;VALUE=DATE:20210902
DTEND;VALUE=DATE:20211001
DTSTAMP:20260423T071129
CREATED:20210922T004228Z
LAST-MODIFIED:20210922T004228Z
UID:13969-1630540800-1633046399@gpoguam.com
SUMMARY:HAAGEN-DAZS: WEDNESDAY DAZZLER SPECIAL
DESCRIPTION:Haagen-Dazs: Wednesday Dazzler Special \nDazzler Creations: $1 OFF regular price (Available at Micro Mall & GPO locations)
URL:https://gpoguam.com/event/haagen-dazs-wednesday-dazzler-special/
LOCATION:Haagen-Dazs
CATEGORIES:Food & Beverage,Sales
END:VEVENT
BEGIN:VEVENT
DTSTART;VALUE=DATE:20210902
DTEND;VALUE=DATE:20211001
DTSTAMP:20260423T071129
CREATED:20210922T004946Z
LAST-MODIFIED:20210922T005027Z
UID:13974-1630540800-1633046399@gpoguam.com
SUMMARY:HAAGEN-DAZS: TUESDAY COMBO SPECIAL
DESCRIPTION:Haagen-Dazs: Tuesday Special\n\n\nTaste extraordinäry with our local favorite creation the Banana Split and Coffee Affogato for $23 every Tuesday!\n\n\n(*𝐀𝐕𝐀𝐈𝐋𝐀𝐁𝐋𝐄 𝐀𝐓 𝐎𝐔𝐑 𝐌𝐈𝐂𝐑𝐎𝐍𝐄𝐒𝐈𝐀 𝐌𝐀𝐋𝐋 & 𝐆𝐏𝐎 𝐋𝐎𝐂𝐀𝐓𝐈𝐎𝐍𝐒. Offer is only valid on TUESDAYS)
URL:https://gpoguam.com/event/haagen-dazs-tuesday-special/
LOCATION:Haagen-Dazs
CATEGORIES:Food & Beverage,Sales
END:VEVENT
BEGIN:VEVENT
DTSTART;VALUE=DATE:20210902
DTEND;VALUE=DATE:20211001
DTSTAMP:20260423T071129
CREATED:20210922T005339Z
LAST-MODIFIED:20210922T005339Z
UID:13978-1630540800-1633046399@gpoguam.com
SUMMARY:HAAGEN-DAZS: MONDAY COMBO SPECIAL
DESCRIPTION:Haagen-Dazs: Monday Combo Special \nOrder a set of our famous Banana Crépe Encounter and a Parfait Crunch of your choice at a sweet deal! 😋 \n(*𝐀𝐕𝐀𝐈𝐋𝐀𝐁𝐋𝐄 𝐀𝐓 𝐎𝐔𝐑 𝐌𝐈𝐂𝐑𝐎𝐍𝐄𝐒𝐈𝐀 𝐌𝐀𝐋𝐋 & 𝐆𝐏𝐎 𝐋𝐎𝐂𝐀𝐓𝐈𝐎𝐍𝐒. Offer is only valid on MONDAYS)
URL:https://gpoguam.com/event/haagen-dazs-monday-combo-special/
LOCATION:Haagen-Dazs
CATEGORIES:Food & Beverage,Sales
END:VEVENT
BEGIN:VEVENT
DTSTART;VALUE=DATE:20210914
DTEND;VALUE=DATE:20210915
DTSTAMP:20260423T071129
CREATED:20210912T234635Z
LAST-MODIFIED:20210913T004104Z
UID:13928-1631577600-1631663999@gpoguam.com
SUMMARY:SWEET SUMMER DEALS: AJISEN RAMEN BOGO FREE RAMEN
DESCRIPTION:🌞 ＧＰＯ Ｓｗｅｅｔ Ｓｕｍｍｅｒ Ｄｅａｌ 🌞\n\nAvailable for tomorrow only (September 14\, 2021)\,  get the exclusive\n𝐁𝐮𝐲 𝐎𝐧𝐞 𝐆𝐞𝐭 𝐎𝐧𝐞 𝐅𝐑𝐄𝐄 𝐑𝐚𝐦𝐞𝐧\nGPO Summer Deal at Ajisen Ramen!\n\n*ᴏꜰꜰᴇʀ ᴠᴀʟɪᴅ ꜰᴏʀ ɢᴘᴏ ᴅɪɴᴇ-ɪɴ ᴏʀᴅᴇʀꜱ ᴏɴʟʏ. ᴍᴜꜱᴛ ᴘʀᴇꜱᴇɴᴛ ɢᴘᴏ ꜱᴡᴇᴇᴛ ꜱᴜᴍᴍᴇʀ ᴘʀᴏᴍᴏᴛɪᴏɴ ᴀᴅ ᴛᴏ ʀᴇᴅᴇᴇᴍ ᴅɪꜱᴄᴏᴜɴᴛ.\nʀᴀᴍᴇɴ ᴍᴜꜱᴛ ʙᴇ ᴇQᴜᴀʟ ᴏʀ ᴏꜰ ʟᴇꜱꜱᴇʀ ᴠᴀʟᴜᴇ. ʟɪᴍɪᴛ ᴏꜰ 1 ᴘᴇʀ ᴛᴀʙʟᴇ. ᴍᴀʏ ɴᴏᴛ ʙᴇ ᴄᴏᴍʙɪɴᴇᴅ ᴡɪᴛʜ ᴀɴʏ ᴏᴛʜᴇʀ ᴅɪꜱᴄᴏᴜɴᴛ ᴏʀ ᴘʀᴏᴍᴏᴛɪᴏɴ.
URL:https://gpoguam.com/event/sweet-summer-deals-ajisen-ramne-bogo-free-ramen/
LOCATION:Ajisen Ramen\, Tamuning
CATEGORIES:Food & Beverage,Sales
END:VEVENT
BEGIN:VEVENT
DTSTART;TZID=Pacific/Guam:20210919T110000
DTEND;TZID=Pacific/Guam:20210919T170000
DTSTAMP:20260423T071129
CREATED:20210917T003350Z
LAST-MODIFIED:20210917T003350Z
UID:13945-1632049200-1632070800@gpoguam.com
SUMMARY:SWEET SUMMER DEALS: WENDY'S FREE LARGE COMBO UPGRADE
DESCRIPTION:Sweet Summer Deals: Wendy’s FREE Large Combo Upgrade\n\n\nAvailable for tomorrow only\, 𝗦𝗲𝗽𝘁𝗲𝗺𝗯𝗲𝗿 𝟭𝟵 𝗳𝗿𝗼𝗺 𝟭𝟭𝗔𝗠 – 𝟱𝗣𝗠\,\nget the exclusive 𝐅𝐑𝐄𝐄 𝐥𝐚𝐫𝐠𝐞 𝐮𝐩𝐠𝐫𝐚𝐝𝐞 𝐭𝐨 𝐚 𝐥𝐚𝐫𝐠𝐞 𝟒𝟎𝐨𝐳 𝐟𝐨𝐮𝐧𝐭𝐚𝐢𝐧 𝐝𝐫𝐢𝐧𝐤 𝐚𝐧𝐝 𝐥𝐚𝐫𝐠𝐞 𝐟𝐫𝐢𝐞𝐬\nSummer Deal when you purchase a Pretzel Bacon Pub Cheeseburger or Chicken combo at the Wendy’s Tamuning location.\n\n*OFFER ONLY AVAILABLE AT THE WENDY’S TAMUNING LOCATION.
URL:https://gpoguam.com/event/sweet-summer-deals-wendys-free-large-combo-upgrade/
LOCATION:Wendy’s
CATEGORIES:Food & Beverage,Sales
END:VEVENT
BEGIN:VEVENT
DTSTART;VALUE=DATE:20210920
DTEND;VALUE=DATE:20210924
DTSTAMP:20260423T071129
CREATED:20210917T011344Z
LAST-MODIFIED:20210917T011344Z
UID:13948-1632096000-1632441599@gpoguam.com
SUMMARY:SWEET SUMMER DEALS: PORT OF MOCHA BUY 1 GET 1 50% OFF
DESCRIPTION:Sweet Summer Deals: Port of Mocha BOGO 50% OFF\n\nAvailable from 𝗦𝗲𝗽𝘁𝗲𝗺𝗯𝗲𝗿 𝟮𝟬𝘁𝗵 – 𝗦𝗲𝗽𝘁𝗲𝗺𝗯𝗲𝗿  𝟮𝟯𝗿𝗱\,\nget the exclusive  𝐁𝐮𝐲 𝟏 𝐆𝐞𝐭 𝟏 𝟓𝟎% 𝐎𝐅𝐅 𝐨𝐧 𝐚𝐥𝐥 𝐏𝐮𝐦𝐩𝐤𝐢𝐧 𝐒𝐩𝐢𝐜𝐞𝐝 𝐛𝐞𝐯𝐞𝐫𝐚𝐠𝐞𝐬 Summer Deal at Port of Mocha.\n\n– 𝐏𝐮𝐦𝐩𝐤𝐢𝐧 𝐂𝐫𝐞𝐚𝐦 (𝐇𝐨𝐭/𝐈𝐜𝐞)\n– 𝐏𝐮𝐦𝐩𝐤𝐢𝐧 𝐒𝐩𝐢𝐜𝐞𝐝 𝐂𝐚𝐫𝐚𝐦𝐞𝐥 𝐌𝐚𝐜𝐜𝐡𝐢𝐚𝐭𝐨 (𝐇𝐨𝐭/𝐈𝐜𝐞)\n– 𝐏𝐮𝐦𝐩𝐤𝐢𝐧 𝐒𝐩𝐢𝐜𝐞𝐝 𝐋𝐚𝐭𝐭𝐞 (𝐇𝐨𝐭/𝐈𝐜𝐞)\n\n\n*ᴏꜰꜰᴇʀ ᴀᴠᴀɪʟᴀʙʟᴇ ᴏɴʟʏ ᴀᴛ ɢᴘᴏ ʟᴏᴄᴀᴛɪᴏɴ. ᴍᴜꜱᴛ ᴘʀᴇꜱᴇɴᴛ ɢᴘᴏ ꜱᴡᴇᴇᴛ ꜱᴜᴍᴍᴇʀ ᴘʀᴏᴍᴏᴛɪᴏɴ ᴀᴅ ᴛᴏ ʀᴇᴅᴇᴇᴍ ᴅɪꜱᴄᴏᴜɴᴛ.
URL:https://gpoguam.com/event/sweet-summer-deals-port-of-mocha-buy-1-get-1-50-off/
LOCATION:Port of Mocha
CATEGORIES:Food & Beverage,Sales
END:VEVENT
BEGIN:VEVENT
DTSTART;VALUE=DATE:20210920
DTEND;VALUE=DATE:20211001
DTSTAMP:20260423T071129
CREATED:20210922T005909Z
LAST-MODIFIED:20210922T005909Z
UID:13981-1632096000-1633046399@gpoguam.com
SUMMARY:KENTUCKY FRIED CHICKEN: FRIED CHICKEN SANDWICH
DESCRIPTION:Kentucky Fried Chicken: Fried Chicken Sandwich \nFried Chicken Sandwich + Spicy Fried Chicken Sandwich is BACK FOR GOOD! Grab this delicious duo at KFC at our GPO location!
URL:https://gpoguam.com/event/kentucky-fried-chicken-fried-chicken-sandwich/
LOCATION:KFC
CATEGORIES:Food & Beverage
END:VEVENT
BEGIN:VEVENT
DTSTART;VALUE=DATE:20210922
DTEND;VALUE=DATE:20211001
DTSTAMP:20260423T071129
CREATED:20210922T032934Z
LAST-MODIFIED:20210922T032934Z
UID:13984-1632268800-1633046399@gpoguam.com
SUMMARY:WENDY'S: NEW BIG BACON CHEDDER
DESCRIPTION:  \n  \nWendy’s: New Big Bacon Chedder \nWendy’s New Big Bacon Cheddar is finally here on Guam! \nIt’s got everything you could possibly want in a cheeseburger! \nCreamy cheddar cheese\, Applewood smoked bacon\, sweet bacon sauce and crispy onions all on a toasted cheddar bun! \nHurry and try one today! Only at @wendysguam…#WeGotYou!
URL:https://gpoguam.com/event/wendys-new-big-bacon-chedder/
LOCATION:Wendy’s
CATEGORIES:Food & Beverage
END:VEVENT
END:VCALENDAR