BEGIN:VCALENDAR
VERSION:2.0
PRODID:-//GPO Guam - ECPv6.0.12//NONSGML v1.0//EN
CALSCALE:GREGORIAN
METHOD:PUBLISH
X-ORIGINAL-URL:https://gpoguam.com
X-WR-CALDESC:Events for GPO Guam
REFRESH-INTERVAL;VALUE=DURATION:PT1H
X-Robots-Tag:noindex
X-PUBLISHED-TTL:PT1H
BEGIN:VTIMEZONE
TZID:Pacific/Guam
BEGIN:STANDARD
TZOFFSETFROM:+1000
TZOFFSETTO:+1000
TZNAME:ChST
DTSTART:20210101T000000
END:STANDARD
END:VTIMEZONE
BEGIN:VEVENT
DTSTART;VALUE=DATE:20210205
DTEND;VALUE=DATE:20210301
DTSTAMP:20260424T173436
CREATED:20210216T064612Z
LAST-MODIFIED:20210216T064612Z
UID:13419-1612483200-1614556799@gpoguam.com
SUMMARY:IT&E: DOUBLE DATA
DESCRIPTION:IT&E: Double Data \n\nDOUBLE DATA has been EXTENDED!! Get twice the amount of data on select postpaid plans at the same low price. Don’t forget to ask us how you can earn 500 PACIFICPOINTS on top of this offer!\n\n\nEnjoy double data on the $30 or $50 monthly Single or\nBring Your Phone plans. That’s up to 40GB of data every month for as low as $50 a month!\n\n\nSign up now and read more about this offer on https://store.ite.net/double-data/.\n\n\nMake the switch! Keep your number and port over to IT&E on any Postpaid plan with a contract term and get $50 applied to your account\, plus your activation fee waived!\n\n\nClick the link below for a helpful checklist when porting over.\nhttps://store.ite.net/…/01/bringing-your-number-with-you/\n\n\nPromotional offer available until 02/28.
URL:https://gpoguam.com/event/ite-double-data-2/
LOCATION:by IT&E
CATEGORIES:Communications,Sales
END:VEVENT
BEGIN:VEVENT
DTSTART;VALUE=DATE:20210206
DTEND;VALUE=DATE:20210301
DTSTAMP:20260424T173436
CREATED:20210216T052122Z
LAST-MODIFIED:20210216T052122Z
UID:13412-1612569600-1614556799@gpoguam.com
SUMMARY:IT&E: EPIC IS HERE
DESCRIPTION:IT&E: Galaxy s21+ | S21 Ultra \n\nTurn your heads to IT&E because the everyday epic Samsung Galaxy S21+ and S21 Ultra are NOW AVAILABLE\nat IT&E stores and online.\n\n\nGet yours on a contract term and on ANY plan and automatically EARN 500 \nPACIFICPOINTS\nto your account. \nRedeem them towards IT&E\, \nFoody’s Shell Guam\nor Shell transactions/ purchases or convert them to United miles! \n\n\nShop online at https://store.ite.net/smartphones-with-contracts…/…\nand get your activation fee WAIVED plus FREE DELIVERY to your workplace!
URL:https://gpoguam.com/event/ite-epic-is-here/
LOCATION:by IT&E
CATEGORIES:Communications
END:VEVENT
BEGIN:VEVENT
DTSTART;VALUE=DATE:20210401
DTEND;VALUE=DATE:20210501
DTSTAMP:20260424T173436
CREATED:20210405T060613Z
LAST-MODIFIED:20210405T060613Z
UID:13560-1617235200-1619827199@gpoguam.com
SUMMARY:IT&E: SNATCH\, SAVE & WIN
DESCRIPTION:IT&E: Snatch\, Save\, & Win \nFREE Samsung Galaxy Buds Live\, Samsung UV Sterilizer\, Samsung Air Purifier or Samsung Tablet A 8.0. It’s hunting season and the deals are hatching here at IT&E all month long!\nSNATCH any Samsung S20 or Note20 series\, SAVE with ONE MONTH FREE service and WIN one of four Samsung high end accessories when you get entered into raffle.\nOne WINNER will be chosen weekly throughout April. Be automatically entered in the giveaway when you sign up or renew your contract on the $80 monthly plan. Plus\, you’ll get one month credited towards your account and PACIFICPOINTS added to your rewards account.\nOffer available until 04/30. \n\nhttps://store.ite.net/snatch-save-win/
URL:https://gpoguam.com/event/ite-snatch-save-win/
LOCATION:by IT&E
CATEGORIES:Communications
END:VEVENT
BEGIN:VEVENT
DTSTART;VALUE=DATE:20210621
DTEND;VALUE=DATE:20210701
DTSTAMP:20260424T173436
CREATED:20210621T023239Z
LAST-MODIFIED:20210621T023239Z
UID:13717-1624233600-1625097599@gpoguam.com
SUMMARY:IT&E: BEAM
DESCRIPTION:IT&E: Beam \nGet 50% OFF your home internet for the first 6 months\, 7-day trial\, FREE installation\, & a FREE Roku Streaming Stick when you sign up for a 24-month contract. \nWith BEAM\, you can enjoy 75 Mbps for just $37.50\, for the first 6 months. Save up to $600 a year compared to your current Internet provider. \nVisit our GPO location to sign up.
URL:https://gpoguam.com/event/ite-beam/
LOCATION:by IT&E
CATEGORIES:Communications,Sales
END:VEVENT
BEGIN:VEVENT
DTSTART;VALUE=DATE:20210701
DTEND;VALUE=DATE:20210801
DTSTAMP:20260424T173436
CREATED:20210713T041207Z
LAST-MODIFIED:20210713T041207Z
UID:13745-1625097600-1627775999@gpoguam.com
SUMMARY:IT&E: POWER SAVINGS
DESCRIPTION:IT&E: Power Savings\n\nGet 15% OFF the Samsung Galaxy S20 Ultra and Note20 Ultra when you purchase these devices on the Unlimited Data Plan! It’s the ultimate power couple that will change how you work and play.\n\n\nVisit the IT&E store at our GPO location to get yours today.\nOr skip the line by shopping online at https://store.ite.net/product/samsung-galaxy-s20-ultra/ and enjoy FREE delivery to eligible locations.
URL:https://gpoguam.com/event/ite-power-savings/
LOCATION:by IT&E
CATEGORIES:Communications,Sales
END:VEVENT
BEGIN:VEVENT
DTSTART;VALUE=DATE:20210801
DTEND;VALUE=DATE:20211001
DTSTAMP:20260424T173436
CREATED:20210818T043140Z
LAST-MODIFIED:20210818T043503Z
UID:13842-1627776000-1633046399@gpoguam.com
SUMMARY:IT&E: UNBELIEVABLE SAVINGS
DESCRIPTION:IT&E: Unbelievable Savings\n\n\nChange the way you capture and share your world with the Samsung Galaxy S20 Ultra – now available at incredible prices at IT&E\n\n\nSave up to $170 on this device when you sign up on the UNLIMITED Data Plan; or trade in your old device and you could get the S20 Ultra for FREE! Plus\, enjoy savings when you get the S20 Ultra on other plans.\n\n\nHurry\, this deal is only available until September 30!\nCheck out all the different ways you can save on the S20 Ultra at https://store.ite.net/product/samsung-galaxy-s20-ultra/.
URL:https://gpoguam.com/event/ite-unbelievable-savings/
LOCATION:by IT&E
CATEGORIES:Communications,Sales
END:VEVENT
BEGIN:VEVENT
DTSTART;VALUE=DATE:20210921
DTEND;VALUE=DATE:20211001
DTSTAMP:20260424T173436
CREATED:20210921T034123Z
LAST-MODIFIED:20210921T034123Z
UID:13955-1632182400-1633046399@gpoguam.com
SUMMARY:IT&E: NEW MOTO G STYLUS BY MOTOROLA
DESCRIPTION:📢 IT&E: New Device Alert 📢\n\n\n \n\n\nThe Moto G Stylus by Motorola has all the features you love in a smart phone at an affordable price.\n\n\n \n\n\nCheck out it out:\n\n\n \n\n\n✔️ Built-in stylus for creating\, designing and editing on your favorite apps\n\n\n \n\n\n✔️48 MP triple camera system with night mode\n\n\n \n\n\n✔️400mAh battery\n\n\n \n\n\n✔️6.4-inch Full HD+ display screen\n\n\n \n\n\n✔️128 GB of storage\n\n\n \n\n\nPlus\, it uses the Android OS\, has a headphone jack and dual stereo speakers tuned by Dolby.\n\n\n \n\n\nGet the Moto G Stylus for FREE on the Unlimited Plan at https://store.ite.net/product/motorola-moto-g-stylus/.
URL:https://gpoguam.com/event/ite-new-moto-g-stylus-by-motorola/
LOCATION:by IT&E
CATEGORIES:Communications
END:VEVENT
BEGIN:VEVENT
DTSTART;VALUE=DATE:20220101
DTEND;VALUE=DATE:20221201
DTSTAMP:20260424T173436
CREATED:20220117T064306Z
LAST-MODIFIED:20221215T062652Z
UID:14254-1640995200-1669852799@gpoguam.com
SUMMARY:ENJOY YOUR FREE BIRTHDAY PRESENT FROM GPO!
DESCRIPTION:ENJOY YOUR FREE BIRTHDAY PRESENT FROM GPO!\nTo celebrate GPO’s 25th Anniversary\, we want to give you a birthday present! Visit our Information Booth on the day of your birthday to claim your $25 birthday coupon that can be used at participating stores. We’re only giving away 10 per day\, so stop by early! Promotion start date: January 1\, 2022 \nMust present a valid ID with date of birth. No minimum purchase necessary. This birthday coupon has no cash value. Must be 18 years or older to redeem. Only valid for seven (7) days after receiving this gift certificate with no extensions. Non-transferable. Employees and owners of GPO stores are not eligible. \n\n\n\nPARTICIPATING STORES AND RESTAURANTS\n\n\n\n\n\n\n\n\n\n\n\n\n\n\n  \n\n\n\n\n\n\n\n\n\n\n\n\n\n\n\nAB Sports by Nike\nABC Stores\nAji Ichi\nAjisen\nBestseller Book Store\nCalvin Klein\nCalvin Klein Accessories\nCharley’s\nChatime\nCinnabon\nCold Stone Creamery\nCup & Saucer\nDocomo Pacific\nEco Inventions\nFamous Footwear\nFragrance Outlet\nGuess\nHäagan Dazs\nHair Town\nHong Kong Wok\nImperial Garden\nIT&E\nKing’s\nKFC\nLevi’s outlet\nLocal Fever\nLoco Boutique\nLonghorn Steakhouse\nMemories of Guam\nMongo Mongo\nNike Sports\nNatural by Nina\nNew York Nails\nPanda Express\nPearl House\nPink House\nPort of Mocha\nRuby Tuesday\nSbarro\nSkechers\nSubway\nTaco Bell\nTech Savvy\nTime & Style\nTommy Hilfiger\nTommy Hilfiger Kids\nTwinkles\nVitamin World\nVince Jewelers\nWendy’s
URL:https://gpoguam.com/event/enjoy-your-free-birthday-present-from-gpo/
CATEGORIES:Accessories,Communications,Fashion,Food & Beverage,Health & Beauty,Variety
END:VEVENT
END:VCALENDAR