BEGIN:VCALENDAR
VERSION:2.0
PRODID:-//GPO Guam - ECPv6.0.12//NONSGML v1.0//EN
CALSCALE:GREGORIAN
METHOD:PUBLISH
X-WR-CALNAME:GPO Guam
X-ORIGINAL-URL:https://gpoguam.com
X-WR-CALDESC:Events for GPO Guam
REFRESH-INTERVAL;VALUE=DURATION:PT1H
X-Robots-Tag:noindex
X-PUBLISHED-TTL:PT1H
BEGIN:VTIMEZONE
TZID:Pacific/Guam
BEGIN:STANDARD
TZOFFSETFROM:+1000
TZOFFSETTO:+1000
TZNAME:ChST
DTSTART:20200101T000000
END:STANDARD
END:VTIMEZONE
BEGIN:VEVENT
DTSTART;VALUE=DATE:20210101
DTEND;VALUE=DATE:20210201
DTSTAMP:20260420T212313
CREATED:20210113T014403Z
LAST-MODIFIED:20210113T014403Z
UID:13328-1609459200-1612137599@gpoguam.com
SUMMARY:IT&E: NEW YEAR NEW NETWORK
DESCRIPTION:IT&E: New Year New Network\n\nNew SIM\, who this?! Say goodbye to your SIM and services that you had in 2020 and say hello to a new Prepaid SIM and services in 2021.\n\nPrepaid SIM swaps are back at IT&E until 01/31.\n\n\n\nBring your active non-IT&E SIM to any IT&E location and walk away with a FREE IT&E Prepaid SIM that includes $10 of prepaid load.\n\n\n\nMake the switch this year and check out all Prepaid plans online at https://store.ite.net/switch-over/.
URL:https://gpoguam.com/event/ite-new-year-new-network/
LOCATION:by IT&E
CATEGORIES:Communications,Sales
END:VEVENT
BEGIN:VEVENT
DTSTART;VALUE=DATE:20210101
DTEND;VALUE=DATE:20210201
DTSTAMP:20260420T212313
CREATED:20210113T013614Z
LAST-MODIFIED:20210113T013614Z
UID:13325-1609459200-1612137599@gpoguam.com
SUMMARY:IT&E: DOUBLE DATA
DESCRIPTION:IT&E: Double Data \n\nDOUBLE DATA is back!! Get twice the amount of data on select postpaid plans at the same low price.\n\n\nEnjoy double data on the $30 or $50 monthly Single or Bring Your Phone plans. That’s up to 40GB of data every month for as low as $50 a month!\n\n\nSign up now! https://store.ite.net/double-data/\n\n\nMake the switch! Keep your number and port over to IT&E on any Postpaid plan with a contract term and get $50 applied to your account\, plus your $15 activation fee waived!\n\n\nClick the link below for a helpful checklist when porting over.\nhttps://store.ite.net/…/01/bringing-your-number-with-you/\n\n\nPromotional offer available until 01/31 only.
URL:https://gpoguam.com/event/ite-double-data/
LOCATION:by IT&E
CATEGORIES:Communications,Sales
END:VEVENT
BEGIN:VEVENT
DTSTART;VALUE=DATE:20210101
DTEND;VALUE=DATE:20210201
DTSTAMP:20260420T212313
CREATED:20210113T012931Z
LAST-MODIFIED:20210113T012931Z
UID:13322-1609459200-1612137599@gpoguam.com
SUMMARY:IT&E: PREPAID SAVINGS
DESCRIPTION:IT&E: Prepaid Savings\n\nStart off the year with Prepaid savings!\nGet the Samsung A11 at prepaid for $179 or Samsung A21s for $244\nuntil January 31st and we’ll throw in\n7 days of UNLIMITED Prepaid services to include voice\, sms and data plus calls to the U.S. for FREE!\n\n\n\nShop for your new handset online at https://store.ite.net/prepaid-phones-with-no-contract/.\nPlus\, when you shop online\, you can avail of same day pickup when you pay the $10 fee.
URL:https://gpoguam.com/event/ite-prepaid-savings/
LOCATION:by IT&E
CATEGORIES:Communications,Sales
END:VEVENT
BEGIN:VEVENT
DTSTART;VALUE=DATE:20201006
DTEND;VALUE=DATE:20201104
DTSTAMP:20260420T212313
CREATED:20201006T042452Z
LAST-MODIFIED:20201006T042452Z
UID:13067-1601942400-1604447999@gpoguam.com
SUMMARY:DOCOMO: PREPAID FOR LESS!
DESCRIPTION:Docomo Prepaid For Less \n\nHi Prepaid friends\, stay connected and save more too!\nFrom now thru November 3rd\, take advantage of endless data\, talk + text on our popular 1-DAY LTE plan at a discounted rate of only $2.50 per day.\nText HS1 to 3282 to top-up today!\n\n\nThe Endless Prepaid 4G LTE Plan is applicable to local usage only. Some conditions apply.
URL:https://gpoguam.com/event/docomo-prepaid-for-less/
LOCATION:Docomo Pacific\, Tamuning
CATEGORIES:Communications,Sales
END:VEVENT
BEGIN:VEVENT
DTSTART;VALUE=DATE:20201001
DTEND;VALUE=DATE:20201101
DTSTAMP:20260420T212313
CREATED:20201006T041913Z
LAST-MODIFIED:20201006T041913Z
UID:13064-1601510400-1604188799@gpoguam.com
SUMMARY:DOCOMO: SAMSUNG GALAXY NOTE20 5G NETWORK
DESCRIPTION:Docomo Pacific: Samsung Galaxy  \nNot just a smartphone. The Samsung Galaxy Note20 | 20 Ultra is the Powerphone with fast performance and even better battery life. \nComing very soon to DOCOMO PACIFIC\, the first and only 5G network in the Marianas. #Note20 #notethedifferenceon5G #Firstto5G
URL:https://gpoguam.com/event/docomo-samsung-galaxy-note20-5g-network/
LOCATION:Docomo Pacific\, Tamuning
CATEGORIES:Communications
END:VEVENT
BEGIN:VEVENT
DTSTART;VALUE=DATE:20201001
DTEND;VALUE=DATE:20201101
DTSTAMP:20260420T212313
CREATED:20201006T033218Z
LAST-MODIFIED:20201006T033318Z
UID:13060-1601510400-1604188799@gpoguam.com
SUMMARY:IT&E: NEW DATA SERVICES AVAILABLE
DESCRIPTION:IT&E: New Data Services Available \n\nEnjoy bigger data buckets with no additional charge! Share the exciting news with our new MIFI rates!\n\n\nSelect one of our upgraded MIFI plans and get a FREE MIFI on a 2 year contract.\n\n\n20GB for $30\n50GB for $50\n\n\nTake your internet anywhere. Simply power on your MIFI device and connect your mobile devices\, laptops or tabs to enjoy internet services. Shop and activate services online at https://store.ite.net/postpaid2/#hotspot.
URL:https://gpoguam.com/event/ite-new-date-services-available/
LOCATION:by IT&E
CATEGORIES:Communications
END:VEVENT
BEGIN:VEVENT
DTSTART;VALUE=DATE:20201001
DTEND;VALUE=DATE:20201101
DTSTAMP:20260420T212313
CREATED:20201006T032614Z
LAST-MODIFIED:20201006T032614Z
UID:13058-1601510400-1604188799@gpoguam.com
SUMMARY:IT&E UV STERILIZATION BOX AVAILABLE
DESCRIPTION:IT&E UV SterIlization Box \n\n\nYou can have extra PROtection with a UV Sterilization Box for your phone.\n\nNot to worry\, this accessory comes as a FREE gift when you purchase any Galaxy S20 model and sign up on the UNLIMITED plan now until end of October.\n\n\n\nYou can also PROTECT your new phone with a case or tempered glass at 10% OFF. Just shop online and use promo code “SAVE10” upon checkout.\n\n\n\nAnd\, get FREE DELIVERY to your workplace when you make a purchase of $75 or more on our Online Store at https://store.ite.net/oct-promo/.
URL:https://gpoguam.com/event/ite-uv-sterilization-box-available/
LOCATION:by IT&E
CATEGORIES:Communications
END:VEVENT
BEGIN:VEVENT
DTSTART;VALUE=DATE:20201001
DTEND;VALUE=DATE:20201101
DTSTAMP:20260420T212313
CREATED:20201006T013606Z
LAST-MODIFIED:20201006T013606Z
UID:13048-1601510400-1604188799@gpoguam.com
SUMMARY:IT&E: 15% OFF NOTE 20 (ONLINE ONLY)
DESCRIPTION:IT&E: 15% OFF Note 20 (Online Only) \nTake advantage of IT&E 15% OFF discount available only online at \nhtttps://store.ite.net/smartphones-with-contracts-collection/#samsung \nplus with purchase you receive FREE delivery to your workplace & the activation fee WAIVED!
URL:https://gpoguam.com/event/ite-15-off-note-20-online-only/
LOCATION:by IT&E
CATEGORIES:Communications,Sales
END:VEVENT
BEGIN:VEVENT
DTSTART;TZID=Pacific/Guam:20200925T120000
DTEND;TZID=Pacific/Guam:20200925T190000
DTSTAMP:20260420T212313
CREATED:20200925T024259Z
LAST-MODIFIED:20200925T024413Z
UID:13006-1601035200-1601060400@gpoguam.com
SUMMARY:We are Open!
DESCRIPTION:We are Open! \nHafa Adai! We are Open! For today only we will be open from 12pm – 7pm. Regular mall hours will resume tomorrow 11am – 7pm! \nFood Court is open from 11am – 7pm for take-out only. \nAjisen\, Cold Stone Creamery\, Chuck E. Cheese’s\, Kings\, Port of Mocha\, & Ruby Tuesday are open for curbside and/or take-out services. \nWendy’s is open for drive-thru service only. \n 
URL:https://gpoguam.com/event/we-are-open/
LOCATION:GPO Shopping Center
CATEGORIES:Communications,Fashion,Food & Beverage,Health & Beauty,Sales
END:VEVENT
BEGIN:VEVENT
DTSTART;TZID=Pacific/Guam:20200816T100000
DTEND;TZID=Pacific/Guam:20200820T170000
DTSTAMP:20260420T212313
CREATED:20200819T015146Z
LAST-MODIFIED:20200828T004415Z
UID:12951-1597572000-1597942800@gpoguam.com
SUMMARY:DOCOMO PACIFIC: PCOR1 Modified Store Hours & Services
DESCRIPTION:Docomo Pacific: PCOR1 Modified Store Hours & Services \n\nDocomo Pacific is open\nfor CURBSIDE PICKUP only\nfrom\n10am – 5pm (Monday through Friday).\n\n\n\nPlease call (671)689-2372 to make arrangements with the Docomo Pacific Team.
URL:https://gpoguam.com/event/docomo-pacific-pcor1-modified-store-hours-services/
LOCATION:Docomo Pacific\, Tamuning
CATEGORIES:Communications
END:VEVENT
END:VCALENDAR