BEGIN:VCALENDAR
VERSION:2.0
PRODID:-//GPO Guam - ECPv6.0.12//NONSGML v1.0//EN
CALSCALE:GREGORIAN
METHOD:PUBLISH
X-ORIGINAL-URL:https://gpoguam.com
X-WR-CALDESC:Events for GPO Guam
REFRESH-INTERVAL;VALUE=DURATION:PT1H
X-Robots-Tag:noindex
X-PUBLISHED-TTL:PT1H
BEGIN:VTIMEZONE
TZID:Pacific/Guam
BEGIN:STANDARD
TZOFFSETFROM:+1000
TZOFFSETTO:+1000
TZNAME:ChST
DTSTART:20210101T000000
END:STANDARD
END:VTIMEZONE
BEGIN:VEVENT
DTSTART;VALUE=DATE:20210401
DTEND;VALUE=DATE:20210501
DTSTAMP:20260424T033155
CREATED:20210405T060613Z
LAST-MODIFIED:20210405T060613Z
UID:13560-1617235200-1619827199@gpoguam.com
SUMMARY:IT&E: SNATCH\, SAVE & WIN
DESCRIPTION:IT&E: Snatch\, Save\, & Win \nFREE Samsung Galaxy Buds Live\, Samsung UV Sterilizer\, Samsung Air Purifier or Samsung Tablet A 8.0. It’s hunting season and the deals are hatching here at IT&E all month long!\nSNATCH any Samsung S20 or Note20 series\, SAVE with ONE MONTH FREE service and WIN one of four Samsung high end accessories when you get entered into raffle.\nOne WINNER will be chosen weekly throughout April. Be automatically entered in the giveaway when you sign up or renew your contract on the $80 monthly plan. Plus\, you’ll get one month credited towards your account and PACIFICPOINTS added to your rewards account.\nOffer available until 04/30. \n\nhttps://store.ite.net/snatch-save-win/
URL:https://gpoguam.com/event/ite-snatch-save-win/
LOCATION:by IT&E
CATEGORIES:Communications
END:VEVENT
END:VCALENDAR