BEGIN:VCALENDAR
VERSION:2.0
PRODID:-//GPO Guam - ECPv6.0.12//NONSGML v1.0//EN
CALSCALE:GREGORIAN
METHOD:PUBLISH
X-ORIGINAL-URL:https://gpoguam.com
X-WR-CALDESC:Events for GPO Guam
REFRESH-INTERVAL;VALUE=DURATION:PT1H
X-Robots-Tag:noindex
X-PUBLISHED-TTL:PT1H
BEGIN:VTIMEZONE
TZID:Pacific/Guam
BEGIN:STANDARD
TZOFFSETFROM:+1000
TZOFFSETTO:+1000
TZNAME:ChST
DTSTART:20250101T000000
END:STANDARD
END:VTIMEZONE
BEGIN:VEVENT
DTSTART;VALUE=DATE:20250315
DTEND;VALUE=DATE:20250615
DTSTAMP:20260421T161005
CREATED:20250310T062515Z
LAST-MODIFIED:20250613T063835Z
UID:16254-1741996800-1749945599@gpoguam.com
SUMMARY:Fly to Japan Giveaway!
DESCRIPTION:  \n\n\nFly to Japan with GPO! \n\n\n\nGPO is giving TWO lucky winners the chance to win a round-trip ticket to Tokyo\, Japan\, courtesy of Japan Airlines!\n\n\n\n Two winners – one selected per drawing date!\n\n\n\n 1st Drawing: April 19\, 2025\, at 3 PM\n\n\n 2nd Drawing: June 14\, 2025\, at 3 PM\n\n\n\n Location: GPO Food Court (must be present to win!)\n\n\n\nHOW TO ENTER:\n\n\n\n– Spend $50 or more at GPO from March 15 to June 14\, 2025\n\n\n\n– Present your receipts to the GPO Information Booth to redeem an entry form.\n\n\n\nSpecial Thanks To Our Sponsors: Japan Airlines\n\n\n\nNo purchase necessary. The more you shop\, the more chances you have to win a trip to Tokyo! \n\n\n\n* *No purchase necessary. One entry form per $50 receipt or eligible combined receipts. Must be 18 years old or older to enter.\nMust be a Guam resident. Employees of GPO & its respective agencies & their families are not eligible to win. Must be present to win.\nThe drawing dates are on April 19 and June 14\, at the GPO food court. Must be present to win. Location is subject to change. Exclusions apply.\nVisit the GPO Information Booth for more information.
URL:https://gpoguam.com/event/fly-to-japan-giveaway/
LOCATION:GPO Shopping Center
CATEGORIES:Giveaway
END:VEVENT
BEGIN:VEVENT
DTSTART;TZID=Pacific/Guam:20250419T120000
DTEND;TZID=Pacific/Guam:20250419T140000
DTSTAMP:20260421T161005
CREATED:20250402T230933Z
LAST-MODIFIED:20250403T011913Z
UID:16403-1745064000-1745071200@gpoguam.com
SUMMARY:Performance by Joe Guam
DESCRIPTION:🌟 Join us for a special performance by Joe Guam on April 19th from 12 PM to 2 PM at the GPO Food Court as part of our Easter event celebration! 🎶 Bring your family and friends for a festive afternoon filled with great music and fun! Don’t miss out! 🎉🐰✨
URL:https://gpoguam.com/event/performance-by-joe-guam/
CATEGORIES:Entertainment
END:VEVENT
BEGIN:VEVENT
DTSTART;TZID=Pacific/Guam:20250419T130000
DTEND;TZID=Pacific/Guam:20250419T150000
DTSTAMP:20260421T161005
CREATED:20250320T055350Z
LAST-MODIFIED:20250320T055503Z
UID:16371-1745067600-1745074800@gpoguam.com
SUMMARY:GPO Easter Extravaganza
DESCRIPTION: Hop into the fun at our Easter Extravaganza! Are you ready for an egg-citing surprise?\nJoin us on April 19\, 2025\, from 1 PM to 3 PM at Guam Premier Outlets for family activities\, photo ops with the Easter Bunny\, and amazing prizes!\nStay tuned for more details and get ready for a day full of springtime joy!
URL:https://gpoguam.com/event/gpo-easter-extravaganza/
LOCATION:GPO Shopping Center
CATEGORIES:Entertainment,Giveaway
END:VEVENT
END:VCALENDAR