BEGIN:VCALENDAR
VERSION:2.0
PRODID:-//GPO Guam - ECPv6.0.12//NONSGML v1.0//EN
CALSCALE:GREGORIAN
METHOD:PUBLISH
X-WR-CALNAME:GPO Guam
X-ORIGINAL-URL:https://gpoguam.com
X-WR-CALDESC:Events for GPO Guam
REFRESH-INTERVAL;VALUE=DURATION:PT1H
X-Robots-Tag:noindex
X-PUBLISHED-TTL:PT1H
BEGIN:VTIMEZONE
TZID:Pacific/Guam
BEGIN:STANDARD
TZOFFSETFROM:+1000
TZOFFSETTO:+1000
TZNAME:ChST
DTSTART:20250101T000000
END:STANDARD
END:VTIMEZONE
BEGIN:VEVENT
DTSTART;TZID=Pacific/Guam:20250301T100000
DTEND;TZID=Pacific/Guam:20250305T180000
DTSTAMP:20260420T121838
CREATED:20250225T045842Z
LAST-MODIFIED:20250225T055601Z
UID:16171-1740823200-1741197600@gpoguam.com
SUMMARY:March Pop-Up Event
DESCRIPTION:Celebrate Chamoru culture and support local businesses at the Mes Chamoru Pop-Up Shop! Join us on March 1 at Guam Premier Outlets for a day of unique finds. \nSmall businesses are invited to register by February 26. Secure your spot now! Email marketing@gpoguam.com for details. \n#ShopLocal #MesChamoru #SupportSmallBusiness
URL:https://gpoguam.com/event/march-pop-up-event/
LOCATION:GPO Shopping Center
CATEGORIES:Pop-Up
END:VEVENT
END:VCALENDAR