BEGIN:VCALENDAR
VERSION:2.0
PRODID:-//GPO Guam - ECPv6.0.12//NONSGML v1.0//EN
CALSCALE:GREGORIAN
METHOD:PUBLISH
X-ORIGINAL-URL:https://gpoguam.com
X-WR-CALDESC:Events for GPO Guam
REFRESH-INTERVAL;VALUE=DURATION:PT1H
X-Robots-Tag:noindex
X-PUBLISHED-TTL:PT1H
BEGIN:VTIMEZONE
TZID:Pacific/Guam
BEGIN:STANDARD
TZOFFSETFROM:+1000
TZOFFSETTO:+1000
TZNAME:ChST
DTSTART:20230101T000000
END:STANDARD
END:VTIMEZONE
BEGIN:VEVENT
DTSTART;TZID=Pacific/Guam:20231031T060000
DTEND;TZID=Pacific/Guam:20231031T200000
DTSTAMP:20260420T182557
CREATED:20231004T040102Z
LAST-MODIFIED:20231004T040102Z
UID:15375-1698732000-1698782400@gpoguam.com
SUMMARY:Halloween at GPO
DESCRIPTION:  \n\nSpooky season is upon us! Mark your calendars for a fun and safe Halloween event and here at GPO.\n\n\n\nBring your trick or treat bag and dress in your best costume on October 31\, 2023\nto enter the costume contest for a chance to win a Gift Certificates to GPO\, Halloween goodies\, and more!\n\n\n\nTrick-or-Treating starts at 6:00pm in the shopping center.\n\n\n\nEarly Registration will begin on October 22. Please stay tuned for early registration announcement.\n\n\n\nRegister for the Costume Contest from 6:30pm -7pm in the Food Court.\nContest begins at 7pm.
URL:https://gpoguam.com/event/halloween-at-gpo/
LOCATION:GPO Food Court
CATEGORIES:Entertainment
END:VEVENT
END:VCALENDAR