BEGIN:VCALENDAR
VERSION:2.0
PRODID:-//GPO Guam - ECPv6.0.12//NONSGML v1.0//EN
CALSCALE:GREGORIAN
METHOD:PUBLISH
X-ORIGINAL-URL:https://gpoguam.com
X-WR-CALDESC:Events for GPO Guam
REFRESH-INTERVAL;VALUE=DURATION:PT1H
X-Robots-Tag:noindex
X-PUBLISHED-TTL:PT1H
BEGIN:VTIMEZONE
TZID:Pacific/Guam
BEGIN:STANDARD
TZOFFSETFROM:+1000
TZOFFSETTO:+1000
TZNAME:ChST
DTSTART:20230101T000000
END:STANDARD
END:VTIMEZONE
BEGIN:VEVENT
DTSTART;TZID=Pacific/Guam:20231012T120000
DTEND;TZID=Pacific/Guam:20231012T160000
DTSTAMP:20260420T182615
CREATED:20231012T055449Z
LAST-MODIFIED:20231012T055449Z
UID:15379-1697112000-1697126400@gpoguam.com
SUMMARY:Guam Chamber of Commerce Toys for Tots
DESCRIPTION:  \nYour Chamber Team will be at the Guam Premier Outlets on Friday\, October 13\, 2023 from 12:00 pm – 4:00 pm to collect new and unwrapped toys to support this year’s Toys for Tots campaign. \nIt would be great to see you and we hope that you will spread the word about the October 13th special collection date. The community’s generosity will bring Christmas to children who otherwise would not have one. Thank you for your support! \nWe would like to thank Guam Chamber Member\, @gpoguam\, for allowing us to collect toys at their location! 📍🧸 🚂 \n#ToysforTots #ToyDrive #ChristmasSpirit #BringingJoy🧸
URL:https://gpoguam.com/event/guam-chamber-of-commerce-toys-for-tots-2/
LOCATION:Shopping Mall\, 195-199 5th Ave New York\, New York\, United States
CATEGORIES:Outreach Event
END:VEVENT
END:VCALENDAR