BEGIN:VCALENDAR
VERSION:2.0
PRODID:-//GPO Guam - ECPv6.0.12//NONSGML v1.0//EN
CALSCALE:GREGORIAN
METHOD:PUBLISH
X-WR-CALNAME:GPO Guam
X-ORIGINAL-URL:https://gpoguam.com
X-WR-CALDESC:Events for GPO Guam
REFRESH-INTERVAL;VALUE=DURATION:PT1H
X-Robots-Tag:noindex
X-PUBLISHED-TTL:PT1H
BEGIN:VTIMEZONE
TZID:Pacific/Guam
BEGIN:STANDARD
TZOFFSETFROM:+1000
TZOFFSETTO:+1000
TZNAME:ChST
DTSTART:20210101T000000
END:STANDARD
END:VTIMEZONE
BEGIN:VEVENT
DTSTART;VALUE=DATE:20210425
DTEND;VALUE=DATE:20221001
DTSTAMP:20260421T141837
CREATED:20210706T011552Z
LAST-MODIFIED:20221215T062613Z
UID:13721-1619308800-1664582399@gpoguam.com
SUMMARY:LUNCH WITH JOE GUAM
DESCRIPTION:LIVE PERFORMANCE: Lunch With Joe Guam \nJoin us for a lunch break with Joe Guam playing LIVE \nevery Tuesday from 12pm – 2pm \nthroughout the summer in Food Court. Hope to see you there! \n*PERFORMANCE WILLBE LIVE STREAMED ON GPO’S FACEBOOK & JOE GUAM’S FACEBOOK & YOUTUBE PAGE.
URL:https://gpoguam.com/event/lunch-with-joe-guam/
LOCATION:GPO Food Court
CATEGORIES:Entertainment
END:VEVENT
BEGIN:VEVENT
DTSTART;VALUE=DATE:20220101
DTEND;VALUE=DATE:20221201
DTSTAMP:20260421T141837
CREATED:20220117T064306Z
LAST-MODIFIED:20221215T062652Z
UID:14254-1640995200-1669852799@gpoguam.com
SUMMARY:ENJOY YOUR FREE BIRTHDAY PRESENT FROM GPO!
DESCRIPTION:ENJOY YOUR FREE BIRTHDAY PRESENT FROM GPO!\nTo celebrate GPO’s 25th Anniversary\, we want to give you a birthday present! Visit our Information Booth on the day of your birthday to claim your $25 birthday coupon that can be used at participating stores. We’re only giving away 10 per day\, so stop by early! Promotion start date: January 1\, 2022 \nMust present a valid ID with date of birth. No minimum purchase necessary. This birthday coupon has no cash value. Must be 18 years or older to redeem. Only valid for seven (7) days after receiving this gift certificate with no extensions. Non-transferable. Employees and owners of GPO stores are not eligible. \n\n\n\nPARTICIPATING STORES AND RESTAURANTS\n\n\n\n\n\n\n\n\n\n\n\n\n\n\n  \n\n\n\n\n\n\n\n\n\n\n\n\n\n\n\nAB Sports by Nike\nABC Stores\nAji Ichi\nAjisen\nBestseller Book Store\nCalvin Klein\nCalvin Klein Accessories\nCharley’s\nChatime\nCinnabon\nCold Stone Creamery\nCup & Saucer\nDocomo Pacific\nEco Inventions\nFamous Footwear\nFragrance Outlet\nGuess\nHäagan Dazs\nHair Town\nHong Kong Wok\nImperial Garden\nIT&E\nKing’s\nKFC\nLevi’s outlet\nLocal Fever\nLoco Boutique\nLonghorn Steakhouse\nMemories of Guam\nMongo Mongo\nNike Sports\nNatural by Nina\nNew York Nails\nPanda Express\nPearl House\nPink House\nPort of Mocha\nRuby Tuesday\nSbarro\nSkechers\nSubway\nTaco Bell\nTech Savvy\nTime & Style\nTommy Hilfiger\nTommy Hilfiger Kids\nTwinkles\nVitamin World\nVince Jewelers\nWendy’s
URL:https://gpoguam.com/event/enjoy-your-free-birthday-present-from-gpo/
CATEGORIES:Accessories,Communications,Fashion,Food & Beverage,Health & Beauty,Variety
END:VEVENT
BEGIN:VEVENT
DTSTART;VALUE=DATE:20220225
DTEND;VALUE=DATE:20220401
DTSTAMP:20260421T141837
CREATED:20220225T035648Z
LAST-MODIFIED:20220225T035648Z
UID:14433-1645747200-1648771199@gpoguam.com
SUMMARY:WENDYS: 5 FOR 5 FRESHLY BAKED COOKIE BUNDLE
DESCRIPTION:Looking for a sweet treat? Head over to Wendy’s and try our freshly baked cookies!\n\n\n\nGet 5 for just $5!* Choose from our Sugar Cookie or Chocolate Chunk! #WendysGuam #WeGotYou\n\n\n\n\n\n*While supplies last. Available all day.\n\n\n\n\n\nTamuning – 6am to 2am
URL:https://gpoguam.com/event/wendys-5-for-5-freshly-baked-cookie-bundle/
LOCATION:Wendy’s
CATEGORIES:Food & Beverage
END:VEVENT
BEGIN:VEVENT
DTSTART;VALUE=DATE:20220316
DTEND;VALUE=DATE:20220601
DTSTAMP:20260421T141837
CREATED:20220316T061857Z
LAST-MODIFIED:20220316T061857Z
UID:14456-1647388800-1654041599@gpoguam.com
SUMMARY:SUBWAY: NEW FRESH MELTS
DESCRIPTION:Subway: NEW Fresh Melts \nNEW Subs available now at #subway!\nEnjoy the new “Fresh Melts” sandwiches which include: Ham & Cheese Melt\, Tuna Melt\, & Steak & Cheese Melt.  \nSubway is available at our food court. Food court is open 11am – 7pm daily. #gpoguam #guampremieroutlets #guam #guamfood #guamfoodies
URL:https://gpoguam.com/event/subway-new-fresh-melts/
LOCATION:Subway
CATEGORIES:Food & Beverage
END:VEVENT
BEGIN:VEVENT
DTSTART;VALUE=DATE:20220323
DTEND;VALUE=DATE:20220331
DTSTAMP:20260421T141837
CREATED:20220325T033550Z
LAST-MODIFIED:20220325T033550Z
UID:14490-1647993600-1648684799@gpoguam.com
SUMMARY:TOMMY HILFIGER: MEN'S & WOMEN'S MUST-HAVES
DESCRIPTION:Tommy Hilfiger: Men’s & Women’s Must-Haves \nShirts & sweaters starting at $39.99 & chinos starting at$49.99** \nPlus\, 20% OFF your purchase of $100+ OR 15% OFF your entire purchase** \nMARCH 30 \nPromo Code: 631712005290 \nAll styles not available at all locations. May not be available at tommy.com. Not valid for purchases through the TH Anywhere program. *Prices valid 3/24/22 – 3/30/22. Select styles. Exclusions apply. See associate for details. Promotion not valid at the following Tommy Hilfiger stores: San Clemente\, Livermore Kids\, Vacaville and Tejon Ranch. **OFFER IS VALID 3/24/22 – 3/30/22. All offers are redeemable for an amount up to the discount stated on this posting and must be presented in-person at Tommy Hilfiger stores in the United States\, Puerto Rico\, and Guam. It may be used only once whether or not fully redeemed and must be surrendered at purchase with any remaining value of the Offer forfeited. Not redeemable for store credit or cash. The offers may not be combined with any other promotion and have no cash value. Offers are not valid for previously purchased merchandise\, gift cards\, or Internet transactions. Any discount (as shown on the receipt) applied to merchandise that is returned will be deducted from any refund amount. Customer must present posting at time of purchase to receive the offers. Reproductions of the offers will not be accepted. PVH associates not eligible. Not valid in department stores\, Clearance stores\, select Tommy Hilfiger stores as stated above\, Tommy Hilfiger stores in Canada\, or on tommy.com. Promo Code: 631712005290
URL:https://gpoguam.com/event/tommy-hilfiger-mens-womens-must-haves/
LOCATION:Tommy Hilfiger
CATEGORIES:Fashion,Sales
END:VEVENT
BEGIN:VEVENT
DTSTART;VALUE=DATE:20220325
DTEND;VALUE=DATE:20220401
DTSTAMP:20260421T141837
CREATED:20220325T035801Z
LAST-MODIFIED:20220325T035801Z
UID:14492-1648166400-1648771199@gpoguam.com
SUMMARY:WENDY'S: THE SIMPLE LENTEN PLATTER
DESCRIPTION:Wendy’s: The Simple Lenten Platter\n\n\nWendy’s is bringing an addition to their Perfect Lenten Meal! For a limited time only they are serving their Crispy Panko Fish Fillet in a Platter!\n\n\n\n\n\nWild Caught Alaskan Pollock fish fillet with fluffy rice and freshly chopped garden salad.\n\n\n\n\n\nQuick\, Simple\, Quality! At Wendy’s…#NowThatsBetter.\n\n\n\n\n\nLunch Hours:\n\n\nMon – Fri: starts at 10:30am\n\n\nSat & Sun: starts at 11:00am
URL:https://gpoguam.com/event/wendys-the-simple-lenten-platter/
LOCATION:Wendy’s
CATEGORIES:Food & Beverage
END:VEVENT
END:VCALENDAR