BEGIN:VCALENDAR
VERSION:2.0
PRODID:-//GPO Guam - ECPv6.0.12//NONSGML v1.0//EN
CALSCALE:GREGORIAN
METHOD:PUBLISH
X-ORIGINAL-URL:https://gpoguam.com
X-WR-CALDESC:Events for GPO Guam
REFRESH-INTERVAL;VALUE=DURATION:PT1H
X-Robots-Tag:noindex
X-PUBLISHED-TTL:PT1H
BEGIN:VTIMEZONE
TZID:Pacific/Guam
BEGIN:STANDARD
TZOFFSETFROM:+1000
TZOFFSETTO:+1000
TZNAME:ChST
DTSTART:20210101T000000
END:STANDARD
END:VTIMEZONE
BEGIN:VEVENT
DTSTART;VALUE=DATE:20210121
DTEND;VALUE=DATE:20220101
DTSTAMP:20260422T012657
CREATED:20210124T010736Z
LAST-MODIFIED:20210124T010736Z
UID:13360-1611187200-1640995199@gpoguam.com
SUMMARY:CALVIN KLEIN: MILITARY DISCOUNT
DESCRIPTION:Visit Calvin Klein today\, and enjoy 20% off your purchase with a valid military ID. \nExclusions apply.
URL:https://gpoguam.com/event/calvin-klein-military-discount/
LOCATION:by Calvin Klein
CATEGORIES:Fashion,Sales
END:VEVENT
BEGIN:VEVENT
DTSTART;VALUE=DATE:20210425
DTEND;VALUE=DATE:20221001
DTSTAMP:20260422T012657
CREATED:20210706T011552Z
LAST-MODIFIED:20221215T062613Z
UID:13721-1619308800-1664582399@gpoguam.com
SUMMARY:LUNCH WITH JOE GUAM
DESCRIPTION:LIVE PERFORMANCE: Lunch With Joe Guam \nJoin us for a lunch break with Joe Guam playing LIVE \nevery Tuesday from 12pm – 2pm \nthroughout the summer in Food Court. Hope to see you there! \n*PERFORMANCE WILLBE LIVE STREAMED ON GPO’S FACEBOOK & JOE GUAM’S FACEBOOK & YOUTUBE PAGE.
URL:https://gpoguam.com/event/lunch-with-joe-guam/
LOCATION:GPO Food Court
CATEGORIES:Entertainment
END:VEVENT
BEGIN:VEVENT
DTSTART;VALUE=DATE:20211001
DTEND;VALUE=DATE:20211025
DTSTAMP:20260422T012657
CREATED:20211008T043503Z
LAST-MODIFIED:20211008T043503Z
UID:14019-1633046400-1635119999@gpoguam.com
SUMMARY:VIRTUAL PUMPKIN CARVING CONTEST
DESCRIPTION:🎃𝑮𝑷𝑶 𝑽𝑰𝑹𝑻𝑼𝑨𝑳 𝑷𝑼𝑴𝑷𝑲𝑰𝑵 𝑪𝑨𝑹𝑽𝑰𝑵𝑮 𝑪𝑶𝑵𝑻𝑬𝑺𝑻 🎃 \nGPO invites you to enter our 𝗩𝗶𝗿𝘁𝘂𝗮𝗹 𝗣𝘂𝗺𝗽𝗸𝗶𝗻 𝗖𝗮𝗿𝘃𝗶𝗻𝗴 𝗖𝗼𝗻𝘁𝗲𝘀𝘁. Submit a photo of your carved pumpkin creation from 𝗢𝗰𝘁𝗼𝗯𝗲𝗿 𝟭𝘀𝘁 – 𝗢𝗰𝘁𝗼𝗯𝗲𝗿 𝟮𝟰𝘁𝗵. Three winners will be selected based on the 𝐦𝐨𝐬𝐭 𝐜𝐫𝐞𝐚𝐭𝐢𝐯𝐞\, 𝐬𝐩𝐨𝐨𝐤𝐢𝐞𝐬𝐭\, 𝐚𝐧𝐝 𝐭𝐡𝐞 𝐟𝐮𝐧𝐧𝐢𝐞𝐬𝐭. Prizes include Regal Gift Cards\, GPO merchandise\, & more! \nＨＯＷ ＴＯ ＥＮＴＥＲ： \n1. 𝐅𝐎𝐋𝐋𝐎𝐖 @gpoguam on Facebook or Instagram. \n2. 𝙇𝙄𝙆𝙀 this post. \n3. 𝑺𝒖𝒃𝒎𝒊𝒕 photo of your pumpkin creation on direct message to our Facebook or Instagram account at @GPOguam. \nA panel of judges will review submissions & choose the winners. Three winners will be featured on our website & social media pages on October 26th. \nWinners will be messaged on direct message via Facebook/Instagram on October 25. \n*𝙊𝙉𝙀 𝙀𝙉𝙏𝙍𝙔 𝙋𝙀𝙍 𝙋𝙀𝙍𝙎𝙊𝙉. 𝙀𝙉𝙏𝙍𝙄𝙀𝙎 𝙈𝙐𝙎𝙏 𝘽𝙀 𝙊𝙍𝙄𝙂𝙄𝙉𝘼𝙇.𝙒𝙄𝙉𝙉𝙀𝙍𝙎 𝙒𝙄𝙇𝙇 𝘽𝙀 𝘼𝙎𝙆𝙀𝘿 𝙏𝙊 𝙏𝘼𝙆𝙀 𝙋𝙃𝙊𝙏𝙊 𝙒𝙄𝙏𝙃 𝘾𝙍𝙀𝘼𝙏𝙄𝙊𝙉 𝙏𝙊 𝙋𝙊𝙎𝙏 𝙊𝙉 𝙎𝙊𝘾𝙄𝘼𝙇 𝙈𝙀𝘿𝙄𝘼 𝘼𝘾𝘾𝙊𝙐𝙉𝙏𝙎. 𝘽𝙔 𝙎𝙐𝘽𝙈𝙄𝙏𝙏𝙄𝙉𝙂 𝙔𝙊𝙐𝙍 𝙋𝙃𝙊𝙏𝙊 𝙄𝙉𝙏𝙊 𝙏𝙃𝙀 𝘾𝙊𝙉𝙏𝙀𝙎𝙏\, 𝙔𝙊𝙐 𝙂𝙍𝘼𝙉𝙏 𝙏𝙃𝙀 𝙂𝙐𝘼𝙈 𝙋𝙍𝙀𝙈𝙄𝙀𝙍 𝙊𝙐𝙏𝙇𝙀𝙏𝙎 𝙏𝙃𝙀 𝙍𝙄𝙂𝙃𝙏 𝙏𝙊 𝙐𝙎𝙀 𝙔𝙊𝙐𝙍 𝙄𝙈𝘼𝙂𝙀 𝙊𝙉𝙇𝙄𝙉𝙀 𝘼𝙏 𝙊𝙐𝙍 𝘿𝙄𝙎𝘾𝙍𝙀𝙏𝙄𝙊𝙉. \nHappy Carving!
URL:https://gpoguam.com/event/virtual-pumpkin-carving-contest/
CATEGORIES:Entertainment
END:VEVENT
BEGIN:VEVENT
DTSTART;VALUE=DATE:20211001
DTEND;VALUE=DATE:20211101
DTSTAMP:20260422T012657
CREATED:20211007T035800Z
LAST-MODIFIED:20211007T035800Z
UID:14010-1633046400-1635724799@gpoguam.com
SUMMARY:COLD STONE CREAMERY: NEW FALL FLAVORS
DESCRIPTION:Cold Stone Creamery: New Fall Flavors\n\nCold Stone Creamery’s NEW Fall Flavors are now available on Guam!\nTry their Pumpkin Bread Batter and Banana Bread Batter Ice Cream today!\n\n\nHead on over to try their New Signature Creation™ The Apple of my Pumpkin Pie™\nmade with their New Pumpkin Bread Batter Ice Cream\, Pecans\, Graham Cracker Pie Crust\, Apple Pie Filling & Caramel!\n\n\nOr try their New Signature Creation™ Almost Baked Banana Bread™\nmade with their New Banana Bread Batter Ice Cream\, Banana\, Pecans & Cinnamon!
URL:https://gpoguam.com/event/cold-stone-creamery-new-fall-flavors/
LOCATION:Cold Stone Creamery
CATEGORIES:Food & Beverage
END:VEVENT
BEGIN:VEVENT
DTSTART;VALUE=DATE:20211005
DTEND;VALUE=DATE:20211022
DTSTAMP:20260422T012657
CREATED:20211015T010857Z
LAST-MODIFIED:20211015T010857Z
UID:14039-1633392000-1634860799@gpoguam.com
SUMMARY:COLD STONE CREAMERY: NEW PUMPKIN & BANANA BREAD BATTER
DESCRIPTION:Cold Stone Creamery: NEW Pumpkin & Banana Bread Batter \n\n\nCold Stone Creamery’s NEW Fall Flavors are now available on Guam! Try their Pumpkin Bread Batter and Banana Bread Batter Ice Cream today!\n\n\nHead on over to try their New Signature Creation™ The Apple of my Pumpkin Pie™ made with their New Pumpkin Bread Batter Ice Cream\, Pecans\, Graham Cracker Pie Crust\, Apple Pie Filling & Caramel!\n\n\nOr try their New Signature Creation™ Almost Baked Banana Bread™ made with their New Banana Bread Batter Ice Cream\, Banana\, Pecans & Cinnamon!
URL:https://gpoguam.com/event/cold-stone-creamery-new-pumpkin-banana-bread-batter/
LOCATION:Cold Stone Creamery
CATEGORIES:Food & Beverage
END:VEVENT
BEGIN:VEVENT
DTSTART;VALUE=DATE:20211007
DTEND;VALUE=DATE:20211029
DTSTAMP:20260422T012657
CREATED:20211008T051029Z
LAST-MODIFIED:20211008T051029Z
UID:14025-1633564800-1635465599@gpoguam.com
SUMMARY:VIRTUAL PET COSTUME CONTEST
DESCRIPTION:𝗚𝗣𝗢 𝗩𝗜𝗥𝗧𝗨𝗔𝗟 𝗣𝗘𝗧 𝗖𝗢𝗦𝗧𝗨𝗠𝗘 𝗖𝗢𝗡𝗧𝗘𝗦𝗧\n\nShow us your spooky or goofy fur baby by entering our 𝑽𝒊𝒓𝒕𝒖𝒂𝒍 𝑷𝒆𝒕 𝑪𝒐𝒔𝒕𝒖𝒎𝒆 𝑪𝒐𝒏𝒕𝒆𝒔𝒕.\nThree winners will be selected to win gifts from Feathers N’ Fins & the Guam Premier Outlets.\n\nThe contest will begin starting today until October 28th.\n\n\nＨＯＷ ＴＯ ＥＮＴＥＲ：\n\n1. 𝐅𝐎𝐋𝐋𝐎𝐖 @gpoguam on Facebook or Instagram.\n2. 𝙇𝙄𝙆𝙀 this post.\n3. 𝑺𝒖𝒃𝒎𝒊𝒕 photo of your pet in costume on direct message to our Facebook/Instagram account at @GPOguam.\nA panel of judges will review submissions & choose the winners. Three winners will be featured on our website & social media pages on November 1. \n\nWinners will be messaged on direct message via Facebook/Instagram.\n\n\n*𝘽𝙔 𝙎𝙐𝘽𝙈𝙄𝙏𝙏𝙄𝙉𝙂 𝙔𝙊𝙐𝙍 𝙋𝙃𝙊𝙏𝙊 𝙄𝙉𝙏𝙊 𝙏𝙃𝙀 𝘾𝙊𝙉𝙏𝙀𝙎𝙏\, 𝙔𝙊𝙐 𝙂𝙍𝘼𝙉𝙏 𝙏𝙃𝙀 𝙂𝙐𝘼𝙈 𝙋𝙍𝙀𝙈𝙄𝙀𝙍 𝙊𝙐𝙏𝙇𝙀𝙏𝙎 𝙏𝙃𝙀 𝙍𝙄𝙂𝙃𝙏 𝙏𝙊 𝙐𝙎𝙀 𝙔𝙊𝙐𝙍 𝙄𝙈𝘼𝙂𝙀 𝙊𝙉𝙇𝙄𝙉𝙀 𝘼𝙏 𝙊𝙐𝙍 𝘿𝙄𝙎𝘾𝙍𝙀𝙏𝙄𝙊𝙉.\n\n\nSpecial Thanks To: Feathers N’ Fins
URL:https://gpoguam.com/event/virtual-pet-costume-contest/
CATEGORIES:Entertainment
END:VEVENT
BEGIN:VEVENT
DTSTART;VALUE=DATE:20211014
DTEND;VALUE=DATE:20211101
DTSTAMP:20260422T012657
CREATED:20211014T013500Z
LAST-MODIFIED:20211014T013500Z
UID:14028-1634169600-1635724799@gpoguam.com
SUMMARY:COLD STONE CREAMERY: NEW PUMPKIN BREAD BATTER PIE
DESCRIPTION: \n\n\n\n\nCold Stone Creamery: NEW Pumpkin Bread Batter Pie\n\nFall in love with Cold Stone Creamery Guam‘s New Pumpkin Bread Batter Pie! \n\n\n \n\n\nMade with their new Pumpkin Bread Batter ice cream in a graham cracker pie crust topped with fluffy white frosting\, cinnamon & chocolate leaves.\n\n\n \n\n\nGive them a call at 649-4800/1 or place an order at http://coldstonecreamery.com to reserve yours today! \n\n\n 
URL:https://gpoguam.com/event/cold-stone-creamery-new-pumpkin-bread-batter-pie/
LOCATION:Cold Stone Creamery
CATEGORIES:Food & Beverage
END:VEVENT
BEGIN:VEVENT
DTSTART;VALUE=DATE:20211015
DTEND;VALUE=DATE:20211021
DTSTAMP:20260422T012657
CREATED:20211014T232901Z
LAST-MODIFIED:20211014T232901Z
UID:14033-1634256000-1634774399@gpoguam.com
SUMMARY:TOMMY HILFIGER: NEW SIMPLICITY
DESCRIPTION:Tommy Hilfiger: New Simplicity \nUp to 60% OFF entire store* \nPlus\, 20% OFF your purchase $100+ OR 15% off your entire purchase** \nOCTOBER 15 – 20 \nPromo Code: 631712001070 \nAll styles not available at all locations. May not be available at tommy.com. Not valid for purchases through the TH Anywhere program. *Ticketed price. Exclusions may apply OFFER IS VALID 10/15/21 – 10/20/21. **OFFER IS VALID 10/15/21 – 10/20/21. All offers are redeemable for an amount up to the discount stated on this posting and must be presented in-person at Tommy Hilfiger stores in the United States\, Puerto Rico\, and Guam. It may be used only once whether or not fully redeemed and must be surrendered at purchase with any remaining value of the Offer forfeited. Not redeemable for store credit or cash. The offers may not be combined with any other promotion and have no cash value. Offers are not valid for previously purchased merchandise\, gift cards\, or Internet transactions. Any discount (as shown on the receipt) applied to merchandise that is returned will be deducted from any refund amount. Customer must present posting at time of purchase to receive the offers. Reproductions of the offers will not be accepted. PVH associates not eligible. Not valid in department stores\, Clearance stores\, Tommy Hilfiger stores in Canada\, or on tommy.com. Promo Code: 631712001070
URL:https://gpoguam.com/event/tommy-hilfiger-new-simplicity/
LOCATION:Tommy Hilfiger
CATEGORIES:Fashion,Sales
END:VEVENT
BEGIN:VEVENT
DTSTART;VALUE=DATE:20211015
DTEND;VALUE=DATE:20211021
DTSTAMP:20260422T012657
CREATED:20211014T233441Z
LAST-MODIFIED:20211014T233441Z
UID:14036-1634256000-1634774399@gpoguam.com
SUMMARY:TOMMY HILFIGER KIDS: NEW SIMPLICITY
DESCRIPTION:Tommy Hilfiger Kids: New Simplicity \nUp to 60% OFF entire store* \nPlus\, 20% OFF your purchase $100+ OR 15% off your entire purchase** \nOCTOBER 15 – 20 \nPromo Code: 631712001070 \nAll styles not available at all locations. May not be available at tommy.com. Not valid for purchases through the TH Anywhere program. *Ticketed price. Exclusions may apply OFFER IS VALID 10/15/21 – 10/20/21. **OFFER IS VALID 10/15/21 – 10/20/21. All offers are redeemable for an amount up to the discount stated on this posting and must be presented in-person at Tommy Hilfiger stores in the United States\, Puerto Rico\, and Guam. It may be used only once whether or not fully redeemed and must be surrendered at purchase with any remaining value of the Offer forfeited. Not redeemable for store credit or cash. The offers may not be combined with any other promotion and have no cash value. Offers are not valid for previously purchased merchandise\, gift cards\, or Internet transactions. Any discount (as shown on the receipt) applied to merchandise that is returned will be deducted from any refund amount. Customer must present posting at time of purchase to receive the offers. Reproductions of the offers will not be accepted. PVH associates not eligible. Not valid in department stores\, Clearance stores\, Tommy Hilfiger stores in Canada\, or on tommy.com. Promo Code: 631712001070
URL:https://gpoguam.com/event/tommy-hilfiger-kids-new-simplicity/
LOCATION:Tommy Hilfiger Kids\, Guam
CATEGORIES:Fashion,Sales
END:VEVENT
BEGIN:VEVENT
DTSTART;VALUE=DATE:20211015
DTEND;VALUE=DATE:20220101
DTSTAMP:20260422T012657
CREATED:20211015T010022Z
LAST-MODIFIED:20211015T060021Z
UID:14031-1634256000-1640995199@gpoguam.com
SUMMARY:HAAGEN-DAZS: WEEKLY SPECIALS
DESCRIPTION:Haagen-Dazs: Weekly Specials \n– Local Discount 10% OFF Your Purchase \n– FREE Waffle Cone with Any Purchase of Any Scoop of Ice Cream \nMonday: $26 for 2 \nIncludes Banana Crepe Encounter & Parfait Crunch (Caramel & Nut\, Cookies & Fudge\, or Fruits & Granola) \nTuesday: $23 for 2 \nIncludes Banana Split & Coffee Affogato (Scoop of vanilla ice cream & a shot of espresso) \nSenior Citizen 20% OFF your purchase \nWednesday Special: \n$1 OFF Any Dazzlers & $4 OFF Chocolate Fondue Set \nSaturday Special (12pm – 4pm): \nFrom 12pm – 4pm spend a minimum of $10 & receive a FREE scoop of cookies and cream ice cream. \n\n  \n 
URL:https://gpoguam.com/event/haagen-dazs-weekly-specials/
LOCATION:Haagen-Dazs
END:VEVENT
END:VCALENDAR