BEGIN:VCALENDAR
VERSION:2.0
PRODID:-//GPO Guam - ECPv6.0.12//NONSGML v1.0//EN
CALSCALE:GREGORIAN
METHOD:PUBLISH
X-WR-CALNAME:GPO Guam
X-ORIGINAL-URL:https://gpoguam.com
X-WR-CALDESC:Events for GPO Guam
REFRESH-INTERVAL;VALUE=DURATION:PT1H
X-Robots-Tag:noindex
X-PUBLISHED-TTL:PT1H
BEGIN:VTIMEZONE
TZID:Pacific/Guam
BEGIN:STANDARD
TZOFFSETFROM:+1000
TZOFFSETTO:+1000
TZNAME:ChST
DTSTART:20210101T000000
END:STANDARD
END:VTIMEZONE
BEGIN:VEVENT
DTSTART;VALUE=DATE:20210121
DTEND;VALUE=DATE:20220101
DTSTAMP:20260422T045058
CREATED:20210124T010736Z
LAST-MODIFIED:20210124T010736Z
UID:13360-1611187200-1640995199@gpoguam.com
SUMMARY:CALVIN KLEIN: MILITARY DISCOUNT
DESCRIPTION:Visit Calvin Klein today\, and enjoy 20% off your purchase with a valid military ID. \nExclusions apply.
URL:https://gpoguam.com/event/calvin-klein-military-discount/
LOCATION:by Calvin Klein
CATEGORIES:Fashion,Sales
END:VEVENT
BEGIN:VEVENT
DTSTART;VALUE=DATE:20210425
DTEND;VALUE=DATE:20221001
DTSTAMP:20260422T045058
CREATED:20210706T011552Z
LAST-MODIFIED:20221215T062613Z
UID:13721-1619308800-1664582399@gpoguam.com
SUMMARY:LUNCH WITH JOE GUAM
DESCRIPTION:LIVE PERFORMANCE: Lunch With Joe Guam \nJoin us for a lunch break with Joe Guam playing LIVE \nevery Tuesday from 12pm – 2pm \nthroughout the summer in Food Court. Hope to see you there! \n*PERFORMANCE WILLBE LIVE STREAMED ON GPO’S FACEBOOK & JOE GUAM’S FACEBOOK & YOUTUBE PAGE.
URL:https://gpoguam.com/event/lunch-with-joe-guam/
LOCATION:GPO Food Court
CATEGORIES:Entertainment
END:VEVENT
BEGIN:VEVENT
DTSTART;VALUE=DATE:20210620
DTEND;VALUE=DATE:20210901
DTSTAMP:20260422T045058
CREATED:20210706T014828Z
LAST-MODIFIED:20210706T014828Z
UID:13730-1624147200-1630454399@gpoguam.com
SUMMARY:WENDY'S: SUMMER STRAWBERRY SALAD
DESCRIPTION:Wendy’s: Summer Strawberry Salad\n\n@wendysguam Summer Strawberry Chicken Salad is back!\nPacked with fresh strawberries\, crispy bacon\, grilled chicken\, candied almonds\, a tuscan cheese blend\, and champagne vinaigrette.\nIt’s a Summertime Classic!\n\n\n\n\n\nTry the Summer Strawberry Chicken Salad today! Our locations are open for DINE IN too.\n\n\n\n\n\nTamuning\n\n\n6am – 10pm
URL:https://gpoguam.com/event/wendys-summer-strawberry-salad/
LOCATION:Wendy’s
CATEGORIES:Food & Beverage
END:VEVENT
BEGIN:VEVENT
DTSTART;VALUE=DATE:20210801
DTEND;VALUE=DATE:20210901
DTSTAMP:20260422T045058
CREATED:20210811T233931Z
LAST-MODIFIED:20210811T233931Z
UID:13815-1627776000-1630454399@gpoguam.com
SUMMARY:TWINKLES: BACK TO SCHOOL SALE
DESCRIPTION:Twinkles: Back To School Sale \nReceive 40% OFF on all school supplies\, \n30% OFF on all backpacks & lunch bags\, \n& 25% OFF on all regular-priced toys.
URL:https://gpoguam.com/event/twinkles-back-to-school-sale-3/
LOCATION:Twinkles
CATEGORIES:Sales,Variety
END:VEVENT
BEGIN:VEVENT
DTSTART;VALUE=DATE:20210801
DTEND;VALUE=DATE:20210901
DTSTAMP:20260422T045058
CREATED:20210816T063148Z
LAST-MODIFIED:20210816T063236Z
UID:13837-1627776000-1630454399@gpoguam.com
SUMMARY:COLD STONE CREAMERY: UPDATED HOURS
DESCRIPTION:Cold Stone Creamery: Updated Hours \nUPDATE: Cold Stone Creamery at GPO will be the only location open until further notice.  \n Sunday – Thursday: 11am – 8:30pm  \nFriday & Saturday: 11am – 10pm.
URL:https://gpoguam.com/event/cold-stone-creamery-updated-hours/
LOCATION:Cold Stone Creamery
CATEGORIES:Food & Beverage
END:VEVENT
BEGIN:VEVENT
DTSTART;VALUE=DATE:20210801
DTEND;VALUE=DATE:20211001
DTSTAMP:20260422T045058
CREATED:20210818T043140Z
LAST-MODIFIED:20210818T043503Z
UID:13842-1627776000-1633046399@gpoguam.com
SUMMARY:IT&E: UNBELIEVABLE SAVINGS
DESCRIPTION:IT&E: Unbelievable Savings\n\n\nChange the way you capture and share your world with the Samsung Galaxy S20 Ultra – now available at incredible prices at IT&E\n\n\nSave up to $170 on this device when you sign up on the UNLIMITED Data Plan; or trade in your old device and you could get the S20 Ultra for FREE! Plus\, enjoy savings when you get the S20 Ultra on other plans.\n\n\nHurry\, this deal is only available until September 30!\nCheck out all the different ways you can save on the S20 Ultra at https://store.ite.net/product/samsung-galaxy-s20-ultra/.
URL:https://gpoguam.com/event/ite-unbelievable-savings/
LOCATION:by IT&E
CATEGORIES:Communications,Sales
END:VEVENT
BEGIN:VEVENT
DTSTART;VALUE=DATE:20210802
DTEND;VALUE=DATE:20210901
DTSTAMP:20260422T045058
CREATED:20210805T033102Z
LAST-MODIFIED:20210805T033102Z
UID:13811-1627862400-1630454399@gpoguam.com
SUMMARY:CALVIN KLEIN: END OF SUMMER SALE
DESCRIPTION:Calvin Klein: End of Summer Sale \nEnjoy Up to 30% Off Entire Store \n8.2.21 – 8.31.21 \nExclusions Apply
URL:https://gpoguam.com/event/calvin-klein-end-of-summer-sale/
LOCATION:by Calvin Klein
CATEGORIES:Fashion,Sales
END:VEVENT
BEGIN:VEVENT
DTSTART;VALUE=DATE:20210802
DTEND;VALUE=DATE:20210901
DTSTAMP:20260422T045058
CREATED:20210805T044154Z
LAST-MODIFIED:20210805T044154Z
UID:13813-1627862400-1630454399@gpoguam.com
SUMMARY:CALVIN KLEIN ACCESSORIES: END OF SUMMER SALE
DESCRIPTION:Calvin Klein Accessories: End of the Summer Sale \nEnjoy Up to 30% Off Entire Store \n8.2.21 – 8.31.21 \nExclusions Apply
URL:https://gpoguam.com/event/calvin-klein-accessories-end-of-summer-sale/
LOCATION:by Calvin Klein
CATEGORIES:Fashion,Sales
END:VEVENT
BEGIN:VEVENT
DTSTART;VALUE=DATE:20210812
DTEND;VALUE=DATE:20210819
DTSTAMP:20260422T045058
CREATED:20210812T000756Z
LAST-MODIFIED:20210812T000756Z
UID:13821-1628726400-1629331199@gpoguam.com
SUMMARY:TOMMY HILFIGER: WARDROBE REFRESH
DESCRIPTION:Tommy Hilfiger: Wardrobe Refresh \nUp to 60% Off Entire Store* \nPLUS\, 20% OFF YOUR PURCHASE OF $100+ OR 15% OFF YOUR ENTIRE PURCHASE** \nAUGUST 12 – 18 \nPromo Code: 500025729000 \n\nAll styles not available at all locations. May not be available at tommy.com. Not valid for purchases through the TH Anywhere program. *Ticketed price. Exclusions may apply. OFFER IS VALID 8/12/21 – 8/18/21. **OFFER IS VALID 8/12/21 – 8/18/21. All offers are redeemable for an amount up to the discount stated on this posting and must be presented in-person at Tommy Hilfiger stores in the United States\, Puerto Rico\, and Guam. It may be used only once whether or not fully redeemed and must be surrendered at purchase with any remaining value of the Offer forfeited. Not redeemable for store credit or cash. The offers may not be combined with any other promotion and have no cash value. Offers are not valid for previously purchased merchandise\, gift cards\, or Internet transactions. Any discount (as shown on the receipt) applied to merchandise that is returned will be deducted from any refund amount. Customer must present posting at time of purchase to receive the offers. Reproductions of the offers will not be accepted. PVH associates not eligible. Not valid in department stores\, Clearance stores\, Tommy Hilfiger stores in Canada\, or on tommy.com. Promo Code: 500025729000
URL:https://gpoguam.com/event/tommy-hilfiger-wardrobe-refresh/
LOCATION:Tommy Hilfiger
CATEGORIES:Fashion,Sales
END:VEVENT
BEGIN:VEVENT
DTSTART;VALUE=DATE:20210812
DTEND;VALUE=DATE:20210819
DTSTAMP:20260422T045058
CREATED:20210812T013211Z
LAST-MODIFIED:20210812T013211Z
UID:13824-1628726400-1629331199@gpoguam.com
SUMMARY:TOMMY HILFIGER KIDS: WARDROBE REFRESH
DESCRIPTION:Tommy Hilfiger Kids: Wardrobe Refresh \nUp to 60% Off Entire Store* \nPLUS\, 20% OFF YOUR PURCHASE OF $100+ OR 15% OFF YOUR ENTIRE PURCHASE** \nAUGUST 12 – 18 \nPromo Code: 500025729000 \nAll styles not available at all locations. May not be available at tommy.com. Not valid for purchases through the TH Anywhere program. *Ticketed price. Exclusions may apply. OFFER IS VALID 8/12/21 – 8/18/21. **OFFER IS VALID 8/12/21 – 8/18/21. All offers are redeemable for an amount up to the discount stated on this posting and must be presented in-person at Tommy Hilfiger stores in the United States\, Puerto Rico\, and Guam. It may be used only once whether or not fully redeemed and must be surrendered at purchase with any remaining value of the Offer forfeited. Not redeemable for store credit or cash. The offers may not be combined with any other promotion and have no cash value. Offers are not valid for previously purchased merchandise\, gift cards\, or Internet transactions. Any discount (as shown on the receipt) applied to merchandise that is returned will be deducted from any refund amount. Customer must present posting at time of purchase to receive the offers. Reproductions of the offers will not be accepted. PVH associates not eligible. Not valid in department stores\, Clearance stores\, Tommy Hilfiger stores in Canada\, or on tommy.com. Promo Code: 500025729000
URL:https://gpoguam.com/event/tommy-hilfiger-kids-wardrobe-refresh/
LOCATION:Tommy Hilfiger Kids\, Guam
CATEGORIES:Fashion,Sales
END:VEVENT
END:VCALENDAR