BEGIN:VCALENDAR
VERSION:2.0
PRODID:-//GPO Guam - ECPv6.0.12//NONSGML v1.0//EN
CALSCALE:GREGORIAN
METHOD:PUBLISH
X-WR-CALNAME:GPO Guam
X-ORIGINAL-URL:https://gpoguam.com
X-WR-CALDESC:Events for GPO Guam
REFRESH-INTERVAL;VALUE=DURATION:PT1H
X-Robots-Tag:noindex
X-PUBLISHED-TTL:PT1H
BEGIN:VTIMEZONE
TZID:Pacific/Guam
BEGIN:STANDARD
TZOFFSETFROM:+1000
TZOFFSETTO:+1000
TZNAME:ChST
DTSTART:20210101T000000
END:STANDARD
END:VTIMEZONE
BEGIN:VEVENT
DTSTART;VALUE=DATE:20210121
DTEND;VALUE=DATE:20220101
DTSTAMP:20260422T090701
CREATED:20210124T010736Z
LAST-MODIFIED:20210124T010736Z
UID:13360-1611187200-1640995199@gpoguam.com
SUMMARY:CALVIN KLEIN: MILITARY DISCOUNT
DESCRIPTION:Visit Calvin Klein today\, and enjoy 20% off your purchase with a valid military ID. \nExclusions apply.
URL:https://gpoguam.com/event/calvin-klein-military-discount/
LOCATION:by Calvin Klein
CATEGORIES:Fashion,Sales
END:VEVENT
BEGIN:VEVENT
DTSTART;VALUE=DATE:20210409
DTEND;VALUE=DATE:20210701
DTSTAMP:20260422T090701
CREATED:20210412T004832Z
LAST-MODIFIED:20210412T004832Z
UID:13564-1617926400-1625097599@gpoguam.com
SUMMARY:COLD STONE CREAMERY: NEW HOURS
DESCRIPTION:Cold Stone Creamery: New Hours \n\nHave dessert under the night sky at @coldstoneguam GPO location.\n\nThey are open until 8:30pm on Friday and Saturday nights!\n\n\n\n\n\nOrder online at coldstonecreamery.com or give them a call in advance at 649-4800/1  to place your orders.
URL:https://gpoguam.com/event/cold-stone-creamery-new-hours/
LOCATION:Cold Stone Creamery
CATEGORIES:Food & Beverage
END:VEVENT
BEGIN:VEVENT
DTSTART;VALUE=DATE:20210425
DTEND;VALUE=DATE:20221001
DTSTAMP:20260422T090701
CREATED:20210706T011552Z
LAST-MODIFIED:20221215T062613Z
UID:13721-1619308800-1664582399@gpoguam.com
SUMMARY:LUNCH WITH JOE GUAM
DESCRIPTION:LIVE PERFORMANCE: Lunch With Joe Guam \nJoin us for a lunch break with Joe Guam playing LIVE \nevery Tuesday from 12pm – 2pm \nthroughout the summer in Food Court. Hope to see you there! \n*PERFORMANCE WILLBE LIVE STREAMED ON GPO’S FACEBOOK & JOE GUAM’S FACEBOOK & YOUTUBE PAGE.
URL:https://gpoguam.com/event/lunch-with-joe-guam/
LOCATION:GPO Food Court
CATEGORIES:Entertainment
END:VEVENT
BEGIN:VEVENT
DTSTART;VALUE=DATE:20210501
DTEND;VALUE=DATE:20210601
DTSTAMP:20260422T090701
CREATED:20210503T064056Z
LAST-MODIFIED:20210503T064056Z
UID:13592-1619827200-1622505599@gpoguam.com
SUMMARY:WENDY'S: HONEY BUTTER CHICKEN BISCUIT
DESCRIPTION:Wendy’s: Honey Butter Chicken Biscuit \n@wendysguam is bringing you another quality BREAKFAST VALUE DEAL! $1.99* for a delicious Honey Butter Chicken Biscuit Sandwich.\nIt can’t get better than that!\n Good morning\, Guam…from Wendy’s….#NowThatsBetter.\n\nTamuning Breakfast Hours\nweekdays: 6am – 10:30am\nweekends: 6am – 11am \n*Valid for Honey Butter Chicken Biscuit Sandwich only.
URL:https://gpoguam.com/event/wendys-honey-butter-chicken-biscuit/
LOCATION:Wendy’s
CATEGORIES:Food & Beverage
END:VEVENT
BEGIN:VEVENT
DTSTART;VALUE=DATE:20210501
DTEND;VALUE=DATE:20210601
DTSTAMP:20260422T090701
CREATED:20210503T065026Z
LAST-MODIFIED:20210503T065026Z
UID:13595-1619827200-1622505599@gpoguam.com
SUMMARY:SUBWAY: NEW REESE'S PIECES COOKIE
DESCRIPTION:NEW Reese’s Pieces Cooking available at Subway! \nGet it before it’s gone at our GPO Food Court. \nCookies is available for a limited time only.
URL:https://gpoguam.com/event/subway-new-reeses-pieces-cookie/
LOCATION:Subway
CATEGORIES:Food & Beverage
END:VEVENT
BEGIN:VEVENT
DTSTART;VALUE=DATE:20210511
DTEND;VALUE=DATE:20210527
DTSTAMP:20260422T090701
CREATED:20210516T012918Z
LAST-MODIFIED:20210516T012918Z
UID:13645-1620691200-1622073599@gpoguam.com
SUMMARY:CALVIN KLEIN: THE SUMMER EVENT
DESCRIPTION:Calvin Klein: The Summer Event \nEnjoy Up to 50% Off Entire Store \n5.11.21 – 5.26.21 \nExclusions Apply
URL:https://gpoguam.com/event/calvin-klein-the-summer-event/
LOCATION:by Calvin Klein
CATEGORIES:Fashion,Sales
END:VEVENT
BEGIN:VEVENT
DTSTART;VALUE=DATE:20210511
DTEND;VALUE=DATE:20210527
DTSTAMP:20260422T090701
CREATED:20210516T013356Z
LAST-MODIFIED:20210516T013356Z
UID:13648-1620691200-1622073599@gpoguam.com
SUMMARY:CALVIN KLEIN ACCESSORIES: THE SUMMER EVENT
DESCRIPTION:Calvin Klein Accessories: The Summer Event \nAccessories Up to 50% Off \n5.11.21 – 5.26.21 \nExclusions Apply
URL:https://gpoguam.com/event/calvin-klein-accessories-the-summer-event/
LOCATION:by Calvin Klein
CATEGORIES:Accessories,Sales
END:VEVENT
BEGIN:VEVENT
DTSTART;VALUE=DATE:20210517
DTEND;VALUE=DATE:20210613
DTSTAMP:20260422T090701
CREATED:20210518T023001Z
LAST-MODIFIED:20210518T023001Z
UID:13654-1621209600-1623542399@gpoguam.com
SUMMARY:COLD STONE CREAMERY: CONGRATULATIONS CLASS OF 2021
DESCRIPTION:Cold Stone Creamery: Congratulations Class of 2021 \n\nCongratulations Class of 2021!\n\n\nTreat your Grad to @coldstoneguam Grad-Themed ice cream cakes or gift your Grad a gift card!\nOrder online at coldstonecreamery.com or give them a call.\n\n\n\nGuam Premier Outlets 649-4800/1\nSun-Thurs: 11am to 7:30pm\nFri-Sat: 11am to 8:30pm\n\n\n 
URL:https://gpoguam.com/event/cold-stone-creamery-congratulations-class-of-2021/
LOCATION:Cold Stone Creamery
CATEGORIES:Food & Beverage
END:VEVENT
BEGIN:VEVENT
DTSTART;VALUE=DATE:20210520
DTEND;VALUE=DATE:20210527
DTSTAMP:20260422T090701
CREATED:20210524T024445Z
LAST-MODIFIED:20210524T024445Z
UID:13660-1621468800-1622073599@gpoguam.com
SUMMARY:TOMMY HILFIGER: EASY SUMMER STYLE
DESCRIPTION:Tommy Hilfiger: Easy Summer Style \nAll Polos Buy One\, Get One 50% OFF* \nPlus\, 20% OFF your purchase of $100+ \nOR 15% OFF your entire purchase** \n  \nVALID FROM: MAY 20 – 26\, 2021 \n  \nPromo Code: 500025534000 \nAll styles not available at all locations. May not be available on tommy.com. Not valid for purchases through the TH Anywhere program. *Higher price prevails. One at ticketed price. Exclusions may apply. See associate for full details. Promotion not valid in the following stores: California – San Clemente\, Livermore\, Vacaville\, Tejon Ranch; Nevada – Primm. **THIS OFFER EXPIRES ON 5/26/21 and is redeemable for an amount up to the discount stated on this Offer and must be presented in-person at Tommy Hilfiger stores in the United States\, Puerto Rico\, and Guam. It may be used only once whether or not fully redeemed and must be surrendered at purchase with any remaining value of the Offer forfeited. Not redeemable for store credit or cash. The Offer may not be combined with any other promotion and has no cash value. It is not valid for previously purchased merchandise\, gift cards\, or Internet transactions. Any discount (as shown on the receipt) applied to merchandise that is returned will be deducted from any refund amount. Customer must present this posting at time of purchase to receive the Offer. Reproductions of the Offer will not be accepted. PVH associates not eligible. Not valid in department stores\, Clearance stores\, select Tommy Hilfiger stores in California and Nevada as stated above and Canada\, or on tommy.com. Promo Code: 500025534000
URL:https://gpoguam.com/event/tommy-hilfiger-easy-summer-style/
LOCATION:Tommy Hilfiger
CATEGORIES:Fashion,Sales
END:VEVENT
END:VCALENDAR