BEGIN:VCALENDAR
VERSION:2.0
PRODID:-//GPO Guam - ECPv6.0.12//NONSGML v1.0//EN
CALSCALE:GREGORIAN
METHOD:PUBLISH
X-ORIGINAL-URL:https://gpoguam.com
X-WR-CALDESC:Events for GPO Guam
REFRESH-INTERVAL;VALUE=DURATION:PT1H
X-Robots-Tag:noindex
X-PUBLISHED-TTL:PT1H
BEGIN:VTIMEZONE
TZID:Pacific/Guam
BEGIN:STANDARD
TZOFFSETFROM:+1000
TZOFFSETTO:+1000
TZNAME:ChST
DTSTART:20210101T000000
END:STANDARD
END:VTIMEZONE
BEGIN:VEVENT
DTSTART;VALUE=DATE:20210101
DTEND;VALUE=DATE:20210401
DTSTAMP:20260422T123247
CREATED:20210118T024434Z
LAST-MODIFIED:20210118T024434Z
UID:13346-1609459200-1617235199@gpoguam.com
SUMMARY:COLD STONE CREAMERY: FRUIT SMOOTHIES
DESCRIPTION:Cold Stone Creamery: Fruit Smoothies \n\nAre you looking for a refreshing drink?\nHead on over to Cold Stone Creamery Guam\nand try their FRUIT SMOOTHIES made with real fruits and juices!\n\n\n\nCold Stone Creamery is open from 11am to 7:30pm daily. Visit them today!\nTo place an order or for more info call #649-4800/1
URL:https://gpoguam.com/event/cold-stone-creamery-fruit-smoothies/
LOCATION:Cold Stone Creamery
CATEGORIES:Food & Beverage
END:VEVENT
BEGIN:VEVENT
DTSTART;VALUE=DATE:20210105
DTEND;VALUE=DATE:20210401
DTSTAMP:20260422T123247
CREATED:20210105T060046Z
LAST-MODIFIED:20210105T060046Z
UID:13303-1609804800-1617235199@gpoguam.com
SUMMARY:WENDY'S $5 BIGGIE BAG
DESCRIPTION:Wendy’s $5 Biggie Bag \n\nBiggie savings in 2021 with Wendy’s $5 Biggie Bag Meal!\n\n\n\n\n\nGet 10 pieces of chicken nuggets + a crispy chicken sandwich + fries and a drink for only $5 dollars*! The satisfying and affordable Biggie Bag from Wendy’s Guam…We got you!\n\n\n\n\n\n*Biggie Bag Meal Deal is for small size items only. Upsize and signature drinks are additional charge.
URL:https://gpoguam.com/event/wendys-5-biggie-bag-2/
LOCATION:Wendy’s
CATEGORIES:Food & Beverage,Sales
END:VEVENT
BEGIN:VEVENT
DTSTART;VALUE=DATE:20210105
DTEND;VALUE=DATE:20210401
DTSTAMP:20260422T123247
CREATED:20210105T061026Z
LAST-MODIFIED:20210105T061026Z
UID:13306-1609804800-1617235199@gpoguam.com
SUMMARY:WENDY'S: DINE-IN NOW AVAILABLE
DESCRIPTION:Wendy’s is open for DINE IN & TAKE OUT!\n\n\n\nHead on over now! The Dededo\, Hagåtña and Tamuning locations are ready to serve you.
URL:https://gpoguam.com/event/wendys-dine-in-now-available/
LOCATION:Wendy’s
CATEGORIES:Food & Beverage
END:VEVENT
BEGIN:VEVENT
DTSTART;VALUE=DATE:20210121
DTEND;VALUE=DATE:20220101
DTSTAMP:20260422T123247
CREATED:20210124T010736Z
LAST-MODIFIED:20210124T010736Z
UID:13360-1611187200-1640995199@gpoguam.com
SUMMARY:CALVIN KLEIN: MILITARY DISCOUNT
DESCRIPTION:Visit Calvin Klein today\, and enjoy 20% off your purchase with a valid military ID. \nExclusions apply.
URL:https://gpoguam.com/event/calvin-klein-military-discount/
LOCATION:by Calvin Klein
CATEGORIES:Fashion,Sales
END:VEVENT
BEGIN:VEVENT
DTSTART;VALUE=DATE:20210206
DTEND;VALUE=DATE:20210501
DTSTAMP:20260422T123247
CREATED:20210223T034958Z
LAST-MODIFIED:20210223T034958Z
UID:13457-1612569600-1619827199@gpoguam.com
SUMMARY:ABC STORES: DRIED MANGO HOT PROMOTION
DESCRIPTION:ABC Stores: Dried Mango Hot Promotion \nFrom now until April 30\, 2021 Dole Dried Mango is 3 for $7 \nStop by ABC Stores today from 11am – 8pm for this amazing deal! \n 
URL:https://gpoguam.com/event/abc-stores-dried-mango-hot-promotion/
LOCATION:ABC Stores\, Tamuning\, 96913\, Guam
CATEGORIES:Food & Beverage,Sales,Variety
END:VEVENT
BEGIN:VEVENT
DTSTART;VALUE=DATE:20210206
DTEND;VALUE=DATE:20210501
DTSTAMP:20260422T123247
CREATED:20210223T035355Z
LAST-MODIFIED:20210223T035355Z
UID:13460-1612569600-1619827199@gpoguam.com
SUMMARY:ABC STORES:  DRIED PINEAPPLE HOT PROMOTION
DESCRIPTION:ABC Stores: Dried Pineapple Hot Promotion \nFrom now until April 30\, 2021 Dole Dried Pineapple is 3 for $5! \nStop by ABC Stores today from 11am – 8pm for this amazing deal! \n 
URL:https://gpoguam.com/event/abc-stores-dried-pineapple-hot-promotion/
LOCATION:ABC Stores\, Tamuning\, 96913\, Guam
CATEGORIES:Food & Beverage,Sales,Variety
END:VEVENT
BEGIN:VEVENT
DTSTART;VALUE=DATE:20210206
DTEND;VALUE=DATE:20210501
DTSTAMP:20260422T123247
CREATED:20210223T040137Z
LAST-MODIFIED:20210223T040137Z
UID:13464-1612569600-1619827199@gpoguam.com
SUMMARY:ABC STORES: MAUNA LOA MOUNTAINS HOT PROMOTION
DESCRIPTION:ABC Stores: Mauna Loa Mountains Hot Promotion \nFrom now until April 30\, 2021 grab Mauna Loa Mountain Chocolate boxes for 2 for $5. \nCome on by to ABC Stores from 11am – 8pm for this amazing deal!
URL:https://gpoguam.com/event/abc-stores-mauna-loa-mountains-hot-promotion/
LOCATION:ABC Stores\, Tamuning\, 96913\, Guam
CATEGORIES:Food & Beverage,Sales,Variety
END:VEVENT
BEGIN:VEVENT
DTSTART;VALUE=DATE:20210207
DTEND;VALUE=DATE:20210401
DTSTAMP:20260422T123247
CREATED:20210207T071700Z
LAST-MODIFIED:20210207T071700Z
UID:13400-1612656000-1617235199@gpoguam.com
SUMMARY:WENDY'S: 2 FOR $4 BREAKFAST
DESCRIPTION:Wendy’s: 2 For $4 Breakfast \nWendy’s Guam is rolling out the BEST Breakfast Deal on Guam! \nGet 2 Wendy’s Breakfast sandwiches for $4! \n\nChoose from the classic bacon\, egg & cheese\, classic sausage\, egg & cheese\nor the honey butter chicken biscuit!\n\nThat’s right…pick any 2 for just 4 bucks!\n\nHands down the BEST Breakfast Value on Guam!\n\nOnly at Wendy’s….now that’s better!
URL:https://gpoguam.com/event/wendys-2-for-4-breakfast-2/
LOCATION:Wendy’s
CATEGORIES:Food & Beverage
END:VEVENT
BEGIN:VEVENT
DTSTART;VALUE=DATE:20210217
DTEND;VALUE=DATE:20210322
DTSTAMP:20260422T123247
CREATED:20210218T013351Z
LAST-MODIFIED:20210307T020021Z
UID:13442-1613520000-1616371199@gpoguam.com
SUMMARY:CALVIN KLEIN: SPRING SALE
DESCRIPTION:Calvin Klein: Spring Sale \nSave Up to 50% Off Entire Store \nValid Until: March 21\, 2021 \n*Exclusions Apply
URL:https://gpoguam.com/event/calvin-klein-spring-sale/
LOCATION:by Calvin Klein
CATEGORIES:Fashion,Sales
END:VEVENT
BEGIN:VEVENT
DTSTART;VALUE=DATE:20210217
DTEND;VALUE=DATE:20210322
DTSTAMP:20260422T123247
CREATED:20210218T014259Z
LAST-MODIFIED:20210307T015637Z
UID:13445-1613520000-1616371199@gpoguam.com
SUMMARY:CALVIN KLEIN ACCESSORIES: SPRING SALE
DESCRIPTION:Calvin Klein Accessories: Spring Sale \nAccessories Up to 50% Off \nValid Until: March 21\, 2021 \n*Exclusions Apply
URL:https://gpoguam.com/event/calvin-klein-accessories-spring-sale/
LOCATION:by Calvin Klein
CATEGORIES:Fashion,Sales
END:VEVENT
BEGIN:VEVENT
DTSTART;VALUE=DATE:20210217
DTEND;VALUE=DATE:20210404
DTSTAMP:20260422T123247
CREATED:20210217T024121Z
LAST-MODIFIED:20210217T024121Z
UID:13426-1613520000-1617494399@gpoguam.com
SUMMARY:KING'S : LENT MENU
DESCRIPTION:King’s : Lent Menu \n\nCatch the wave of fish & seafood at King’s Restaurant!\nThe Lent Menu is back & available for a limited time only.\n\n\n\nKing’s is open 6am – 11pm daily.\n\n647-5464 for more info or to place an order.\n\n Indoor / Outdoor dining available.\n\n Delivery service available through @grabngrubguam & UnoGo.
URL:https://gpoguam.com/event/kings-lent-menu/
LOCATION:King’s Restaurant
CATEGORIES:Food & Beverage
END:VEVENT
BEGIN:VEVENT
DTSTART;VALUE=DATE:20210217
DTEND;VALUE=DATE:20210404
DTSTAMP:20260422T123247
CREATED:20210217T025222Z
LAST-MODIFIED:20210217T025222Z
UID:13429-1613520000-1617494399@gpoguam.com
SUMMARY:RUBY TUESDAY: SEAFOOD SENSATIONS
DESCRIPTION:Ruby Tuesday: Seafood Sensations \nRuby Tuesday Seafood Sensations menu is back in perfect time for LENT! \nA special selection of tasty treats from the sea that are so good\, you will want to try them all! \nAvailable for Dine-in\, Carryout\, or Delivery through Grab N’Grub or UNO GO! \n\nFor more info or to place your order 647-7829 .\n\nRuby Tuesday is open 11am – 9pm (last call at 8:30pm).\n\n\n\nCurbside Pickup & Indoor/Outdoor dining available!\n\n\n\nDelivery service available through Grab N Grub.
URL:https://gpoguam.com/event/ruby-tuesday-seafood-sensations/
LOCATION:Ruby Tuesday
CATEGORIES:Food & Beverage
END:VEVENT
BEGIN:VEVENT
DTSTART;VALUE=DATE:20210217
DTEND;VALUE=DATE:20210404
DTSTAMP:20260422T123247
CREATED:20210217T025705Z
LAST-MODIFIED:20210217T030756Z
UID:13433-1613520000-1617494399@gpoguam.com
SUMMARY:AJISEN RAMEN: LENTEN SPECIALS
DESCRIPTION:Ajisen Ramen: Lenten Specials\n\nAvailable for a limited time\, check out Ajisen Ramen\nLenten Specials! \n\n\n\nAjisen Ramen is open 11am – 9pm daily.\n\n649-8895 for more info or to place an order.\n\nCurbside Pickup Available\n\nIndoor/Outdoor Dining Available\n\nDelivery service available through Grab N Grub
URL:https://gpoguam.com/event/ajisen-ramen-lenten-specials/
LOCATION:Ajisen Ramen\, Tamuning
CATEGORIES:Food & Beverage
END:VEVENT
BEGIN:VEVENT
DTSTART;VALUE=DATE:20210218
DTEND;VALUE=DATE:20210401
DTSTAMP:20260422T123247
CREATED:20210218T023417Z
LAST-MODIFIED:20210218T023417Z
UID:13448-1613606400-1617235199@gpoguam.com
SUMMARY:GUESS & LEVI'S OUTLET STORE: NOW OPEN!
DESCRIPTION:Guess & Levi’s has opened a new outlet store near Famous Footwear. \nCome on by and check out the amazing deals on apparel\, handbags\, shoes\, & more!
URL:https://gpoguam.com/event/guess-levis-outlet-store-now-open/
LOCATION:Guess? Outlet
CATEGORIES:Accessories,Fashion,Sales
END:VEVENT
BEGIN:VEVENT
DTSTART;VALUE=DATE:20210218
DTEND;VALUE=DATE:20210401
DTSTAMP:20260422T123247
CREATED:20210221T064551Z
LAST-MODIFIED:20210221T064551Z
UID:13454-1613606400-1617235199@gpoguam.com
SUMMARY:SUBWAY: FRESH LENTEN FLAVORS
DESCRIPTION:Subway: Fresh Lenten Specials \nFresh Lenten Flavors available at Subway! \nCome on by today and try out these amazing specials while they are available. \nSubway is open at our Food Court from 11am – 7pm daily.
URL:https://gpoguam.com/event/subway-fresh-lenten-flavors/
LOCATION:Subway
CATEGORIES:Food & Beverage
END:VEVENT
BEGIN:VEVENT
DTSTART;VALUE=DATE:20210301
DTEND;VALUE=DATE:20210401
DTSTAMP:20260422T123247
CREATED:20210307T023438Z
LAST-MODIFIED:20210307T023438Z
UID:13506-1614556800-1617235199@gpoguam.com
SUMMARY:SKECHERS: BOGO FREE SALE
DESCRIPTION:Skechers: Buy One Get one FREE \nSkechers Buy One Get One FREE sale has been extended until \nMarch 31\, 2021! \nThe sale is only available at our GPO location. \n*PURCHASE ANY TWO ITEMS IN THE SAME TRANSACTION & RECEIVE THE SECOND ITEM FREE. FREE ITEM MUST BE EQUAL OR OF LESSER VALUE. FOR GUAM RESIDENTS ONLY. SKECHERS’ DECISION SHALL BE FINAL.
URL:https://gpoguam.com/event/skechers-bogo-free-sale/
LOCATION:Skechers
CATEGORIES:Accessories,Fashion,Sales
END:VEVENT
BEGIN:VEVENT
DTSTART;VALUE=DATE:20210306
DTEND;VALUE=DATE:20210401
DTSTAMP:20260422T123247
CREATED:20210307T051401Z
LAST-MODIFIED:20210307T051401Z
UID:13509-1614988800-1617235199@gpoguam.com
SUMMARY:COLD STONE CREAMERY: CLASSIC COOKIE DOUGH ICE CREAM
DESCRIPTION:Cold Stone Creamery: Classic Cookie Dough Ice Cream \nClassic Cookie Dough Ice Cream is back at @coldstoneguam! Try their two NEW Signature Creation™…their Somewhere Over the Rain-Dough™ made with Classic Cookie Dough Ice Cream\, Frosting\, Rainbow Sprinkles and Sugar Crystals and their Dough For It™ made with Classic Cookie Dough Ice Cream\, Chocolate Chips\, Cookie Dough and Sugar Crystals. \nHead on over to @coldstoneguam today! They’re open daily from 11am to 7:30pm. \nCall our Guam Premier Outlets #649-4800/1 for more information.
URL:https://gpoguam.com/event/cold-stone-creamery-classic-cookie-dough-ice-cream/
LOCATION:Cold Stone Creamery
CATEGORIES:Food & Beverage
END:VEVENT
BEGIN:VEVENT
DTSTART;VALUE=DATE:20210307
DTEND;VALUE=DATE:20210401
DTSTAMP:20260422T123247
CREATED:20210307T052849Z
LAST-MODIFIED:20210307T052849Z
UID:13518-1615075200-1617235199@gpoguam.com
SUMMARY:COLD STONE CREAMERY: PEANUT BUTTER COOKIE DOUGH ICE CREAM
DESCRIPTION:Cold Stone Creamery: Peanut Butter Cookie Dough Ice Cream \nTake a break from the heat and head on over to @coldstoneguam to try their NEW Peanut Butter Cookie Dough Ice Cream!  \nThey have two NEW Signature Creation™ to choose from… the PB Dough Delight™ made with Peanut Butter Cookie Dough Ice Cream\, REESE’S Peanut Butter Cup\, Cookie Dough & Fudge and the Peanut Butter Pretzel Time™ made with Peanut Butter Cookie Dough Ice Cream\, Pretzels\, Sugar Crystals & REESE’S Peanut Butter Sauce. \n\nCall our Guam Premier Outlets location #649-4800/1\nfor more information\n\n\n\nCold Stone is is open 11am to 7:30pm daily.
URL:https://gpoguam.com/event/cold-stone-creamery-peanut-butter-cookie-dough-ice-cream/
LOCATION:Cold Stone Creamery
CATEGORIES:Food & Beverage
END:VEVENT
BEGIN:VEVENT
DTSTART;VALUE=DATE:20210314
DTEND;VALUE=DATE:20210401
DTSTAMP:20260422T123247
CREATED:20210314T011002Z
LAST-MODIFIED:20210314T011002Z
UID:13532-1615680000-1617235199@gpoguam.com
SUMMARY:WENDY'S: NEW JALAPENO POPPER
DESCRIPTION:Wendy’s: New Jalapeno Popper\n\nWendy’s is going all in on flavor with the NEW Jalapeño Popper Chicken sandwich and salad! Bursting with jalapeños\, spicy chicken\, shredded pepper jack cheese and crispy Applewood smoked bacon. You’ve never tasted anything like it.\n\n\n\n\n\nHurry and try the new Jalapeño Popper Chicken duo…only at @wendysguam. #NowThatsBetter\n\n\n\n\n\nTheir locations are open for DINE IN. Head on over today!\n\n\nWendy’s Tamuning location is open 6am – 10pm daily.
URL:https://gpoguam.com/event/wendys-new-jalapeno-popper/
LOCATION:Wendy’s
CATEGORIES:Food & Beverage
END:VEVENT
BEGIN:VEVENT
DTSTART;VALUE=DATE:20210318
DTEND;VALUE=DATE:20210325
DTSTAMP:20260422T123247
CREATED:20210318T052746Z
LAST-MODIFIED:20210318T053135Z
UID:13542-1616025600-1616630399@gpoguam.com
SUMMARY:TOMMY HILFIGER: ALL NEW\, ALL YOU\, IN STORES NOW!
DESCRIPTION:Tommy Hilfiger: All New\, All You\, In Stores NOW! \n30-40% OFF All Men’s & Women’s Polos \nPlus\, 20% OFF your purchase of $100+ \nOR \n15% OFF YOUR ENTIRE PURCHASE** \nValid From: March 18 – 24 \nPromo Code: 500025337000 \n  \nAll styles not available at all locations. May not be available on tommy.com. Not valid for purchases through the TH Anywhere program. *Ticketed price. Exclusions apply. Promotion not valid in the following stores: California – San Clemente\, Livermore\, Vacaville\, Tejon Ranch; Nevada – Primm. **THIS OFFER MAY NOT BE USED OR COMBINED WITH ANY OTHER BARCODE DISCOUNT OFFERS. THIS OFFER EXPIRES ON 3/24/21 and is redeemable for an amount up to the discount stated on this Offer and must be presented in-person at Tommy Hilfiger stores in the United States\, Puerto Rico\, and Guam. It may be used only once whether or not fully redeemed and must be surrendered at purchase with any remaining value of the Offer forfeited. Not redeemable for store credit or cash. The Offer may not be combined with any other promotion and has no cash value. It is not valid for previously purchased merchandise\, gift cards\, or Internet transactions. Any discount (as shown on the receipt) applied to merchandise that is returned will be deducted from any refund amount. Customer must present this posting at time of purchase to receive the Offer. Reproductions of the Offer will not be accepted. PVH associates not eligible. Not valid in department stores\, Clearance stores\, select Tommy Hilfiger stores in California and Nevada as stated above and Canada\, or on tommy.com.
URL:https://gpoguam.com/event/tommy-hilfiger-all-new-all-you-in-stores-now/
LOCATION:Tommy Hilfiger
CATEGORIES:Fashion,Sales
END:VEVENT
END:VCALENDAR