BEGIN:VCALENDAR
VERSION:2.0
PRODID:-//GPO Guam - ECPv6.0.12//NONSGML v1.0//EN
CALSCALE:GREGORIAN
METHOD:PUBLISH
X-WR-CALNAME:GPO Guam
X-ORIGINAL-URL:https://gpoguam.com
X-WR-CALDESC:Events for GPO Guam
REFRESH-INTERVAL;VALUE=DURATION:PT1H
X-Robots-Tag:noindex
X-PUBLISHED-TTL:PT1H
BEGIN:VTIMEZONE
TZID:Pacific/Guam
BEGIN:STANDARD
TZOFFSETFROM:+1000
TZOFFSETTO:+1000
TZNAME:ChST
DTSTART:20200101T000000
END:STANDARD
END:VTIMEZONE
BEGIN:VEVENT
DTSTART;VALUE=DATE:20201228
DTEND;VALUE=DATE:20210113
DTSTAMP:20260420T022328
CREATED:20201223T033912Z
LAST-MODIFIED:20210105T055501Z
UID:13294-1609113600-1610495999@gpoguam.com
SUMMARY:CALVIN KLEIN: END OF THE YEAR SALE
DESCRIPTION:Calvin Klein: End Of The Year Sale \nEnjoy Up to 80% Off Entire Store \nValid: 12.28.20 1.12.21 \nExclusions Apply
URL:https://gpoguam.com/event/calvin-klein-end-of-the-year-sale/
LOCATION:by Calvin Klein
CATEGORIES:Fashion,Sales
END:VEVENT
BEGIN:VEVENT
DTSTART;VALUE=DATE:20201228
DTEND;VALUE=DATE:20210113
DTSTAMP:20260420T022328
CREATED:20201223T034117Z
LAST-MODIFIED:20210105T055308Z
UID:13296-1609113600-1610495999@gpoguam.com
SUMMARY:CALVIN KLEIN ACCESSORIES: END OF THE YEAR SALE
DESCRIPTION:Calvin Klein Accessories: End Of The Year Sale \nAccessories Up to 80% Off \nValid: 12.28.20 1.12.21 \nExclusions Apply
URL:https://gpoguam.com/event/calvin-klein-accessories-end-of-the-year-sale/
LOCATION:by Calvin Klein
CATEGORIES:Fashion,Sales
END:VEVENT
BEGIN:VEVENT
DTSTART;VALUE=DATE:20201231
DTEND;VALUE=DATE:20210112
DTSTAMP:20260420T022328
CREATED:20201223T033610Z
LAST-MODIFIED:20201223T033610Z
UID:13292-1609372800-1610409599@gpoguam.com
SUMMARY:TOMMY HILFIGER: UP TO 70% OFF ENTIRE STORE
DESCRIPTION:Tommy Hilfiger: Up \,To 70% OFF Entire Store \nDECEMBER 31 – JANUARY 11 \nUP TO 70% OFF ENTIRE STORE* \nPLUS\, 20% OFF YOUR PURCHASE OF $100+ \nOR \n15% OFF YOUR ENTIRE PURCHASE** \nPromo Code: 500025171000 \n\nAll styles not available at all locations. May not be available on tommy.com. *Ticketed price. Exclusions apply. Promotion not valid in the following stores: California – San Clemente\, Livermore\, Vacaville\, Tejon Ranch; Nevada – Primm. ** THIS OFFER EXPIRES ON 1/11/21 and is redeemable for an amount up to the discount stated on this Offer and must be presented in-person at Tommy Hilfiger stores in the United States\, Puerto Rico\, and Guam. It may be used only once whether or not fully redeemed and must be surrendered at purchase with any remaining value of the Offer forfeited. Not redeemable for store credit or cash. The Offer may not be combined with any other promotion and has no cash value. It is not valid for previously purchased merchandise\, gift cards\, or Internet transactions. Any discount (as shown on the receipt) applied to merchandise that is returned will be deducted from any refund amount. Customer must present this posting at time of purchase to receive the Offer. Reproductions of the Offer will not be accepted. PVH associates not eligible. Not valid in department stores\, Clearance stores\, select Tommy Hilfiger stores in California and Nevada as stated above and Canada\, or on tommy.com. Promo Code: 500025171000
URL:https://gpoguam.com/event/tommy-hilfiger-up-to-70-off-entire-store-2/
LOCATION:Tommy Hilfiger
CATEGORIES:Fashion,Sales
END:VEVENT
BEGIN:VEVENT
DTSTART;VALUE=DATE:20210101
DTEND;VALUE=DATE:20210201
DTSTAMP:20260420T022328
CREATED:20210113T012931Z
LAST-MODIFIED:20210113T012931Z
UID:13322-1609459200-1612137599@gpoguam.com
SUMMARY:IT&E: PREPAID SAVINGS
DESCRIPTION:IT&E: Prepaid Savings\n\nStart off the year with Prepaid savings!\nGet the Samsung A11 at prepaid for $179 or Samsung A21s for $244\nuntil January 31st and we’ll throw in\n7 days of UNLIMITED Prepaid services to include voice\, sms and data plus calls to the U.S. for FREE!\n\n\n\nShop for your new handset online at https://store.ite.net/prepaid-phones-with-no-contract/.\nPlus\, when you shop online\, you can avail of same day pickup when you pay the $10 fee.
URL:https://gpoguam.com/event/ite-prepaid-savings/
LOCATION:by IT&E
CATEGORIES:Communications,Sales
END:VEVENT
BEGIN:VEVENT
DTSTART;VALUE=DATE:20210101
DTEND;VALUE=DATE:20210201
DTSTAMP:20260420T022328
CREATED:20210113T013614Z
LAST-MODIFIED:20210113T013614Z
UID:13325-1609459200-1612137599@gpoguam.com
SUMMARY:IT&E: DOUBLE DATA
DESCRIPTION:IT&E: Double Data \n\nDOUBLE DATA is back!! Get twice the amount of data on select postpaid plans at the same low price.\n\n\nEnjoy double data on the $30 or $50 monthly Single or Bring Your Phone plans. That’s up to 40GB of data every month for as low as $50 a month!\n\n\nSign up now! https://store.ite.net/double-data/\n\n\nMake the switch! Keep your number and port over to IT&E on any Postpaid plan with a contract term and get $50 applied to your account\, plus your $15 activation fee waived!\n\n\nClick the link below for a helpful checklist when porting over.\nhttps://store.ite.net/…/01/bringing-your-number-with-you/\n\n\nPromotional offer available until 01/31 only.
URL:https://gpoguam.com/event/ite-double-data/
LOCATION:by IT&E
CATEGORIES:Communications,Sales
END:VEVENT
BEGIN:VEVENT
DTSTART;VALUE=DATE:20210101
DTEND;VALUE=DATE:20210201
DTSTAMP:20260420T022328
CREATED:20210113T014403Z
LAST-MODIFIED:20210113T014403Z
UID:13328-1609459200-1612137599@gpoguam.com
SUMMARY:IT&E: NEW YEAR NEW NETWORK
DESCRIPTION:IT&E: New Year New Network\n\nNew SIM\, who this?! Say goodbye to your SIM and services that you had in 2020 and say hello to a new Prepaid SIM and services in 2021.\n\nPrepaid SIM swaps are back at IT&E until 01/31.\n\n\n\nBring your active non-IT&E SIM to any IT&E location and walk away with a FREE IT&E Prepaid SIM that includes $10 of prepaid load.\n\n\n\nMake the switch this year and check out all Prepaid plans online at https://store.ite.net/switch-over/.
URL:https://gpoguam.com/event/ite-new-year-new-network/
LOCATION:by IT&E
CATEGORIES:Communications,Sales
END:VEVENT
BEGIN:VEVENT
DTSTART;VALUE=DATE:20210101
DTEND;VALUE=DATE:20210204
DTSTAMP:20260420T022328
CREATED:20210126T062821Z
LAST-MODIFIED:20210126T062821Z
UID:13370-1609459200-1612396799@gpoguam.com
SUMMARY:WENDY'S: 2 FOR $4 BREAKFAST
DESCRIPTION:Wendy’s: 2 For $4 Breakafast \n\nWendy’s Guam is rolling out the BEST Breakfast Deal on Guam!\nGet 2 Wendy’s Breakfast sandwiches for $4!\n\n\nChoose from the classic bacon\, egg & cheese\, classic sausage\, egg & cheese or the honey butter chicken biscuit! That’s right…pick any 2 for just 4 bucks! Hands down the BEST Breakfast Value on Guam! Only at Wendy’s….now that’s better!
URL:https://gpoguam.com/event/wendys-2-for-4-breakfast/
LOCATION:Wendy’s
CATEGORIES:Food & Beverage
END:VEVENT
BEGIN:VEVENT
DTSTART;VALUE=DATE:20210101
DTEND;VALUE=DATE:20210301
DTSTAMP:20260420T022328
CREATED:20210118T025412Z
LAST-MODIFIED:20210118T025412Z
UID:13349-1609459200-1614556799@gpoguam.com
SUMMARY:SKECHERS: HAPPY 2021 SALE
DESCRIPTION:Skechers: Happy 2021 Sale \nBuy One Get One FREE shoe at Skechers. \nPromotion Valid Until: February 28\, 2021 \n* SALE ONLY AT OUR GPO LOCATION. PURCHASE ANY TW0 ITEMS IN THE SAME TRANSACTION & RECEIVE THE SECOND ITEM FREE. SECOND ITEM MUST BE EQUAL OR OF LESSER VALUE. PROMOTION ONLY VALID FOR GUAM RESIDENTS. SKECHERS’ DECISION SHALL BE FINAL.
URL:https://gpoguam.com/event/skechers-happy-2021-sale/
CATEGORIES:Accessories,Fashion,Sales
END:VEVENT
BEGIN:VEVENT
DTSTART;VALUE=DATE:20210101
DTEND;VALUE=DATE:20210401
DTSTAMP:20260420T022328
CREATED:20210118T024434Z
LAST-MODIFIED:20210118T024434Z
UID:13346-1609459200-1617235199@gpoguam.com
SUMMARY:COLD STONE CREAMERY: FRUIT SMOOTHIES
DESCRIPTION:Cold Stone Creamery: Fruit Smoothies \n\nAre you looking for a refreshing drink?\nHead on over to Cold Stone Creamery Guam\nand try their FRUIT SMOOTHIES made with real fruits and juices!\n\n\n\nCold Stone Creamery is open from 11am to 7:30pm daily. Visit them today!\nTo place an order or for more info call #649-4800/1
URL:https://gpoguam.com/event/cold-stone-creamery-fruit-smoothies/
LOCATION:Cold Stone Creamery
CATEGORIES:Food & Beverage
END:VEVENT
END:VCALENDAR