BEGIN:VCALENDAR
VERSION:2.0
PRODID:-//GPO Guam - ECPv6.0.12//NONSGML v1.0//EN
CALSCALE:GREGORIAN
METHOD:PUBLISH
X-ORIGINAL-URL:https://gpoguam.com
X-WR-CALDESC:Events for GPO Guam
REFRESH-INTERVAL;VALUE=DURATION:PT1H
X-Robots-Tag:noindex
X-PUBLISHED-TTL:PT1H
BEGIN:VTIMEZONE
TZID:Pacific/Guam
BEGIN:STANDARD
TZOFFSETFROM:+1000
TZOFFSETTO:+1000
TZNAME:ChST
DTSTART:20200101T000000
END:STANDARD
END:VTIMEZONE
BEGIN:VEVENT
DTSTART;VALUE=DATE:20200701
DTEND;VALUE=DATE:20201201
DTSTAMP:20260422T185215
CREATED:20200701T050703Z
LAST-MODIFIED:20201115T002529Z
UID:12712-1593561600-1606780799@gpoguam.com
SUMMARY:SKECHERS BLOW OUT SALE
DESCRIPTION:  \nBuy One Get One Free at Skechers \nJuly 1\, 2020 – November 31\, 2020 \n*Cash & Carry ONLY \n*All sales are final. No return & exchange. \n*GPO location ONLY \n*Free shoe is of equal value or less. Cannot be combined with other discounts or offers. \n 
URL:https://gpoguam.com/event/skechers-blow-out-sale/
LOCATION:Skechers
CATEGORIES:Sales
END:VEVENT
BEGIN:VEVENT
DTSTART;VALUE=DATE:20200717
DTEND;VALUE=DATE:20210101
DTSTAMP:20260422T185215
CREATED:20200717T064702Z
LAST-MODIFIED:20201029T060847Z
UID:12807-1594944000-1609459199@gpoguam.com
SUMMARY:SUBWAY $5 FOOTLONG
DESCRIPTION:Subway $5 Footlong \nFor a limited time buy a footlong at Subway and get another for $5 only! \nPlease visit website link for more information.
URL:https://gpoguam.com/event/subway-5-footlong/
CATEGORIES:Food & Beverage,Sales
END:VEVENT
BEGIN:VEVENT
DTSTART;TZID=Pacific/Guam:20200724T110000
DTEND;TZID=Pacific/Guam:20201130T190000
DTSTAMP:20260422T185215
CREATED:20200726T015521Z
LAST-MODIFIED:20201029T055635Z
UID:12839-1595588400-1606762800@gpoguam.com
SUMMARY:CINNABON: BUY ONE GET ONE FREE SPECIAL
DESCRIPTION:Buy One Get One FREE Cinnabon Stix Special \nStop by our GPO location from 11am-7pm today and grab a cup of the delightful twist with a frosty dip today! \n*Not valid with any other offer. No cash back.
URL:https://gpoguam.com/event/cinnabon-buy-one-get-one-free-special/
LOCATION:Cinnabon
CATEGORIES:Food & Beverage,Sales
END:VEVENT
BEGIN:VEVENT
DTSTART;TZID=Pacific/Guam:20201001T110000
DTEND;TZID=Pacific/Guam:20201130T190000
DTSTAMP:20260422T185215
CREATED:20201006T011737Z
LAST-MODIFIED:20201029T055048Z
UID:13045-1601550000-1606762800@gpoguam.com
SUMMARY:CINNABON: BOGO 50% OFF
DESCRIPTION:Cinnabon: Buy One Get One 50% OFF \nBuy One\, Get One 50% OFF on bakery items at all Guam Cinnabon locations.* \n*Second item must be equal to \, or less than the price of the first item. Excludes drinks and any other non-bakery items. Not valid with any other offer. No cash back. \nEnjoy Cinnabon pastries and drinks 11am-7pm daily. \nFor more info call (671)633-2667. \n 
URL:https://gpoguam.com/event/cinnabon-bogo-50-off/
LOCATION:Cinnabon
CATEGORIES:Food & Beverage,Sales
END:VEVENT
BEGIN:VEVENT
DTSTART;VALUE=DATE:20201007
DTEND;VALUE=DATE:20210101
DTSTAMP:20260422T185215
CREATED:20201103T030025Z
LAST-MODIFIED:20201103T030025Z
UID:13103-1602028800-1609459199@gpoguam.com
SUMMARY:SUBWAY: NEW BBQ CHICKEN SUB
DESCRIPTION:Subway: New BBQ Chicken Sub \nSubway has a new sub on the menu  \nCome by to GPO and order the sub to go or to enjoy on our outside dining near the entrance of the food court. \nThe food court is open 11am – 7pm daily.
URL:https://gpoguam.com/event/subway-new-bbq-chicken-sub/
LOCATION:Subway
CATEGORIES:Food & Beverage
END:VEVENT
BEGIN:VEVENT
DTSTART;VALUE=DATE:20201029
DTEND;VALUE=DATE:20201203
DTSTAMP:20260422T185215
CREATED:20201119T063924Z
LAST-MODIFIED:20201119T063924Z
UID:13142-1603929600-1606953599@gpoguam.com
SUMMARY:VITAMIN WORLD: EARLY BLACK FRIDAY SALE
DESCRIPTION:Vitamin World: Early Black Friday Sale \nValid Until: December 2\, 2020 \n\n40% OFF Men’s Health (select energy\, digestion\, multivitamins & cardio items) & All Precision Energy products\n40% OFF Vitamin World Platinum (select items)\nUp to 30% OFF New Arrivals (select items)\nDoorbusters\nBuy One Get One 50% OFF Mix & Match (select items)\nBuy One Get One FREE Pedia-V Mix & Match\nBuy One Get One FREE (select items)\nClearance Up to 80% OFF\n\nExclusions May Apply. 
URL:https://gpoguam.com/event/vitamin-world-early-black-friday-sale/
LOCATION:Vitamin World
CATEGORIES:Health & Beauty,Sales
END:VEVENT
BEGIN:VEVENT
DTSTART;TZID=Pacific/Guam:20201030T060000
DTEND;TZID=Pacific/Guam:20201130T010000
DTSTAMP:20260422T185215
CREATED:20201030T041953Z
LAST-MODIFIED:20201030T041953Z
UID:13088-1604037600-1606698000@gpoguam.com
SUMMARY:WENDY'S UPDATED HOURS
DESCRIPTION:Wendy’s: Updated Hours & Services \nWendy’s Guam is ready to serve those that have to be out via their drive thru. Curbside pickup now available but with limited hours. Give them a call to place your order. \nKind reminder to wear your face mask at their pick up windows and in your vehicles when picking up via curbside. Stay safe and well\, Guam! \nDededo – 647-8800\nBarrigada – 734-8828\nTamuning – 647-0282\nHagåtña – 475-8800\nNavy – 564-8800
URL:https://gpoguam.com/event/wendys-updated-hours/
LOCATION:Wendy’s
CATEGORIES:Food & Beverage
END:VEVENT
BEGIN:VEVENT
DTSTART;VALUE=DATE:20201101
DTEND;VALUE=DATE:20201201
DTSTAMP:20260422T185215
CREATED:20201119T072917Z
LAST-MODIFIED:20201119T073008Z
UID:13156-1604188800-1606780799@gpoguam.com
SUMMARY:MEMORIES OF GUAM: EARLY BLACK FRIDAY SALE
DESCRIPTION:Memories of Guam: Early Black Friday Sale \nValid Until: November 30\, 2020⁣\n⁣\nBuy 1 get 1 FREE all Guam cases ( offer applies in store ONLY) ⁣
URL:https://gpoguam.com/event/memories-of-guam-early-black-friday-sale/
LOCATION:Memories of Guam\, Tamuning\, 96913\, Guam
CATEGORIES:Sales,Variety
END:VEVENT
BEGIN:VEVENT
DTSTART;VALUE=DATE:20201113
DTEND;VALUE=DATE:20201201
DTSTAMP:20260422T185215
CREATED:20201119T074006Z
LAST-MODIFIED:20201119T074006Z
UID:13163-1605225600-1606780799@gpoguam.com
SUMMARY:MEMORIES OF GUAM: BUY 2 GET 1 FREE
DESCRIPTION:Memories of Guam: Buy Two Get One FREE \nBuy Two Get One FREE! \nOffer applies in store and online at www.memoriesofguam.com \nuse code 𝐅𝐑𝐄𝐄𝐁𝐄𝐀𝐑 upon checking out! ⁣ \n⁣Available in 4 other colors ⁣
URL:https://gpoguam.com/event/memories-of-guam-buy-2-get-1-free/
LOCATION:Memories of Guam\, Tamuning\, 96913\, Guam
CATEGORIES:Sales,Variety
END:VEVENT
BEGIN:VEVENT
DTSTART;VALUE=DATE:20201122
DTEND;VALUE=DATE:20201130
DTSTAMP:20260422T185215
CREATED:20201124T081554Z
LAST-MODIFIED:20201124T082002Z
UID:13174-1606003200-1606694399@gpoguam.com
SUMMARY:CALVIN KLEIN: Black Friday Sale
DESCRIPTION:Calvin Klein: Black Friday Sale \nVALID UNTIL: November 29\, 2020 \n  \nStart your Christmas shopping early & shop at Calvin Klein today! \nCalvin Klein is giving 40 – 80% OFF the entire store! \nCalvin Klein members receive an additional 20% OFF the entire purchase. \nPlus\, become a preferred member & receive 30% OFF your entire purchase! \n*Exclusions May Apply.
URL:https://gpoguam.com/event/calvin-klein-black-friday-sale-2/
LOCATION:by Calvin Klein
CATEGORIES:Fashion,Sales
END:VEVENT
BEGIN:VEVENT
DTSTART;VALUE=DATE:20201123
DTEND;VALUE=DATE:20201128
DTSTAMP:20260422T185215
CREATED:20201125T111209Z
LAST-MODIFIED:20201125T111209Z
UID:13205-1606089600-1606521599@gpoguam.com
SUMMARY:MEMORIES OF GUAM: Black Friday Sale
DESCRIPTION:Memories of Guam: Black Friday Sale \nVALID UNTIL: November 27\, 2020 \nReceive 30% OFF your ENTIRE purchase at Memories of Guam!
URL:https://gpoguam.com/event/memories-of-guam-black-friday-sale/
LOCATION:Memories of Guam\, Tamuning\, 96913\, Guam
CATEGORIES:Fashion,Sales
END:VEVENT
BEGIN:VEVENT
DTSTART;VALUE=DATE:20201123
DTEND;VALUE=DATE:20201130
DTSTAMP:20260422T185215
CREATED:20201119T065644Z
LAST-MODIFIED:20201119T065644Z
UID:13148-1606089600-1606694399@gpoguam.com
SUMMARY:TOMMY HILFIGER: BLACK FRIDAY SALE
DESCRIPTION:Tommy Hilfiger: Black Friday Sale \nNovember 23 – November 29\, 2020 \n  \n50-70% OFF entire store* \nPlus\, 25% OFF your purchase of  $200+ \nOR 20% OFF your purchase of $100+ \nOR \n15% OFF your entire purchase** \n  \nPromo Code: 500024998000 \n\nAll styles not available at all locations. May not be available on tommy.com. *Ticketed price. Exclusions apply. Promotion not valid in the following stores: California – San Clemente\, Livermore\, Vacaville\, Tejon Ranch; Nevada – Primm. **THIS OFFER EXPIRES ON 11/29/20 and is redeemable for an amount up to the discount stated on this Offer and must be presented in-person at Tommy Hilfiger stores in the United States\, Puerto Rico\, and Guam. It may be used only once whether or not fully redeemed and must be surrendered at purchase with any remaining value of the Offer forfeited. Not redeemable for store credit or cash. The Offer may not be combined with any other promotion and has no cash value. It is not valid for previously purchased merchandise\, gift cards\, or Internet transactions. Any discount (as shown on the receipt) applied to merchandise that is returned will be deducted from any refund amount. Customer must present this posting at time of purchase to receive the Offer. Reproductions of the Offer will not be accepted. PVH associates not eligible. Not valid in department stores\, Clearance stores\, select Tommy Hilfiger stores in California and Nevada as stated above and Canada\, or on tommy.com. Promo Code: 500024998000
URL:https://gpoguam.com/event/tommy-hilfiger-black-friday-sale-2/
LOCATION:Tommy Hilfiger
CATEGORIES:Fashion,Sales
END:VEVENT
BEGIN:VEVENT
DTSTART;VALUE=DATE:20201123
DTEND;VALUE=DATE:20201130
DTSTAMP:20260422T185215
CREATED:20201124T082615Z
LAST-MODIFIED:20201124T082615Z
UID:13179-1606089600-1606694399@gpoguam.com
SUMMARY:TOMMY HILFIGER: Black Friday Sale
DESCRIPTION:Tommy Hilfiger: Black Friday Sale \nVALID UNTIL: November 29\, 2020 \nHappening now! Black Friday Sale at Tommy Hilfiger. All the Tommy Gear\, from sweaters and T-shirts to bags and accessories\, ready for gifting at the best prices of the season.
URL:https://gpoguam.com/event/tommy-hilfiger-black-friday-sale-3/
LOCATION:Tommy Hilfiger
CATEGORIES:Fashion,Sales
END:VEVENT
END:VCALENDAR