BEGIN:VCALENDAR
VERSION:2.0
PRODID:-//GPO Guam - ECPv6.0.12//NONSGML v1.0//EN
CALSCALE:GREGORIAN
METHOD:PUBLISH
X-WR-CALNAME:GPO Guam
X-ORIGINAL-URL:https://gpoguam.com
X-WR-CALDESC:Events for GPO Guam
REFRESH-INTERVAL;VALUE=DURATION:PT1H
X-Robots-Tag:noindex
X-PUBLISHED-TTL:PT1H
BEGIN:VTIMEZONE
TZID:Pacific/Guam
BEGIN:STANDARD
TZOFFSETFROM:+1000
TZOFFSETTO:+1000
TZNAME:ChST
DTSTART:20200101T000000
END:STANDARD
END:VTIMEZONE
BEGIN:VEVENT
DTSTART;VALUE=DATE:20200701
DTEND;VALUE=DATE:20201201
DTSTAMP:20260420T221848
CREATED:20200701T050703Z
LAST-MODIFIED:20201115T002529Z
UID:12712-1593561600-1606780799@gpoguam.com
SUMMARY:SKECHERS BLOW OUT SALE
DESCRIPTION:  \nBuy One Get One Free at Skechers \nJuly 1\, 2020 – November 31\, 2020 \n*Cash & Carry ONLY \n*All sales are final. No return & exchange. \n*GPO location ONLY \n*Free shoe is of equal value or less. Cannot be combined with other discounts or offers. \n 
URL:https://gpoguam.com/event/skechers-blow-out-sale/
LOCATION:Skechers
CATEGORIES:Sales
END:VEVENT
BEGIN:VEVENT
DTSTART;VALUE=DATE:20200717
DTEND;VALUE=DATE:20210101
DTSTAMP:20260420T221848
CREATED:20200717T064702Z
LAST-MODIFIED:20201029T060847Z
UID:12807-1594944000-1609459199@gpoguam.com
SUMMARY:SUBWAY $5 FOOTLONG
DESCRIPTION:Subway $5 Footlong \nFor a limited time buy a footlong at Subway and get another for $5 only! \nPlease visit website link for more information.
URL:https://gpoguam.com/event/subway-5-footlong/
CATEGORIES:Food & Beverage,Sales
END:VEVENT
BEGIN:VEVENT
DTSTART;TZID=Pacific/Guam:20200724T110000
DTEND;TZID=Pacific/Guam:20201130T190000
DTSTAMP:20260420T221848
CREATED:20200726T015521Z
LAST-MODIFIED:20201029T055635Z
UID:12839-1595588400-1606762800@gpoguam.com
SUMMARY:CINNABON: BUY ONE GET ONE FREE SPECIAL
DESCRIPTION:Buy One Get One FREE Cinnabon Stix Special \nStop by our GPO location from 11am-7pm today and grab a cup of the delightful twist with a frosty dip today! \n*Not valid with any other offer. No cash back.
URL:https://gpoguam.com/event/cinnabon-buy-one-get-one-free-special/
LOCATION:Cinnabon
CATEGORIES:Food & Beverage,Sales
END:VEVENT
BEGIN:VEVENT
DTSTART;VALUE=DATE:20200919
DTEND;VALUE=DATE:20201101
DTSTAMP:20260420T221848
CREATED:20201006T044232Z
LAST-MODIFIED:20201006T044232Z
UID:13070-1600473600-1604188799@gpoguam.com
SUMMARY:AJISEN COMBOS
DESCRIPTION:Ajisen Combos \nA little bit of karaage in my life\nA little bit of katsu by my side\nA little bit of chahan’s all I need\nA little bit of yakisoba’s what I see . . .\nCombo Number 5!\nThere are actually 6 delicious  combos to take home.
URL:https://gpoguam.com/event/ajisen-combos/
LOCATION:Ajisen Ramen\, Tamuning
CATEGORIES:Food & Beverage,Sales
END:VEVENT
BEGIN:VEVENT
DTSTART;VALUE=DATE:20200925
DTEND;VALUE=DATE:20201101
DTSTAMP:20260420T221848
CREATED:20201006T044619Z
LAST-MODIFIED:20201006T045803Z
UID:13073-1600992000-1604188799@gpoguam.com
SUMMARY:AJISEN RAMEN: NEW COMBO SPECIAL
DESCRIPTION:Ajisen Ramen: NEW Combo Special \n\nOh wow  Same same but different. A new addition to our combo line-up:\nKaraage\, Honey Walnut Shrimp  and Chahan Combo Platter…..$25
URL:https://gpoguam.com/event/ajisen-ramen-new-combo-special/
LOCATION:Ajisen Ramen\, Tamuning
CATEGORIES:Food & Beverage,Sales
END:VEVENT
BEGIN:VEVENT
DTSTART;VALUE=DATE:20200927
DTEND;VALUE=DATE:20201015
DTSTAMP:20260420T221848
CREATED:20201004T044245Z
LAST-MODIFIED:20201004T044245Z
UID:13015-1601164800-1602719999@gpoguam.com
SUMMARY:TOMMY HILFIGER SALE $29.99 & UNDER
DESCRIPTION:Tommy Hilfiger Sale \nPROMO VALID UNTIL: October 14\, 2020 \n  \nENTIRE STORE $29.99 AND UNDER* \n*Excludes underwear\, footwear\, Gift Cards\, & Tommy Kids \nPlus\, present this offer in-store and receive 20% OFF your purchase of $150+** \n\nPromo Code: 500024920000 \n\n*Ticketed price. Exclusions apply. Excludes underwear\, footwear & gift cards. Valid only at the following Tommy Hilfiger stores: Waikele Premium Outlets in Lahaina\, HI\, and Guam Premier Outlets in Barrigada\, Guam. **THIS OFFER EXPIRES ON \n10/14/20 and is redeemable for an amount up to the discount stated on this Email and must be presented in-person at the Tommy Hilfiger stores stated above. It may be used only once whether or not fully redeemed and must be surrendered at purchase with any \nremaining value of the Offer forfeited. Not redeemable for store credit or cash. The Offer may not be combined with any other promotion and has no cash value. It is not valid for previously purchased merchandise\, gift cards\, or Internet transactions. Any discount \n(as shown on the receipt) applied to merchandise that is returned will be deducted from any refund amount. Customer must present email at time of purchase to receive the Offer. Reproductions of the Offer will not be accepted. PVH associates not eligible. Offer \nvalid ONLY in select Tommy Hilfiger stores as stated above\, excluding clearance stores. NOT valid on tommy.com. Promo Code: 500024920000
URL:https://gpoguam.com/event/tommy-hilfiger-sale-29-99-under/
LOCATION:Tommy Hilfiger
CATEGORIES:Fashion,Sales
END:VEVENT
BEGIN:VEVENT
DTSTART;VALUE=DATE:20200929
DTEND;VALUE=DATE:20201101
DTSTAMP:20260420T221848
CREATED:20201004T081901Z
LAST-MODIFIED:20201004T081901Z
UID:13027-1601337600-1604188799@gpoguam.com
SUMMARY:HAAGEN-DAZS DAILY SPECIAL: BOGO 50% OFF
DESCRIPTION:Haagen-Dazs Daily Special: Buy One Get One  \nBuy one pint of ice cream for regular price at Haagen-Dazs and get the second one 50% OFF
URL:https://gpoguam.com/event/haagen-dazs-daily-special-bogo-50-off/
LOCATION:Haagen-Dazs
CATEGORIES:Food & Beverage,Sales
END:VEVENT
BEGIN:VEVENT
DTSTART;VALUE=DATE:20200929
DTEND;VALUE=DATE:20201101
DTSTAMP:20260420T221848
CREATED:20201004T082233Z
LAST-MODIFIED:20201004T082233Z
UID:13030-1601337600-1604188799@gpoguam.com
SUMMARY:HAAGEN-DAZS DAILY SPECIAL: DAZZLER CREATION
DESCRIPTION:Haagen-Dazs Daily Special \nBuy any Dazzler Creation at Haagen-Dazs and receive a FREE scoop of ice cream in a cup.
URL:https://gpoguam.com/event/haagen-dazs-daily-special-dazzler-creation/
LOCATION:Haagen-Dazs
CATEGORIES:Food & Beverage,Sales
END:VEVENT
BEGIN:VEVENT
DTSTART;VALUE=DATE:20200929
DTEND;VALUE=DATE:20201101
DTSTAMP:20260420T221848
CREATED:20201004T082558Z
LAST-MODIFIED:20201004T082558Z
UID:13033-1601337600-1604188799@gpoguam.com
SUMMARY:HAAGEN-DAZS DAILY SPECIAL: BOGO ICE CREAM SCOOP FREE
DESCRIPTION:Haagen-Dazs Daily Special: Buy One Get One FREE \nBuy any single scoop of any flavor ice cream (cup or cone) at Haagen-Dazs & get a second scoop for FREE.
URL:https://gpoguam.com/event/haagen-dazs-daily-special-bogo-ice-cream-scoop-free/
LOCATION:Haagen-Dazs
CATEGORIES:Food & Beverage,Sales
END:VEVENT
BEGIN:VEVENT
DTSTART;VALUE=DATE:20200929
DTEND;VALUE=DATE:20201101
DTSTAMP:20260420T221848
CREATED:20201004T082933Z
LAST-MODIFIED:20201004T082933Z
UID:13036-1601337600-1604188799@gpoguam.com
SUMMARY:HAAGEN-DAZS DAILY SPECIAL: CHOCOLATE FONDUE
DESCRIPTION:Haagen-Dazs Daily Special: Buy One Get One 50% OFF \nBuy a chocolate fondue at Haagen-Dazs for regular price & get a selected creation 50% off.
URL:https://gpoguam.com/event/haagen-dazs-daily-special-chocolate-fondue/
LOCATION:Haagen-Dazs
CATEGORIES:Food & Beverage,Sales
END:VEVENT
BEGIN:VEVENT
DTSTART;VALUE=DATE:20201001
DTEND;VALUE=DATE:20201101
DTSTAMP:20260420T221848
CREATED:20201004T044631Z
LAST-MODIFIED:20201004T044710Z
UID:13018-1601510400-1604188799@gpoguam.com
SUMMARY:CALVIN KLEIN UP TO 80% OFF SALE
DESCRIPTION:Calvin Klein Sale \nCalvin Klein up to 80% OFF the entire store & additional 20% OFF clearance items.* \n*Exclusions may apply.
URL:https://gpoguam.com/event/calvin-klein-up-80-off-sale/
LOCATION:by Calvin Klein
CATEGORIES:Fashion,Sales
END:VEVENT
BEGIN:VEVENT
DTSTART;VALUE=DATE:20201001
DTEND;VALUE=DATE:20201101
DTSTAMP:20260420T221848
CREATED:20201004T045042Z
LAST-MODIFIED:20201004T045042Z
UID:13023-1601510400-1604188799@gpoguam.com
SUMMARY:FAMOUS FOOTWEAR CLEARANCE SALE
DESCRIPTION:Famous Footwear Clearance Sale \nFamous Footwear is giving additional 25% OFF all clearance items!
URL:https://gpoguam.com/event/famous-footwear-clearance-sale/
LOCATION:Famous Footwear
CATEGORIES:Fashion,Sales
END:VEVENT
BEGIN:VEVENT
DTSTART;VALUE=DATE:20201001
DTEND;VALUE=DATE:20201101
DTSTAMP:20260420T221848
CREATED:20201006T013606Z
LAST-MODIFIED:20201006T013606Z
UID:13048-1601510400-1604188799@gpoguam.com
SUMMARY:IT&E: 15% OFF NOTE 20 (ONLINE ONLY)
DESCRIPTION:IT&E: 15% OFF Note 20 (Online Only) \nTake advantage of IT&E 15% OFF discount available only online at \nhtttps://store.ite.net/smartphones-with-contracts-collection/#samsung \nplus with purchase you receive FREE delivery to your workplace & the activation fee WAIVED!
URL:https://gpoguam.com/event/ite-15-off-note-20-online-only/
LOCATION:by IT&E
CATEGORIES:Communications,Sales
END:VEVENT
BEGIN:VEVENT
DTSTART;VALUE=DATE:20201001
DTEND;VALUE=DATE:20201101
DTSTAMP:20260420T221848
CREATED:20201006T020721Z
LAST-MODIFIED:20201006T021249Z
UID:13051-1601510400-1604188799@gpoguam.com
SUMMARY:WENDYS: NEW PRETZEL BACON BUN
DESCRIPTION:Wendy’s New Pretzel Bacon Bun \nWendy’s is taking the pretzel bun to a whole new level. Introducing the NEW Pretzel Bacon Pub Cheeseburger and Chicken Sandwich!\n\n\nTry their Pretzel Bacon Pub with beef or chicken and have it filled with Muenster cheese\, Applewood smoked bacon\, smoky honey mustard\, crispy fried onions and a warm beer cheese sauce. \nAll of that satisfying goodness is housed on a soft pretzel bun! \nHead on over now to #WendysGuam! #PretzelBaconPub #NowThatsBetter
URL:https://gpoguam.com/event/wendys-new-pretzel-bacon-bun/
LOCATION:Wendy’s
CATEGORIES:Food & Beverage
END:VEVENT
BEGIN:VEVENT
DTSTART;VALUE=DATE:20201001
DTEND;VALUE=DATE:20201101
DTSTAMP:20260420T221848
CREATED:20201006T032614Z
LAST-MODIFIED:20201006T032614Z
UID:13058-1601510400-1604188799@gpoguam.com
SUMMARY:IT&E UV STERILIZATION BOX AVAILABLE
DESCRIPTION:IT&E UV SterIlization Box \n\n\nYou can have extra PROtection with a UV Sterilization Box for your phone.\n\nNot to worry\, this accessory comes as a FREE gift when you purchase any Galaxy S20 model and sign up on the UNLIMITED plan now until end of October.\n\n\n\nYou can also PROTECT your new phone with a case or tempered glass at 10% OFF. Just shop online and use promo code “SAVE10” upon checkout.\n\n\n\nAnd\, get FREE DELIVERY to your workplace when you make a purchase of $75 or more on our Online Store at https://store.ite.net/oct-promo/.
URL:https://gpoguam.com/event/ite-uv-sterilization-box-available/
LOCATION:by IT&E
CATEGORIES:Communications
END:VEVENT
BEGIN:VEVENT
DTSTART;VALUE=DATE:20201001
DTEND;VALUE=DATE:20201101
DTSTAMP:20260420T221848
CREATED:20201006T033218Z
LAST-MODIFIED:20201006T033318Z
UID:13060-1601510400-1604188799@gpoguam.com
SUMMARY:IT&E: NEW DATA SERVICES AVAILABLE
DESCRIPTION:IT&E: New Data Services Available \n\nEnjoy bigger data buckets with no additional charge! Share the exciting news with our new MIFI rates!\n\n\nSelect one of our upgraded MIFI plans and get a FREE MIFI on a 2 year contract.\n\n\n20GB for $30\n50GB for $50\n\n\nTake your internet anywhere. Simply power on your MIFI device and connect your mobile devices\, laptops or tabs to enjoy internet services. Shop and activate services online at https://store.ite.net/postpaid2/#hotspot.
URL:https://gpoguam.com/event/ite-new-date-services-available/
LOCATION:by IT&E
CATEGORIES:Communications
END:VEVENT
BEGIN:VEVENT
DTSTART;VALUE=DATE:20201001
DTEND;VALUE=DATE:20201101
DTSTAMP:20260420T221848
CREATED:20201006T041913Z
LAST-MODIFIED:20201006T041913Z
UID:13064-1601510400-1604188799@gpoguam.com
SUMMARY:DOCOMO: SAMSUNG GALAXY NOTE20 5G NETWORK
DESCRIPTION:Docomo Pacific: Samsung Galaxy  \nNot just a smartphone. The Samsung Galaxy Note20 | 20 Ultra is the Powerphone with fast performance and even better battery life. \nComing very soon to DOCOMO PACIFIC\, the first and only 5G network in the Marianas. #Note20 #notethedifferenceon5G #Firstto5G
URL:https://gpoguam.com/event/docomo-samsung-galaxy-note20-5g-network/
LOCATION:Docomo Pacific\, Tamuning
CATEGORIES:Communications
END:VEVENT
BEGIN:VEVENT
DTSTART;TZID=Pacific/Guam:20201001T110000
DTEND;TZID=Pacific/Guam:20201130T190000
DTSTAMP:20260420T221848
CREATED:20201006T011737Z
LAST-MODIFIED:20201029T055048Z
UID:13045-1601550000-1606762800@gpoguam.com
SUMMARY:CINNABON: BOGO 50% OFF
DESCRIPTION:Cinnabon: Buy One Get One 50% OFF \nBuy One\, Get One 50% OFF on bakery items at all Guam Cinnabon locations.* \n*Second item must be equal to \, or less than the price of the first item. Excludes drinks and any other non-bakery items. Not valid with any other offer. No cash back. \nEnjoy Cinnabon pastries and drinks 11am-7pm daily. \nFor more info call (671)633-2667. \n 
URL:https://gpoguam.com/event/cinnabon-bogo-50-off/
LOCATION:Cinnabon
CATEGORIES:Food & Beverage,Sales
END:VEVENT
END:VCALENDAR