BEGIN:VCALENDAR
VERSION:2.0
PRODID:-//GPO Guam - ECPv6.0.12//NONSGML v1.0//EN
CALSCALE:GREGORIAN
METHOD:PUBLISH
X-WR-CALNAME:GPO Guam
X-ORIGINAL-URL:https://gpoguam.com
X-WR-CALDESC:Events for GPO Guam
REFRESH-INTERVAL;VALUE=DURATION:PT1H
X-Robots-Tag:noindex
X-PUBLISHED-TTL:PT1H
BEGIN:VTIMEZONE
TZID:Pacific/Guam
BEGIN:STANDARD
TZOFFSETFROM:+1000
TZOFFSETTO:+1000
TZNAME:ChST
DTSTART:20200101T000000
END:STANDARD
END:VTIMEZONE
BEGIN:VEVENT
DTSTART;VALUE=DATE:20200627
DTEND;VALUE=DATE:20200926
DTSTAMP:20260423T010049
CREATED:20200730T233045Z
LAST-MODIFIED:20200730T233045Z
UID:12872-1593216000-1601078399@gpoguam.com
SUMMARY:ABC STORES: HOT PROMOTION
DESCRIPTION:ABC Stores: HOT Promotion \n\nOffer valid from until September 25\, 2020 \n  \nMauna Loa Snack Pack \n~ The perfect snack size portion of premium macadamia nuts. Available in an assortment of flavors. \n\n– Single 1.15 oz $1.99 2/$3\n– 6 Pack $10.99\n– 16 Pack $26.99
URL:https://gpoguam.com/event/abc-stores-hot-promotion-2/
LOCATION:ABC Stores\, Tamuning\, 96913\, Guam
CATEGORIES:Sales
END:VEVENT
BEGIN:VEVENT
DTSTART;VALUE=DATE:20200630
DTEND;VALUE=DATE:20200730
DTSTAMP:20260423T010049
CREATED:20200702T033832Z
LAST-MODIFIED:20200702T033832Z
UID:12738-1593475200-1596067199@gpoguam.com
SUMMARY:VITAMIN WORLD BOGO FREE
DESCRIPTION:Vitamin World Buy One Get One FREE \nJune 30\, 2020 – July 29\, 2020 \n  \nMix and match and buy one get one free on select Precision Engineered Sports items. \n*Exclusions may apply. \n  \nVitamin World at GPO is currently offering in-store shopping & curbside ordering. \nFor more information call (671) 647-5661
URL:https://gpoguam.com/event/vitamin-world-bogo-free/
LOCATION:Vitamin World
CATEGORIES:Sales
END:VEVENT
BEGIN:VEVENT
DTSTART;VALUE=DATE:20200630
DTEND;VALUE=DATE:20200730
DTSTAMP:20260423T010049
CREATED:20200702T034721Z
LAST-MODIFIED:20200710T025020Z
UID:12741-1593475200-1596067199@gpoguam.com
SUMMARY:VITAMIN WORLD BUY 1 GET 2 FREE
DESCRIPTION:Vitamin World Buy One Get Two Free \nJune 30\, 2020 – July 29\, 2020 \nIt’s a bird\, it’s a plane\, no it’s a SUPER SALE. Buy 1 Get 2 FREE on select items at our Vitamin World GPO location. \n*Exclusions may apply. \nVitamin World at GPO is currently offering in-store shopping & curbside pickup. \nFor more information call (671)647-5661
URL:https://gpoguam.com/event/vitamin-world-buy-1-get-2-free/
LOCATION:Vitamin World
CATEGORIES:Sales
END:VEVENT
BEGIN:VEVENT
DTSTART;VALUE=DATE:20200701
DTEND;VALUE=DATE:20200731
DTSTAMP:20260423T010049
CREATED:20200702T042722Z
LAST-MODIFIED:20200702T042722Z
UID:12748-1593561600-1596153599@gpoguam.com
SUMMARY:TIME & STYLE  STOREWIDE SALE
DESCRIPTION:Time & Style Storewide Sale \n*20% OFF All regular price items \n*Additional 20% OFF All clearance items.
URL:https://gpoguam.com/event/time-style-storewide-sale/
LOCATION:Time & Style
CATEGORIES:Sales
END:VEVENT
BEGIN:VEVENT
DTSTART;VALUE=DATE:20200701
DTEND;VALUE=DATE:20200801
DTSTAMP:20260423T010049
CREATED:20200701T052848Z
LAST-MODIFIED:20200702T021541Z
UID:12722-1593561600-1596239999@gpoguam.com
SUMMARY:BESTSELLER CLEARANCE SALE
DESCRIPTION:Bestseller Clearance Sale \nJuly 1\, 2020 – July 31\, 2020 \n  \nBestseller is having a clearance sale for assorted books for $5 only! \nGrab a good read for a good price while supplies last.
URL:https://gpoguam.com/event/bestseller-clearance-sale/
LOCATION:Bestseller
CATEGORIES:Sales
END:VEVENT
BEGIN:VEVENT
DTSTART;VALUE=DATE:20200701
DTEND;VALUE=DATE:20200801
DTSTAMP:20260423T010049
CREATED:20200702T022403Z
LAST-MODIFIED:20200702T022403Z
UID:12727-1593561600-1596239999@gpoguam.com
SUMMARY:A.B. SPORTS (NIKE) STOREWIDE SALE
DESCRIPTION:A.B. Sports (Nike) Storewide Sale \nSale Ends July 31\, 2020 \nA.B. Sports is having there biggest sale of the year! Come by the store & receive 25% off your purchase. \nFor more information call \n(671)646-5133 \nor visit \nhttp://https//absportsguam.com
URL:https://gpoguam.com/event/a-b-sports-nike-storewide-sale/
LOCATION:by Nike Store
CATEGORIES:Sales
END:VEVENT
BEGIN:VEVENT
DTSTART;VALUE=DATE:20200701
DTEND;VALUE=DATE:20200801
DTSTAMP:20260423T010049
CREATED:20200702T024731Z
LAST-MODIFIED:20200702T030045Z
UID:12730-1593561600-1596239999@gpoguam.com
SUMMARY:FAMOUS FOOTWEAR BOGO 1/2 OFF
DESCRIPTION:Famous Footwear Buy One Get One 1/2 OFF \nBuy one pair\, get a second for half price for a limited time. \n*Exclusions may apply \nPlease call (671) 647-2818 for more information.
URL:https://gpoguam.com/event/famous-footwear-bogo/
LOCATION:Famous Footwear
CATEGORIES:Sales
END:VEVENT
BEGIN:VEVENT
DTSTART;VALUE=DATE:20200701
DTEND;VALUE=DATE:20200801
DTSTAMP:20260423T010049
CREATED:20200702T044529Z
LAST-MODIFIED:20200702T044529Z
UID:12756-1593561600-1596239999@gpoguam.com
SUMMARY:CHOCOLATES & GIFTS BLOWOUT SALE
DESCRIPTION:Chocolates & Gifts Blowout Sale \nFor a limited time only Chocolates & Gifts is having a 20% OFF sale the entire store.
URL:https://gpoguam.com/event/chocolates-gifts-blowout-sale/
LOCATION:Chocolate & Gifts
CATEGORIES:Sales
END:VEVENT
BEGIN:VEVENT
DTSTART;VALUE=DATE:20200701
DTEND;VALUE=DATE:20200801
DTSTAMP:20260423T010049
CREATED:20200703T085408Z
LAST-MODIFIED:20200703T085408Z
UID:12766-1593561600-1596239999@gpoguam.com
SUMMARY:HAAGEN-DAZS DAILY SPECIALS
DESCRIPTION:  \nHaagen-Dazs Daily Specials \nLimited time only. \n  \n-Buy one single scoop & get one single scoop of ice cream (cup or cone) for FREE. \n-Buy one flavored pint & get a second pint 50% OFF. \n-Buy one Dazzler & get a scoop of ice cream in a cup for FREE.
URL:https://gpoguam.com/event/haagen-dazs-daily-specials/
LOCATION:Haagen-Dazs
CATEGORIES:Sales
END:VEVENT
BEGIN:VEVENT
DTSTART;VALUE=DATE:20200701
DTEND;VALUE=DATE:20201201
DTSTAMP:20260423T010049
CREATED:20200701T050703Z
LAST-MODIFIED:20201115T002529Z
UID:12712-1593561600-1606780799@gpoguam.com
SUMMARY:SKECHERS BLOW OUT SALE
DESCRIPTION:  \nBuy One Get One Free at Skechers \nJuly 1\, 2020 – November 31\, 2020 \n*Cash & Carry ONLY \n*All sales are final. No return & exchange. \n*GPO location ONLY \n*Free shoe is of equal value or less. Cannot be combined with other discounts or offers. \n 
URL:https://gpoguam.com/event/skechers-blow-out-sale/
LOCATION:Skechers
CATEGORIES:Sales
END:VEVENT
BEGIN:VEVENT
DTSTART;TZID=Pacific/Guam:20200701T140000
DTEND;TZID=Pacific/Guam:20200831T180000
DTSTAMP:20260423T010049
CREATED:20200702T044030Z
LAST-MODIFIED:20200702T044122Z
UID:12751-1593612000-1598896800@gpoguam.com
SUMMARY:CHATIME HAPPY HOUR SPECIAL
DESCRIPTION:Chatime Happy Hour Special \nSpecial Ends: August 31\, 2020 \nMonday – Thursday \n2pm – 6pm \nBuy One Get One Free off any Chatime drink. \n*Free Drink must be equal value or less.
URL:https://gpoguam.com/event/chatime-happy-hour-special/
LOCATION:Chatime
CATEGORIES:Sales
END:VEVENT
BEGIN:VEVENT
DTSTART;VALUE=DATE:20200702
DTEND;VALUE=DATE:20200801
DTSTAMP:20260423T010049
CREATED:20200702T040932Z
LAST-MODIFIED:20200719T031058Z
UID:12745-1593648000-1596239999@gpoguam.com
SUMMARY:TWINKLES SUMMER SALE
DESCRIPTION:Twinkles Summer Sale \n* 15% OFF All regular price toys. \n*15% OFF All backpacks & lunch bags. \n*20% OFF all school supplies. \n  \n*Items already on sale\, Books\, Guam Souvenirs\, Guam Plush Animals\, T-Shirts\, Non-Toy Items & Food Items are not included. \n Promotion can not be combined with other promotions.
URL:https://gpoguam.com/event/twinkles-summer-sale/
CATEGORIES:Sales
END:VEVENT
BEGIN:VEVENT
DTSTART;VALUE=DATE:20200703
DTEND;VALUE=DATE:20200901
DTSTAMP:20260423T010049
CREATED:20200710T020116Z
LAST-MODIFIED:20200730T224519Z
UID:12782-1593734400-1598918399@gpoguam.com
SUMMARY:WENDY'S MEGA VALUE
DESCRIPTION:MEGA VALUE! \n\n\n\n\n\n$1.70 for a 40oz Coca-Cola beverage!\n\n\nBest price on Guam!\n\n\n\n\n\nFor a limited time only so head on over now!
URL:https://gpoguam.com/event/wendys-mega-value/
LOCATION:Wendy’s
CATEGORIES:Food & Beverage,Sales
END:VEVENT
BEGIN:VEVENT
DTSTART;VALUE=DATE:20200704
DTEND;VALUE=DATE:20200801
DTSTAMP:20260423T010049
CREATED:20200710T022800Z
LAST-MODIFIED:20200710T022800Z
UID:12789-1593820800-1596239999@gpoguam.com
SUMMARY:ABC STORES: HOT PROMOTION
DESCRIPTION:ABC Stores: Hi- Chew Candies HOT Promotion\n\nValid ‪from July 04\, 2020 – July 31\, 2020\n\n\n~ Fresh fruit flavors with a smooth and chewy texture. Come see\, and taste\, for yourself! \n– Single $1.49 2/$2\n– 8 Pack $6.99\n– 15 Pack $11.99
URL:https://gpoguam.com/event/abc-stores-hot-promotion/
LOCATION:ABC Stores\, Tamuning\, 96913\, Guam
CATEGORIES:Sales
END:VEVENT
BEGIN:VEVENT
DTSTART;VALUE=DATE:20200707
DTEND;VALUE=DATE:20200901
DTSTAMP:20260423T010049
CREATED:20200708T020713Z
LAST-MODIFIED:20200730T231600Z
UID:12771-1594080000-1598918399@gpoguam.com
SUMMARY:CALVIN KLEIN: SEMI-ANNUAL SALE
DESCRIPTION:Calvin Klein: Semi-Annual Sale \nValid: 7.7.20 – 7.31.20 \n  \nSave Up to 80% Off Entire Store and additional 20%  OFF on clearance! \nPlus\, sign up to become a member at Calvin Klein and \nreceive additional 15% off your purchase. \nExclusions Apply
URL:https://gpoguam.com/event/calvin-klein-fourth-of-july-sale/
LOCATION:by Calvin Klein
CATEGORIES:Sales
END:VEVENT
BEGIN:VEVENT
DTSTART;VALUE=DATE:20200710
DTEND;VALUE=DATE:20200801
DTSTAMP:20260423T010049
CREATED:20200712T004250Z
LAST-MODIFIED:20200712T004250Z
UID:12795-1594339200-1596239999@gpoguam.com
SUMMARY:FRAGRANCE OUTLET BOGO 50% OFF
DESCRIPTION:  \nFragrance Outlet: Buy One Get One 50% OFF \n07/10/20 – 07/31/20 \n  \nThe hottest fragrances are on Sale! \nExtra savings on select items: \nChoose from over 100 exclusive fragrances and Buy 1 and the get the second one 50% OFF! \nALWAYS AUTHENTIC ALWAYS ON SALE !!
URL:https://gpoguam.com/event/fragrance-outlet-bogo-50-off/
LOCATION:Fragrance Outlet
CATEGORIES:Sales
END:VEVENT
BEGIN:VEVENT
DTSTART;VALUE=DATE:20200714
DTEND;VALUE=DATE:20200801
DTSTAMP:20260423T010049
CREATED:20200719T025112Z
LAST-MODIFIED:20200719T025112Z
UID:12823-1594684800-1596239999@gpoguam.com
SUMMARY:CHOCOLATE & GIFTS BLOWOUT SALE
DESCRIPTION:Chocolate & Gifts Blowout Sale \n\n– 50% off the entire store for a limited time only. \nStop by our GPO location & get the best deal on the best Made in Guam chocolate today!
URL:https://gpoguam.com/event/chocolate-gifts-blowout-sale/
LOCATION:Chocolate & Gifts
CATEGORIES:Sales
END:VEVENT
BEGIN:VEVENT
DTSTART;VALUE=DATE:20200717
DTEND;VALUE=DATE:20200801
DTSTAMP:20260423T010049
CREATED:20200717T074651Z
LAST-MODIFIED:20200730T224003Z
UID:12815-1594944000-1596239999@gpoguam.com
SUMMARY:Häagen-Dazs  2 1/2 Gallon Tub
DESCRIPTION:Häagen-Dazs 2 1/2 Gallon Tub\n\n\nYou can now purchase a tub of your favorite super premium Häagen-Dazs ice cream!\n\n\nVisit or call our GPO (649-7486) location to reserve and pick up your purchase from 11am to 7pm daily.\n\n\nEveryday made Extraordinary \n\n\nWhile supplies last.
URL:https://gpoguam.com/event/haagen-dazs-2-1-2-gallon-tub/
LOCATION:Haagen-Dazs
CATEGORIES:Food & Beverage,Sales
END:VEVENT
BEGIN:VEVENT
DTSTART;VALUE=DATE:20200717
DTEND;VALUE=DATE:20210101
DTSTAMP:20260423T010049
CREATED:20200717T064702Z
LAST-MODIFIED:20201029T060847Z
UID:12807-1594944000-1609459199@gpoguam.com
SUMMARY:SUBWAY $5 FOOTLONG
DESCRIPTION:Subway $5 Footlong \nFor a limited time buy a footlong at Subway and get another for $5 only! \nPlease visit website link for more information.
URL:https://gpoguam.com/event/subway-5-footlong/
CATEGORIES:Food & Beverage,Sales
END:VEVENT
BEGIN:VEVENT
DTSTART;VALUE=DATE:20200719
DTEND;VALUE=DATE:20200801
DTSTAMP:20260423T010049
CREATED:20200719T004508Z
LAST-MODIFIED:20200730T223910Z
UID:12819-1595116800-1596239999@gpoguam.com
SUMMARY:TACO BELL'S NEW GRILLED CHEESE BURRITO
DESCRIPTION:Taco Bell’s New Grilled Cheese Burrito \nNothing tops the Grilled Cheese Burrito… except melted\, cheesy goodness. \nGrab the new $3 Grilled Cheese Burrito at our Taco Bell GPO location \nor \nGrab the $7.19 Grilled Cheese Burrito Box \nwhich includes omes 1 grilled cheese burrito\, 1 Taco\, cinnamon twist and a medium drink. \n 
URL:https://gpoguam.com/event/taco-bells-new-grilled-cheese-burrito/
LOCATION:Taco Bell
CATEGORIES:Food & Beverage,Sales
END:VEVENT
BEGIN:VEVENT
DTSTART;VALUE=DATE:20200720
DTEND;VALUE=DATE:20200727
DTSTAMP:20260423T010049
CREATED:20200720T004719Z
LAST-MODIFIED:20200720T004719Z
UID:12826-1595203200-1595807999@gpoguam.com
SUMMARY:IT&E LIBERATION DAY $100 OFF DEAL
DESCRIPTION:IT&E Liberation Day Promotion\n\n\n\n\nCelebrate Liberation Day with our $100 OFF PROMO!\nThat’s right! You can get the Samsung Galaxy Z Flip for $100 off\nAND\nwe’ll add in a FREE Samsung Tab A 8.0 (valued at over $200+)!\nMove fast! This offer is only available until 07/26 or while supplies last.\n\n\nCheck out https://store.ite.net/liberation-promo/ for more details on how you can activate a new line or upgrade your existing handset.
URL:https://gpoguam.com/event/ite-liberation-day-100-off-deal/
LOCATION:by IT&E
CATEGORIES:Sales
END:VEVENT
BEGIN:VEVENT
DTSTART;VALUE=DATE:20200720
DTEND;VALUE=DATE:20200801
DTSTAMP:20260423T010049
CREATED:20200720T061952Z
LAST-MODIFIED:20200720T061952Z
UID:12831-1595203200-1596239999@gpoguam.com
SUMMARY:FRAGRANCE OUTLET: LIBERATION DAY DEAL
DESCRIPTION:Fragrance Outlet Liberation Day Deal \nFor a limited time only\, receive 25% OFF \nyour single niche purchase. \n*Exclusions may apply. \nFor more info call (671) 647-2984
URL:https://gpoguam.com/event/fragrance-outlet-liberation-day-deal/
LOCATION:Fragrance Outlet
CATEGORIES:Sales
END:VEVENT
END:VCALENDAR