BEGIN:VCALENDAR
VERSION:2.0
PRODID:-//GPO Guam - ECPv6.0.12//NONSGML v1.0//EN
CALSCALE:GREGORIAN
METHOD:PUBLISH
X-WR-CALNAME:GPO Guam
X-ORIGINAL-URL:https://gpoguam.com
X-WR-CALDESC:Events for GPO Guam
REFRESH-INTERVAL;VALUE=DURATION:PT1H
X-Robots-Tag:noindex
X-PUBLISHED-TTL:PT1H
BEGIN:VTIMEZONE
TZID:Pacific/Guam
BEGIN:STANDARD
TZOFFSETFROM:+1000
TZOFFSETTO:+1000
TZNAME:ChST
DTSTART:20200101T000000
END:STANDARD
END:VTIMEZONE
BEGIN:VEVENT
DTSTART;VALUE=DATE:20200602
DTEND;VALUE=DATE:20200617
DTSTAMP:20260420T225640
CREATED:20200605T043113Z
LAST-MODIFIED:20200605T043113Z
UID:12605-1591056000-1592351999@gpoguam.com
SUMMARY:Calvin Klein In-Store Promotion
DESCRIPTION:  \nEnjoy Up to 60% Off Entire Store \nValid: 6.2.20 – 6.16.20 \nExclusions Apply
URL:https://gpoguam.com/event/calvin-klein-in-store-promotion/
LOCATION:by Calvin Klein
CATEGORIES:Sales
END:VEVENT
BEGIN:VEVENT
DTSTART;VALUE=DATE:20200605
DTEND;VALUE=DATE:20200611
DTSTAMP:20260420T225640
CREATED:20200606T014443Z
LAST-MODIFIED:20200606T014533Z
UID:12610-1591315200-1591833599@gpoguam.com
SUMMARY:Tommy Hilfiger: READY.SET.SHOP.
DESCRIPTION:  \nREADY. SET. SHOP. \nPRESENT THIS OFFER IN-STORE AND RECEIVE \n20% OFF YOUR PURCHASE OF $100 OR MORE OR 15% OFF YOUR ENTIRE PURCHASE* \nNOW – JUNE 10 \nPromo Code: 500024689000 \n  \nAll styles not available at all locations. May not be available on tommy.com. *THIS OFFER EXPIRES ON 6/10/20 and is redeemable for an amount up to the discount stated on this Offer and must be presented in-person at Tommy Hilfiger stores in the United States\, Puerto Rico\, and Guam. It may be used only once whether or not fully redeemed and must be surrendered at purchase with any remaining value of the Offer forfeited. Not redeemable for store credit or cash. The Offer may not be combined with any other promotion and has no cash value. It is not valid for previously purchased merchandise\, gift cards\, or Internet transactions. Any discount (as shown on the receipt) applied to merchandise that is returned will be deducted from any refund amount. Customer must present this posting at time of purchase to receive the Offer. Reproductions of the Offer will not be accepted. PVH associates not eligible. Not valid in department stores\, Clearance stores\, or on tommy.com. Promo Code: 500024689000
URL:https://gpoguam.com/event/tommy-hilfiger-ready-set-shop/
LOCATION:Tommy Hilfiger
CATEGORIES:Sales
END:VEVENT
END:VCALENDAR