BEGIN:VCALENDAR
VERSION:2.0
PRODID:-//GPO Guam - ECPv6.0.12//NONSGML v1.0//EN
CALSCALE:GREGORIAN
METHOD:PUBLISH
X-ORIGINAL-URL:https://gpoguam.com
X-WR-CALDESC:Events for GPO Guam
REFRESH-INTERVAL;VALUE=DURATION:PT1H
X-Robots-Tag:noindex
X-PUBLISHED-TTL:PT1H
BEGIN:VTIMEZONE
TZID:Pacific/Guam
BEGIN:STANDARD
TZOFFSETFROM:+1000
TZOFFSETTO:+1000
TZNAME:ChST
DTSTART:20200101T000000
END:STANDARD
END:VTIMEZONE
BEGIN:VEVENT
DTSTART;VALUE=DATE:20200530
DTEND;VALUE=DATE:20200604
DTSTAMP:20260423T022511
CREATED:20200530T003358Z
LAST-MODIFIED:20200530T003534Z
UID:12562-1590796800-1591228799@gpoguam.com
SUMMARY:Tommy Hilfiger: Store Reopening
DESCRIPTION:  \nOUR DOORS ARE OPEN. COME SEE WHAT’S IN STORE TO BRIGHTEN YOUR DAY. \nREADY. SET. SHOP. \nSTORE-WIDE SAVINGS OF 50% OFF*\, 70% OFF*\, OR 80% OFF* \nPLUS\, PRESENT THIS OFFER IN-STORE AND RECEIVE \n20% OFF YOUR PURCHASE OF $100 OR MORE OR 15% OFF YOUR ENTIRE PURCHASE** \nNOW – JUNE 3 \nPromo Code: 500024689000 \nPLEASE CONTACT YOUR LOCAL STORE FOR THE MOST UP-TO-DATE STORE HOURS. \nAll styles not available at all locations. May not be available on tommy.com. *Ticketed price. Exclusions apply. **THIS OFFER EXPIRES ON 6/3/20 and is redeemable for an amount up to the discount stated on this Offer and must be presented in-person at Tommy Hilfiger stores in the United States\, Puerto Rico\, and Guam. It may be used only once whether or not fully redeemed and must be surrendered at purchase with any remaining value of the Offer forfeited. Not redeemable for store credit or cash. The Offer may not be combined with any other promotion and has no cash value. It is not valid for previously purchased merchandise\, gift cards\, or Internet transactions. Any discount (as shown on the receipt) applied to merchandise that is returned will be deducted from any refund amount. Customer must present this posting at time of purchase to receive the Offer. Reproductions of the Offer will not be accepted. PVH associates not eligible. Not valid in department stores\, Clearance stores\, or on tommy.com. Promo Code: 500024689000
URL:https://gpoguam.com/event/tommy-hilfiger-store-reopening/
LOCATION:Tommy Hilfiger
CATEGORIES:Sales
END:VEVENT
END:VCALENDAR