BEGIN:VCALENDAR
VERSION:2.0
PRODID:-//GPO Guam - ECPv6.0.12//NONSGML v1.0//EN
CALSCALE:GREGORIAN
METHOD:PUBLISH
X-ORIGINAL-URL:https://gpoguam.com
X-WR-CALDESC:Events for GPO Guam
REFRESH-INTERVAL;VALUE=DURATION:PT1H
X-Robots-Tag:noindex
X-PUBLISHED-TTL:PT1H
BEGIN:VTIMEZONE
TZID:Pacific/Guam
BEGIN:STANDARD
TZOFFSETFROM:+1000
TZOFFSETTO:+1000
TZNAME:ChST
DTSTART:20200101T000000
END:STANDARD
END:VTIMEZONE
BEGIN:VEVENT
DTSTART;VALUE=DATE:20200420
DTEND;VALUE=DATE:20200430
DTSTAMP:20260423T034420
CREATED:20200317T225326Z
LAST-MODIFIED:20200317T225326Z
UID:12483-1587340800-1588204799@gpoguam.com
SUMMARY:Tommy Hilfiger: Exclusively for Hilfiger Club
DESCRIPTION:  \n \nExclusively for Hilfiger Club\nPresent this & receive\n25% off your entire purchase*\nWhen you join the Hilfiger Club** \nSee a store associate to become a member of the club \nApril 20–29 \nAll styles not available at all locations. May not be available on tommy.com. *THIS OFFER EXPIRES ON 4/29/20 and is redeemable for\nan amount up to the discount stated on this Offer and must be presented in-person at Tommy Hilfiger stores in the United States\,\nPuerto Rico\, and Guam. It may be used only once whether or not fully redeemed and must be surrendered at purchase with any\nremaining value of the Offer forfeited. Not redeemable for store credit or cash. The Offer may not be combined with any other\npromotion and has no cash value. It is not valid for previously purchased merchandise or gift cards. Any discount (as shown on the\nreceipt) applied to merchandise that is returned will be deducted from any refund amount. Customer must present this posting at\ntime of purchase to receive the Offer. Reproductions of the Offer will not be accepted. PVH associates not eligible. Not valid in\ndepartment stores\, Clearance stores\, or on tommy.com. **You may later unsubscribe. The entity using information as provided\nabove is Tommy Hilfiger U.S.A.\, Inc.\, and can be reached by mailing Tommy Hilfiger Stores\, 285 Madison Avenue New York\, NY 10017\nor emailing thservice@tommy.com. Promo Code: 500023906000
URL:https://gpoguam.com/event/tommy-hilfiger-exclusively-for-hilfiger-club/
LOCATION:Tommy Hilfiger
CATEGORIES:Sales
END:VEVENT
END:VCALENDAR