BEGIN:VCALENDAR
VERSION:2.0
PRODID:-//GPO Guam - ECPv6.0.12//NONSGML v1.0//EN
CALSCALE:GREGORIAN
METHOD:PUBLISH
X-ORIGINAL-URL:https://gpoguam.com
X-WR-CALDESC:Events for GPO Guam
REFRESH-INTERVAL;VALUE=DURATION:PT1H
X-Robots-Tag:noindex
X-PUBLISHED-TTL:PT1H
BEGIN:VTIMEZONE
TZID:Pacific/Guam
BEGIN:STANDARD
TZOFFSETFROM:+1000
TZOFFSETTO:+1000
TZNAME:ChST
DTSTART:20200101T000000
END:STANDARD
END:VTIMEZONE
BEGIN:VEVENT
DTSTART;VALUE=DATE:20200402
DTEND;VALUE=DATE:20200420
DTSTAMP:20260423T050746
CREATED:20200317T224354Z
LAST-MODIFIED:20200317T224354Z
UID:12481-1585785600-1587340799@gpoguam.com
SUMMARY:Tommy Hilfiger: Annual Spring Sale
DESCRIPTION:  \n \nAnnual Spring Sale\nUp to 50% off Entire Store*\nPlus\, present this offer in-store and receive \n20% off your purchase of $150 or more or 15% off your entire purchase** \nApril 2–19 \n*Ticketed price. Exclusions apply. All styles not available at all locations. Promotion not valid in the following stores in California:\nOutlets at San Clemente\, San Francisco Premium Outlets\, Vacaville Premium Outlets\, Outlets at Tejon\, and Fashion Outlets of Las\nVegas\, Nevada. **THIS OFFER EXPIRES ON 4/19/20 and is redeemable for an amount up to the discount stated on this Offer and\nmust be presented in-person at Tommy Hilfiger stores in the United States\, Puerto Rico\, and Guam. It may be used only once\nwhether or not fully redeemed and must be surrendered at purchase with any remaining value of the Offer forfeited. Not\nredeemable for store credit or cash. The Offer may not be combined with any other promotion and has no cash value. It is not valid\nfor previously purchased merchandise\, gift cards\, or Internet transactions. Any discount (as shown on the receipt) applied to\nmerchandise that is returned will be deducted from any refund amount. Customer must present this posting at time of purchase to\nreceive the Offer. Reproductions of the Offer will not be accepted. PVH associates not eligible. Not valid in department stores\,
URL:https://gpoguam.com/event/tommy-hilfiger-annual-spring-sale-2/
LOCATION:Tommy Hilfiger
CATEGORIES:Sales
END:VEVENT
END:VCALENDAR