BEGIN:VCALENDAR
VERSION:2.0
PRODID:-//GPO Guam - ECPv6.0.12//NONSGML v1.0//EN
CALSCALE:GREGORIAN
METHOD:PUBLISH
X-ORIGINAL-URL:https://gpoguam.com
X-WR-CALDESC:Events for GPO Guam
REFRESH-INTERVAL;VALUE=DURATION:PT1H
X-Robots-Tag:noindex
X-PUBLISHED-TTL:PT1H
BEGIN:VTIMEZONE
TZID:Pacific/Guam
BEGIN:STANDARD
TZOFFSETFROM:+1000
TZOFFSETTO:+1000
TZNAME:ChST
DTSTART:20200101T000000
END:STANDARD
END:VTIMEZONE
BEGIN:VEVENT
DTSTART;VALUE=DATE:20200302
DTEND;VALUE=DATE:20200326
DTSTAMP:20260423T074619
CREATED:20200310T044428Z
LAST-MODIFIED:20200310T044428Z
UID:12457-1583107200-1585180799@gpoguam.com
SUMMARY:Vitamin World: Spring Savings
DESCRIPTION:  \n \nVitamin World Buy 1 Get 2 Free/ Mix & Match (select items)\nVitamin World & Precision Engineering BOGO (Buy One Get One) Free/ Mix & Match\nSavings Madness Sports Up to 40% off (select items)\nDiet BOGO (Buy One Get One) Free/ Mix & Match\nHealth & Beauty BOGO (Buy One Get One) Free/ Mix & Match\nEnergize BOGO (Buy One Get One) Free/ Mix & Match\nSolgar 25% off\nOngoing: Clearance Up to 80% off\nOngoing: Blender Bottle 2 for $11.99\nOngoing: Bars Buy 3 Get 1 Free Mix & Match (includes drinks)
URL:https://gpoguam.com/event/vitamin-world-spring-savings/
LOCATION:Vitamin World
CATEGORIES:Sales
END:VEVENT
END:VCALENDAR