BEGIN:VCALENDAR
VERSION:2.0
PRODID:-//GPO Guam - ECPv6.0.12//NONSGML v1.0//EN
CALSCALE:GREGORIAN
METHOD:PUBLISH
X-ORIGINAL-URL:https://gpoguam.com
X-WR-CALDESC:Events for GPO Guam
REFRESH-INTERVAL;VALUE=DURATION:PT1H
X-Robots-Tag:noindex
X-PUBLISHED-TTL:PT1H
BEGIN:VTIMEZONE
TZID:Pacific/Guam
BEGIN:STANDARD
TZOFFSETFROM:+1000
TZOFFSETTO:+1000
TZNAME:ChST
DTSTART:20200101T000000
END:STANDARD
END:VTIMEZONE
BEGIN:VEVENT
DTSTART;VALUE=DATE:20200211
DTEND;VALUE=DATE:20200301
DTSTAMP:20260423T091339
CREATED:20200211T011748Z
LAST-MODIFIED:20200211T011748Z
UID:12412-1581379200-1583020799@gpoguam.com
SUMMARY:Port of Mocha: 2 for $12 Bubble Waffles
DESCRIPTION:Bubble Waffles are 2 for $12 all day everyday at Port of Mocha located here in the #GuamPremierOutlets 😋\nBring your sweet tooth and a friend!
URL:https://gpoguam.com/event/port-of-mocha-2-for-12-bubble-waffles/
LOCATION:Port of Mocha
CATEGORIES:Sales
END:VEVENT
BEGIN:VEVENT
DTSTART;VALUE=DATE:20200213
DTEND;VALUE=DATE:20200227
DTSTAMP:20260423T091339
CREATED:20200130T033640Z
LAST-MODIFIED:20200130T223821Z
UID:12373-1581552000-1582761599@gpoguam.com
SUMMARY:Tommy Hilfiger: Presidents' Day Sale
DESCRIPTION:Presidents’ Day Sale\nUp to 50% off Entire Store*\nPlus\, present this offer in-store and receive \n20% off your purchase of $150 or more or 15% off your entire purchase** \nFebruary 13-26 \n*Ticketed price. Exclusions apply. All styles not available at all locations. Promotion not valid in the following stores in California:\nOutlets at San Clemente\, San Francisco Premium Outlets\, Vacaville Premium Outlets\, Outlets at Tejon\, and Fashion Outlets of Las\nVegas\, Nevada. **THIS OFFER EXPIRES ON 2/26/20 and is redeemable for an amount up to the discount stated on this Offer and\nmust be presented in-person at Tommy Hilfiger stores in the United States\, Puerto Rico\, and Guam. It may be used only once\nwhether or not fully redeemed and must be surrendered at purchase with any remaining value of the Offer forfeited. Not\nredeemable for store credit or cash. The Offer may not be combined with any other promotion and has no cash value. It is not valid\nfor previously purchased merchandise\, gift cards\, or Internet transactions. Any discount (as shown on the receipt) applied to\nmerchandise that is returned will be deducted from any refund amount. Customer must present this posting at time of purchase to\nreceive the Offer. Reproductions of the Offer will not be accepted. PVH associates not eligible. Not valid in department stores\,\nClearance stores\, select Tommy Hilfiger stores in California and Nevada as stated above and Canada\, or on tommy.com. Promo\nCode: 500023902000
URL:https://gpoguam.com/event/tommy-hilfiger-warm-up-sale/
LOCATION:Tommy Hilfiger
CATEGORIES:Sales
END:VEVENT
BEGIN:VEVENT
DTSTART;VALUE=DATE:20200213
DTEND;VALUE=DATE:20200301
DTSTAMP:20260423T091339
CREATED:20200213T054222Z
LAST-MODIFIED:20200213T054222Z
UID:12417-1581552000-1583020799@gpoguam.com
SUMMARY:Coldstone Creamery: $3 off Cakes
DESCRIPTION:Valentine’s Day is tomorrow and we have signature classics and new-to-be-favorites for ALL your loved ones! Swing by and order today! \n$3 off any large round cake (or larger). \nPresent this coupon to receive offer. Limit one per customer per visit. \nExcludes pies\, petite cakes\, cupcakes & cookie sandwiches. Valid only at participating U.S. locations\, Valid in store only. Not valid for online purchases. No cash value. Not valid with other offers or fundraisers or if copied\, sold\, auctioned\, exchanged for payment or where prohibited by law.16 7090_© 2018 Kahala Franchising\,\nL.L.C. COLD STONE CREAMERY is a registered trademarks of Kahala Franchising\, L.L.C
URL:https://gpoguam.com/event/coldstone-creamery-3-off-cakes/
LOCATION:Cold Stone Creamery
CATEGORIES:Sales
END:VEVENT
BEGIN:VEVENT
DTSTART;VALUE=DATE:20200218
DTEND;VALUE=DATE:20200226
DTSTAMP:20260423T091339
CREATED:20200214T004328Z
LAST-MODIFIED:20200214T004328Z
UID:12422-1581984000-1582675199@gpoguam.com
SUMMARY:Calvin Klein: Get Active + Shop New Arrivals
DESCRIPTION:Weekly Web Promotion \nFebruary 18th – February 25th\, 2020  \n\nCalvin Klein Company Stores \nGet Active + Shop New Arrivals \nSave Up to 40% Off Entire Store \n\n\nCalvin Klein Accessory Stores \nGet Active + Shop New Arrivals \nAccessories up to 40% to 70% Off
URL:https://gpoguam.com/event/calvin-klein-get-active-shop-new-arrivals/
LOCATION:Calvin Klein
CATEGORIES:Sales
END:VEVENT
BEGIN:VEVENT
DTSTART;TZID=Pacific/Guam:20200222T140000
DTEND;TZID=Pacific/Guam:20200222T150000
DTSTAMP:20260423T091339
CREATED:20200204T040710Z
LAST-MODIFIED:20200204T040710Z
UID:12393-1582380000-1582383600@gpoguam.com
SUMMARY:PIPIT Cultural Performance
DESCRIPTION:Discover and experience an authentic cultural performance by Para I Probechu’n I Taotao-ya (PIPIT) every Saturday at 2:00 pm in the GPO Food Court. \nPIPIT’s young performers help preserve and carry on Guam’s rich Chamorro culture through dance\, crafts and language. \n*Free admission!
URL:https://gpoguam.com/event/pipit-cultural-performance/
LOCATION:GPO Food Court
CATEGORIES:Entertainment
END:VEVENT
END:VCALENDAR