BEGIN:VCALENDAR
VERSION:2.0
PRODID:-//GPO Guam - ECPv6.0.12//NONSGML v1.0//EN
CALSCALE:GREGORIAN
METHOD:PUBLISH
X-ORIGINAL-URL:https://gpoguam.com
X-WR-CALDESC:Events for GPO Guam
REFRESH-INTERVAL;VALUE=DURATION:PT1H
X-Robots-Tag:noindex
X-PUBLISHED-TTL:PT1H
BEGIN:VTIMEZONE
TZID:Pacific/Guam
BEGIN:STANDARD
TZOFFSETFROM:+1000
TZOFFSETTO:+1000
TZNAME:ChST
DTSTART:20190101T000000
END:STANDARD
END:VTIMEZONE
BEGIN:VEVENT
DTSTART;VALUE=DATE:20191230
DTEND;VALUE=DATE:20200211
DTSTAMP:20260423T091339
CREATED:20191230T045012Z
LAST-MODIFIED:20191230T045117Z
UID:12324-1577664000-1581379199@gpoguam.com
SUMMARY:Shop Guam e-Festival
DESCRIPTION:  \n \nThe Guam Visitor Bureau’s signature event will run through Thursday\, February 10\, 2020. \nDownload the free Shop Guam app and redeem special discounts from our stores here at GPO: \n\nAjisen Ramen\nCalvin Klein and Calvin Klein Accessories\nCinnabon\nColdstone Creamery and Coldstone Yogurt Bar\nGUESS\nLevi’s\nTommy Hilfiger\nTwinkles\nVince Jewelers
URL:https://gpoguam.com/event/shop-guam-e-festival/
CATEGORIES:Sales
END:VEVENT
BEGIN:VEVENT
DTSTART;VALUE=DATE:20200130
DTEND;VALUE=DATE:20200219
DTSTAMP:20260423T091339
CREATED:20200129T234038Z
LAST-MODIFIED:20200129T234038Z
UID:12358-1580342400-1582070399@gpoguam.com
SUMMARY:ColdStone Creamery: Valentine's Day Creations
DESCRIPTION:For the sweetest date\, take your Valentine to @Cold Stone Creamery Guam to indulge in the new Fudge Truffle and Reese’s Peanut Butter Cup Creations! \nAvailable until February 18\, 2020.
URL:https://gpoguam.com/event/coldstone-creamery-valentines-day-creations/
LOCATION:Cold Stone Creamery
CATEGORIES:Sales
END:VEVENT
BEGIN:VEVENT
DTSTART;VALUE=DATE:20200203
DTEND;VALUE=DATE:20200210
DTSTAMP:20260423T091339
CREATED:20200202T230957Z
LAST-MODIFIED:20200202T230957Z
UID:12380-1580688000-1581292799@gpoguam.com
SUMMARY:Calvin Klein: Shop Basics and Clearance
DESCRIPTION:Weekly Web Promotion \nFebruary 3rd – February 9th\, 2020  \nExclusions Apply\n\nCalvin Klein Company Stores \nShop Basics & Clearance \nUp to 40% Off Entire Store \n\nCalvin Klein Accessory Stores \nShop Basics & Clearance \nAccessories up to 70% Off
URL:https://gpoguam.com/event/calvin-klein-shop-basics-and-clearance/
LOCATION:Calvin Klein
CATEGORIES:Sales
END:VEVENT
BEGIN:VEVENT
DTSTART;VALUE=DATE:20200206
DTEND;VALUE=DATE:20200213
DTSTAMP:20260423T091339
CREATED:20200130T015058Z
LAST-MODIFIED:20200130T223344Z
UID:12368-1580947200-1581551999@gpoguam.com
SUMMARY:Tommy Hilfiger: TH Denim
DESCRIPTION:TH Denim \nPresent this offer in-store and receive \n15% off your purchase of $150 or more or 10% off your entire purchase* \nFebruary 6-12 \nAll styles not available at all locations. Promotion not valid in the following stores in California: Outlets at San Clemente\, San\nFrancisco Premium Outlets\, Vacaville Premium Outlets\, Outlets at Tejon\, and Fashion Outlets of Las Vegas\, Nevada. *THIS OFFER\nEXPIRES ON 2/12/20 and is redeemable for an amount up to the discount stated on this Offer and must be presented in-person at\nTommy Hilfiger stores in the United States\, Puerto Rico\, and Guam. It may be used only once whether or not fully redeemed and\nmust be surrendered at purchase with any remaining value of the Offer forfeited. Not redeemable for store credit or cash. The Offer\nmay not be combined with any other promotion and has no cash value. It is not valid for previously purchased merchandise\, gift\ncards\, or Internet transactions. Any discount (as shown on the receipt) applied to merchandise that is returned will be deducted\nfrom any refund amount. Customer must present this posting at time of purchase to receive the Offer. Reproductions of the Offer\nwill not be accepted. PVH associates not eligible. Not valid in department stores\, Clearance stores\, select Tommy Hilfiger stores in\nCalifornia and Nevada as stated above and Canada\, or on tommy.com. Promo Code: 500023901000
URL:https://gpoguam.com/event/tommy-hilfiger-th-denim/
LOCATION:Tommy Hilfiger
CATEGORIES:Sales
END:VEVENT
END:VCALENDAR