BEGIN:VCALENDAR
VERSION:2.0
PRODID:-//GPO Guam - ECPv6.0.12//NONSGML v1.0//EN
CALSCALE:GREGORIAN
METHOD:PUBLISH
X-WR-CALNAME:GPO Guam
X-ORIGINAL-URL:https://gpoguam.com
X-WR-CALDESC:Events for GPO Guam
REFRESH-INTERVAL;VALUE=DURATION:PT1H
X-Robots-Tag:noindex
X-PUBLISHED-TTL:PT1H
BEGIN:VTIMEZONE
TZID:Pacific/Guam
BEGIN:STANDARD
TZOFFSETFROM:+1000
TZOFFSETTO:+1000
TZNAME:ChST
DTSTART:20190101T000000
END:STANDARD
END:VTIMEZONE
BEGIN:VEVENT
DTSTART;VALUE=DATE:20191226
DTEND;VALUE=DATE:20200109
DTSTAMP:20260423T104514
CREATED:20191211T050432Z
LAST-MODIFIED:20191211T050432Z
UID:12286-1577318400-1578527999@gpoguam.com
SUMMARY:Tommy Hilfiger: End of Season Sale
DESCRIPTION:End of Season Sale\nEntire Store on Sale Up to 70% off*\nPlus\, present this offer in-store and receive \n20% off your purchase of $150+ or 15% off your entire purchase** \nDecember 26 – January 8 \n*Ticketed price. Exclusions apply. All styles not available at all locations. Promotion not valid in the following stores in California: Outlets at San Clemente\, San Francisco Premium Outlets\, Vacaville Premium Outlets\, Outlets at Tejon\, and Fashion Outlets of Las Vegas\, Nevada. **THIS OFFER EXPIRES ON 1/8/20 and is redeemable for an amount up to the discount stated on this Offer and must\nbe presented in-person at Tommy Hilfiger stores in the United States\, Puerto Rico\, and Guam. It may be used only once whether or not fully redeemed and must be surrendered at purchase with any remaining value of the Offer forfeited. Not redeemable for store credit or cash. The Offer may not be combined with any other promotion and has no cash value. It is not valid for previously purchased merchandise\, gift cards\, or Internet transactions. Any discount (as shown on the receipt) applied to merchandise that is\nreturned will be deducted from any refund amount. Customer must present this posting at time of purchase to receive the Offer. Reproductions of the Offer will not be accepted. PVH associates not eligible. Not valid in department stores\, Clearance stores\, select Tommy Hilfiger stores in California and Nevada as stated above and Canada\, or on tommy.com. Promo Code: 500023411000
URL:https://gpoguam.com/event/tommy-hilfiger-end-of-season-sale-2/
LOCATION:Tommy Hilfiger
CATEGORIES:Sales
END:VEVENT
BEGIN:VEVENT
DTSTART;VALUE=DATE:20191229
DTEND;VALUE=DATE:20200113
DTSTAMP:20260423T104514
CREATED:20200102T231546Z
LAST-MODIFIED:20200107T224010Z
UID:12335-1577577600-1578873599@gpoguam.com
SUMMARY:Famous Footwear: BOGO 1/2 Clearance
DESCRIPTION:BOGO ½ Off Clearance \nDates: 12/29-1/12 \nBuy one clearance item\, get a second clearance item of equal or lesser value for half price.
URL:https://gpoguam.com/event/famous-footwear-bogo-1-2-clearance/
LOCATION:Famous Footwear
END:VEVENT
BEGIN:VEVENT
DTSTART;VALUE=DATE:20191230
DTEND;VALUE=DATE:20200211
DTSTAMP:20260423T104514
CREATED:20191230T045012Z
LAST-MODIFIED:20191230T045117Z
UID:12324-1577664000-1581379199@gpoguam.com
SUMMARY:Shop Guam e-Festival
DESCRIPTION:  \n \nThe Guam Visitor Bureau’s signature event will run through Thursday\, February 10\, 2020. \nDownload the free Shop Guam app and redeem special discounts from our stores here at GPO: \n\nAjisen Ramen\nCalvin Klein and Calvin Klein Accessories\nCinnabon\nColdstone Creamery and Coldstone Yogurt Bar\nGUESS\nLevi’s\nTommy Hilfiger\nTwinkles\nVince Jewelers
URL:https://gpoguam.com/event/shop-guam-e-festival/
CATEGORIES:Sales
END:VEVENT
BEGIN:VEVENT
DTSTART;VALUE=DATE:20200102
DTEND;VALUE=DATE:20200115
DTSTAMP:20260423T104514
CREATED:20200102T231013Z
LAST-MODIFIED:20200102T231013Z
UID:12330-1577923200-1579046399@gpoguam.com
SUMMARY:Calvin Klein: Biggest Clearance Event of the Season
DESCRIPTION:Weekly Web Promotion \nJanuary 2nd – January 14th 2020  \nExclusions Apply \n\nCalvin Klein Company Stores \nBiggest Clearance Event of the Season \nUp to 60% Off Entire Store \n  \n\nCalvin Klein Accessory Stores \nBiggest Clearance Event of the Season \nAccessories up to 70% Off
URL:https://gpoguam.com/event/calvin-klein-biggest-clearance-event-of-the-season/
LOCATION:Calvin Klein
CATEGORIES:Sales
END:VEVENT
END:VCALENDAR