BEGIN:VCALENDAR
VERSION:2.0
PRODID:-//GPO Guam - ECPv6.0.12//NONSGML v1.0//EN
CALSCALE:GREGORIAN
METHOD:PUBLISH
X-ORIGINAL-URL:https://gpoguam.com
X-WR-CALDESC:Events for GPO Guam
REFRESH-INTERVAL;VALUE=DURATION:PT1H
X-Robots-Tag:noindex
X-PUBLISHED-TTL:PT1H
BEGIN:VTIMEZONE
TZID:Pacific/Guam
BEGIN:STANDARD
TZOFFSETFROM:+1000
TZOFFSETTO:+1000
TZNAME:ChST
DTSTART:20190101T000000
END:STANDARD
END:VTIMEZONE
BEGIN:VEVENT
DTSTART;VALUE=DATE:20191107
DTEND;VALUE=DATE:20191114
DTSTAMP:20260423T140050
CREATED:20191111T035157Z
LAST-MODIFIED:20191111T035157Z
UID:12113-1573084800-1573689599@gpoguam.com
SUMMARY:Calvin Klein: The Veterans Day Sale
DESCRIPTION:Weekly Web Promotion \nNovember 7th 2019 – November 13th 2019 \nExclusions Apply \n\nCalvin Klein Company Stores \nThe Veterans Day Sale \nUp to 50% Off Entire Store \n\n\nCalvin Klein Accessory Stores \nThe Veterans Day Sale \nAccessories Up to 70% Off
URL:https://gpoguam.com/event/calvin-klein-the-veterans-day-sale/
LOCATION:Calvin Klein
CATEGORIES:Sales
END:VEVENT
END:VCALENDAR