BEGIN:VCALENDAR
VERSION:2.0
PRODID:-//GPO Guam - ECPv6.0.12//NONSGML v1.0//EN
CALSCALE:GREGORIAN
METHOD:PUBLISH
X-ORIGINAL-URL:https://gpoguam.com
X-WR-CALDESC:Events for GPO Guam
REFRESH-INTERVAL;VALUE=DURATION:PT1H
X-Robots-Tag:noindex
X-PUBLISHED-TTL:PT1H
BEGIN:VTIMEZONE
TZID:Pacific/Guam
BEGIN:STANDARD
TZOFFSETFROM:+1000
TZOFFSETTO:+1000
TZNAME:ChST
DTSTART:20190101T000000
END:STANDARD
END:VTIMEZONE
BEGIN:VEVENT
DTSTART;VALUE=DATE:20190812
DTEND;VALUE=DATE:20191001
DTSTAMP:20260423T170647
CREATED:20190812T232540Z
LAST-MODIFIED:20190812T232540Z
UID:11849-1565568000-1569887999@gpoguam.com
SUMMARY:Instagram Frame Photo Contest!
DESCRIPTION:Instagram Frame Photo Contest 📸\nCheck out GPO’s new life-size IG frame for a chance to win Shell gas!\nAll you have to do is:\n1. Follow @gpoguam on Instagram\n2. Post a photo with our IG Frame & hashtag #GPOGuam\n3. We’ll be choosing winners on Instagram every week from now until September 30\, 2019! \n\n📍The Instagram frame is located in front of Calvin Klein.
URL:https://gpoguam.com/event/instagram-frame-photo-contest/
LOCATION:by Calvin Klein
CATEGORIES:Entertainment
END:VEVENT
BEGIN:VEVENT
DTSTART;VALUE=DATE:20190904
DTEND;VALUE=DATE:20191001
DTSTAMP:20260423T170647
CREATED:20190903T231745Z
LAST-MODIFIED:20190903T231745Z
UID:11923-1567555200-1569887999@gpoguam.com
SUMMARY:Vitamin World Sales
DESCRIPTION:Health is in session. Here are this month’s Vitamin World sales: \n \n 
URL:https://gpoguam.com/event/vitamin-world-sales-2/
LOCATION:Vitamin World
CATEGORIES:Sales
END:VEVENT
BEGIN:VEVENT
DTSTART;VALUE=DATE:20190904
DTEND;VALUE=DATE:20191019
DTSTAMP:20260423T170647
CREATED:20190905T002455Z
LAST-MODIFIED:20190905T002455Z
UID:11935-1567555200-1571443199@gpoguam.com
SUMMARY:All Souls Day Headstones: Pre-order at Tech Savvy
DESCRIPTION:  \n \nAll Souls Day Special \nTech Savvy is taking pre-orders before Friday\, October 18.\nPlease submit a clear photograph to netcopy01@gmail.com \nOrders will be ready for pick-up at the Tech Savvy kiosk before All Souls Day (Saturday\, Nov. 2)\n\n[FOR YOUR BELOVED ONE] – PERFECT CEMETERY DECORATIONS. PERFECT MEMORY FOR YOU TO CHERISH EVERY TIME YOU VISIT YOUR LOVED ONE’S GRAVE. SHOW YOUR LOVE WITH THIS UNIQUE HEARTFELT AND ONE OF A KIND GIFT.\n \n[PERMANENT] – THIS MEMORIAL CERAMIC IS NOT JUST A REGULAR PRINTED PHOTO. IT  IS MADE OUT OF ITALIAN IMPORT QUALITY PORCELAIN\, KILN-FIRED AT 1600 F FOR MORE THAN 15 HOURS\, WILL LAST FOREVER IN ANY WEATHER CONDITIONS\, SUCH AS HEAT\, RAIN\, HAIL AND SNOW ETC. IT IS SCRATCH PROOF; WATERPROOF; UV RESISTANT; THE TILE PHOTO IS VERY DURABLE AND CAN BE USED OUTDOOR AND INDOOR.\n \n[EASY TO INSTALL] – 3M VHB INDUSTRIAL DOUBLE-SIDED MOUNTING TAPE INCLUDED FOR PERMANENT INSTALLATION IN JUST MINUTES. THE ADHESIVE IS WATERPROOF AND CAN WITHSTAND BOTH VERY COLD AND VERY HOT TEMPERATURES. \n[SATISFACTION GUARANTEE] – 100% SATISFACTION GUARANTEED. WE GUARANTEE YOU ARE GOING TO ABSOLUTELY LOVE. IF YOU ARE NOT 100% SATISFIED\, YOU CAN RETURN FOR A FULL REFUND.
URL:https://gpoguam.com/event/all-souls-day-headstones-pre-order-at-tech-savvy/
LOCATION:Tech Savvy
CATEGORIES:Sales
END:VEVENT
BEGIN:VEVENT
DTSTART;VALUE=DATE:20190923
DTEND;VALUE=DATE:20191003
DTSTAMP:20260423T170647
CREATED:20190819T233647Z
LAST-MODIFIED:20190819T233647Z
UID:11904-1569196800-1570060799@gpoguam.com
SUMMARY:Tommy Hilfiger Denim Stock Up Event
DESCRIPTION:Denim Stock Up Event\nAll Jeans\, Buy One Get One 50% Off*\nPlus\, present this offer in-store and receive \n20% off your purchase of $150 or more or 15% off your entire purchase** \nSeptember 23-October 2 \n*Higher price prevails. One at ticketed price. Exclusions may apply. See associate for full details. All styles not available at all\nlocations. Promotion not valid in the following stores in California: Outlets at San Clemente\, San Francisco Premium Outlets\,\nVacaville Premium Outlets\, Outlets at Tejon\, and Fashion Outlets of Las Vegas\, Nevada. **THIS OFFER EXPIRES ON 10/02/19 and is\nredeemable for an amount up to the discount stated on this Offer and must be presented in-person at Tommy Hilfiger stores in the\nUnited States\, Puerto Rico\, and Guam. It may be used only once whether or not fully redeemed and must be surrendered at\npurchase with any remaining value of the Offer forfeited. Not redeemable for store credit or cash. The Offer may not be combined\nwith any other promotion and has no cash value. It is not valid for previously purchased merchandise\, gift cards\, or Internet\ntransactions. Any discount (as shown on the receipt) applied to merchandise that is returned will be deducted from any refund\namount. Customer must present this posting at time of purchase to receive the Offer. Reproductions of the Offer will not be\naccepted. PVH associates not eligible. Not valid in department stores\, Clearance stores\, select Tommy Hilfiger stores in California and\nNevada as stated above and Canada\, or on tommy.com. Promo Code: 500022053000
URL:https://gpoguam.com/event/tommy-hilfiger-denim-stock-up-event/
LOCATION:Tommy Hilfiger
CATEGORIES:Sales
END:VEVENT
BEGIN:VEVENT
DTSTART;VALUE=DATE:20190923
DTEND;VALUE=DATE:20191004
DTSTAMP:20260423T170647
CREATED:20190920T013012Z
LAST-MODIFIED:20190920T013012Z
UID:11968-1569196800-1570147199@gpoguam.com
SUMMARY:Calvin Klein Sale
DESCRIPTION:Weekly Web Promotion\n9.23.2019 – 10.3.2019\n \n\nCalvin Klein Outlet Stores \nLayer It On \nUp to 50% Off Entire Store \n  \n\nCalvin Klein Accessory Stores \nLayer It On \nAccessories Up to 60% Off \n*Exclusions Apply
URL:https://gpoguam.com/event/calvin-klein-sale-33/
LOCATION:Calvin Klein
CATEGORIES:Sales
END:VEVENT
END:VCALENDAR