BEGIN:VCALENDAR
VERSION:2.0
PRODID:-//GPO Guam - ECPv6.0.12//NONSGML v1.0//EN
CALSCALE:GREGORIAN
METHOD:PUBLISH
X-WR-CALNAME:GPO Guam
X-ORIGINAL-URL:https://gpoguam.com
X-WR-CALDESC:Events for GPO Guam
REFRESH-INTERVAL;VALUE=DURATION:PT1H
X-Robots-Tag:noindex
X-PUBLISHED-TTL:PT1H
BEGIN:VTIMEZONE
TZID:Pacific/Guam
BEGIN:STANDARD
TZOFFSETFROM:+1000
TZOFFSETTO:+1000
TZNAME:ChST
DTSTART:20190101T000000
END:STANDARD
END:VTIMEZONE
BEGIN:VEVENT
DTSTART;VALUE=DATE:20190703
DTEND;VALUE=DATE:20190901
DTSTAMP:20260423T183729
CREATED:20190702T232228Z
LAST-MODIFIED:20190702T232228Z
UID:11702-1562112000-1567295999@gpoguam.com
SUMMARY:Twinkles: Back-to-School Sale
DESCRIPTION:Twinkles Back-to-School Sale begins now! \nAll the regular priced school supplies are 25% off. \nAll the regular priced backpacks and lunch bags are 20% off. \nAll the toys are 10% off. \nAll the skateboards and surf boards are 15% off. \n*Offers valid until August 31\, 2019
URL:https://gpoguam.com/event/twinkles-back-to-school-sale/
LOCATION:Twinkles
CATEGORIES:Sales
END:VEVENT
BEGIN:VEVENT
DTSTART;VALUE=DATE:20190711
DTEND;VALUE=DATE:20190912
DTSTAMP:20260423T183729
CREATED:20190711T012148Z
LAST-MODIFIED:20190711T012148Z
UID:11777-1562803200-1568246399@gpoguam.com
SUMMARY:Famous Footwear: BOGO 1/2 Off Event
DESCRIPTION:Famous Footwear BOGO ½ Off Event\nValid July 11 – September 11\, 2019\n \nBecause two is better than one. Buy one pair and get one 1/2 off at Famous Footwear. \nSome exclusions apply.
URL:https://gpoguam.com/event/famous-footwear-bogo-1-2-off-event/
LOCATION:Famous Footwear
CATEGORIES:Sales
END:VEVENT
BEGIN:VEVENT
DTSTART;VALUE=DATE:20190715
DTEND;VALUE=DATE:20190816
DTSTAMP:20260423T183729
CREATED:20190719T060913Z
LAST-MODIFIED:20190719T060913Z
UID:11795-1563148800-1565913599@gpoguam.com
SUMMARY:Time & Style: Buy One Get One 50% Off
DESCRIPTION:Buy One Get One 50% off entire store! \nTime & Style carries quality brands of watches\, sunglasses\, LAMY pens and more! \n(Located next to Twinkles)
URL:https://gpoguam.com/event/time-style-buy-one-get-one-50-off/
LOCATION:Time & Style
CATEGORIES:Sales
END:VEVENT
BEGIN:VEVENT
DTSTART;VALUE=DATE:20190725
DTEND;VALUE=DATE:20190812
DTSTAMP:20260423T183729
CREATED:20190723T224011Z
LAST-MODIFIED:20190723T224011Z
UID:11813-1564012800-1565567999@gpoguam.com
SUMMARY:Famous Footwear 15% Off + BOGO ½ Off
DESCRIPTION:  \n \nStep back into the school year in style.  \nNow through 8/11/19\, get 15% Off + Buy One Get One ½ Off on your next Famous Footwear in-store purchase with this barcode.
URL:https://gpoguam.com/event/famous-footwear-15-off-bogo-%c2%bd-off/
LOCATION:Famous Footwear
END:VEVENT
BEGIN:VEVENT
DTSTART;VALUE=DATE:20190801
DTEND;VALUE=DATE:20190901
DTSTAMP:20260423T183729
CREATED:20190729T060754Z
LAST-MODIFIED:20190729T060754Z
UID:11834-1564617600-1567295999@gpoguam.com
SUMMARY:Vitamin World Sales
DESCRIPTION:Vitamin World is located next to ABC Stores.
URL:https://gpoguam.com/event/vitamin-world-sales/
LOCATION:Vitamin World
CATEGORIES:Sales
END:VEVENT
BEGIN:VEVENT
DTSTART;VALUE=DATE:20190805
DTEND;VALUE=DATE:20190816
DTSTAMP:20260423T183729
CREATED:20190801T224812Z
LAST-MODIFIED:20190801T224812Z
UID:11845-1564963200-1565913599@gpoguam.com
SUMMARY:Calvin Klein Sale
DESCRIPTION:Weekly Web Promotion \nAugust 5th – August 15th\, 2019. \nExclusions Apply \nCalvin Klein Outlet Stores \nShop The Iconic Summer Sale\, Enjoy Up to 60% Off Entire Store \n\n\nCalvin Klein Accessory Stores \nShop The Iconic Summer Sale\, Accessories Up to 70% Off
URL:https://gpoguam.com/event/calvin-klein-sale-28/
LOCATION:Calvin Klein
CATEGORIES:Sales
END:VEVENT
BEGIN:VEVENT
DTSTART;VALUE=DATE:20190808
DTEND;VALUE=DATE:20190829
DTSTAMP:20260423T183729
CREATED:20190723T230037Z
LAST-MODIFIED:20190723T230037Z
UID:11817-1565222400-1567036799@gpoguam.com
SUMMARY:Tommy Hilfiger: New Fall Arrivals
DESCRIPTION:New Fall Arrivals\nUp to 50% off*\nPlus\, present this offer in-store and receive\n25% off your purchase of $250+ or 20% off your purchase of $150+ or 15% off your entire purchase**\nAugust 8-28\n*Ticketed price. Exclusions apply. All styles not available at all locations. Promotion not valid in the following stores in California:\nOutlets at San Clemente\, San Francisco Premium Outlets\, Vacaville Premium Outlets\, Outlets at Tejon\, and Fashion Outlets of Las\nVegas\, Nevada. **THIS OFFER EXPIRES ON 8/28/19 and is redeemable for an amount up to the discount stated on this Offer and\nmust be presented in-person at Tommy Hilfiger stores in the United States\, Puerto Rico\, and Guam. It may be used only once\nwhether or not fully redeemed and must be surrendered at purchase with any remaining value of the Offer forfeited. Not\nredeemable for store credit or cash. The Offer may not be combined with any other promotion and has no cash value. It is not valid\nfor previously purchased merchandise\, gift cards\, or Internet transactions. Any discount (as shown on the receipt) applied to\nmerchandise that is returned will be deducted from any refund amount. Customer must present this posting at time of purchase to\nreceive the Offer. Reproductions of the Offer will not be accepted. PVH associates not eligible. Not valid in department stores\,\nClearance stores\, select Tommy Hilfiger stores in California and Nevada as stated above and Canada\, or on tommy.com. Promo\nCode: 500022056000
URL:https://gpoguam.com/event/tommy-hilfiger-new-fall-arrivals/
LOCATION:Tommy Hilfiger
CATEGORIES:Sales
END:VEVENT
BEGIN:VEVENT
DTSTART;TZID=Pacific/Guam:20190810T140000
DTEND;TZID=Pacific/Guam:20190810T150000
DTSTAMP:20260423T183729
CREATED:20190624T004201Z
LAST-MODIFIED:20190624T004201Z
UID:11668-1565445600-1565449200@gpoguam.com
SUMMARY:Cultural Dance Show: Guma Taotao Lagu
DESCRIPTION:Discover and experience an authentic Chamorro Cultural Experience\nwith Guma Taotao Lagu. \nEvery Saturday at 2PM in the GPO Food Court!
URL:https://gpoguam.com/event/cultural-dance-show-guma-taotao-lagu-2/
LOCATION:GPO Food Court
CATEGORIES:Entertainment
END:VEVENT
END:VCALENDAR