BEGIN:VCALENDAR
VERSION:2.0
PRODID:-//GPO Guam - ECPv6.0.12//NONSGML v1.0//EN
CALSCALE:GREGORIAN
METHOD:PUBLISH
X-ORIGINAL-URL:https://gpoguam.com
X-WR-CALDESC:Events for GPO Guam
REFRESH-INTERVAL;VALUE=DURATION:PT1H
X-Robots-Tag:noindex
X-PUBLISHED-TTL:PT1H
BEGIN:VTIMEZONE
TZID:Pacific/Guam
BEGIN:STANDARD
TZOFFSETFROM:+1000
TZOFFSETTO:+1000
TZNAME:ChST
DTSTART:20190101T000000
END:STANDARD
END:VTIMEZONE
BEGIN:VEVENT
DTSTART;VALUE=DATE:20190701
DTEND;VALUE=DATE:20190801
DTSTAMP:20260423T200319
CREATED:20190702T050432Z
LAST-MODIFIED:20190702T050432Z
UID:11692-1561939200-1564617599@gpoguam.com
SUMMARY:Chuck E. Cheese's Summer Movie Magic
DESCRIPTION:Chuck E. Cheese’s Summer Movie Magic pack for $34.99 includes: \n1 Medium 1 Topping Pizza \n2 Refillable Drinks \n15 Game Tokens \nAND 2 Movie Tickets for ANY MOVIE at GPO Regal Guam Megaplex
URL:https://gpoguam.com/event/chuck-e-cheeses-summer-movie-magic/
LOCATION:Chuck E. Cheese’s
CATEGORIES:Sales
END:VEVENT
BEGIN:VEVENT
DTSTART;VALUE=DATE:20190703
DTEND;VALUE=DATE:20190801
DTSTAMP:20260423T200319
CREATED:20190702T231518Z
LAST-MODIFIED:20190702T231518Z
UID:11697-1562112000-1564617599@gpoguam.com
SUMMARY:Bestseller: $5 Books
DESCRIPTION:Find your new summer reads at Bestseller! Select books are $5 for the month of July.
URL:https://gpoguam.com/event/bestseller-5-books/
LOCATION:Bestseller
CATEGORIES:Sales
END:VEVENT
BEGIN:VEVENT
DTSTART;VALUE=DATE:20190703
DTEND;VALUE=DATE:20190801
DTSTAMP:20260423T200319
CREATED:20190702T233019Z
LAST-MODIFIED:20190702T233019Z
UID:11708-1562112000-1564617599@gpoguam.com
SUMMARY:Sbarro: Philly Cheese Steak Stuffed Pizza
DESCRIPTION:  \n \nSbarro’s finally bringing back the stuffed pizza you have been waiting for the longest time!\nSbarro stuffed pizza is filled with steamy delicious steak\, cheddar & mozzarella cheese\,\nred & green peppers and caramelized onions all stuffed in our famous crust!
URL:https://gpoguam.com/event/sbarro-philly-cheese-steak-stuffed-pizza/
LOCATION:Sbarro
CATEGORIES:Sales
END:VEVENT
BEGIN:VEVENT
DTSTART;VALUE=DATE:20190703
DTEND;VALUE=DATE:20190801
DTSTAMP:20260423T200319
CREATED:20190702T234227Z
LAST-MODIFIED:20190702T234227Z
UID:11713-1562112000-1564617599@gpoguam.com
SUMMARY:KFC: Korean Fried Chicken
DESCRIPTION:In a world where our cuisines unite\,\nthe colonel has joined together your favorite extra crispy KFC fried chicken with an authentic hot and sweet Korean glaze.\nBringing you KFC’s Korean Fried Chicken.\nYou don’t want to miss this remarkable fusion. It’s here on Guam for a limited time!\n \n \n 
URL:https://gpoguam.com/event/kfc-korean-fried-chicken/
LOCATION:KFC
CATEGORIES:Sales
END:VEVENT
BEGIN:VEVENT
DTSTART;VALUE=DATE:20190703
DTEND;VALUE=DATE:20190801
DTSTAMP:20260423T200319
CREATED:20190703T005412Z
LAST-MODIFIED:20190703T005412Z
UID:11723-1562112000-1564617599@gpoguam.com
SUMMARY:Vitamin World Summer Savings
DESCRIPTION:>> Instant Summer Savings $10 off $85\n>> Summer Hot Buy Sale Save 65% off (select items)\n>> VW BOGO 50% Mix & Match\n>> ALL PE BOGO 50% Mix & Match\n>> Diet BOGO 50% Mix & Match (select items)\n>> Herbs & Superfoods BOGO 50% Mix & Match (select items)\n>> Cleansing & Digestion BOGO 50% Mix & Match (select items)\nOngoing: Clearance\nOngoing: Wellness Specials\nOngoing: Blender Bottle 2 for $11.99\nOngoing: Bars Buy 3 Get 1 Free Mix & Match (includes drinks)\n 
URL:https://gpoguam.com/event/vitamin-world-summer-savings-2/
LOCATION:Vitamin World
CATEGORIES:Sales
END:VEVENT
BEGIN:VEVENT
DTSTART;VALUE=DATE:20190703
DTEND;VALUE=DATE:20190901
DTSTAMP:20260423T200319
CREATED:20190702T232228Z
LAST-MODIFIED:20190702T232228Z
UID:11702-1562112000-1567295999@gpoguam.com
SUMMARY:Twinkles: Back-to-School Sale
DESCRIPTION:Twinkles Back-to-School Sale begins now! \nAll the regular priced school supplies are 25% off. \nAll the regular priced backpacks and lunch bags are 20% off. \nAll the toys are 10% off. \nAll the skateboards and surf boards are 15% off. \n*Offers valid until August 31\, 2019
URL:https://gpoguam.com/event/twinkles-back-to-school-sale/
LOCATION:Twinkles
CATEGORIES:Sales
END:VEVENT
BEGIN:VEVENT
DTSTART;VALUE=DATE:20190711
DTEND;VALUE=DATE:20190912
DTSTAMP:20260423T200319
CREATED:20190711T012148Z
LAST-MODIFIED:20190711T012148Z
UID:11777-1562803200-1568246399@gpoguam.com
SUMMARY:Famous Footwear: BOGO 1/2 Off Event
DESCRIPTION:Famous Footwear BOGO ½ Off Event\nValid July 11 – September 11\, 2019\n \nBecause two is better than one. Buy one pair and get one 1/2 off at Famous Footwear. \nSome exclusions apply.
URL:https://gpoguam.com/event/famous-footwear-bogo-1-2-off-event/
LOCATION:Famous Footwear
CATEGORIES:Sales
END:VEVENT
BEGIN:VEVENT
DTSTART;VALUE=DATE:20190715
DTEND;VALUE=DATE:20190816
DTSTAMP:20260423T200319
CREATED:20190719T060913Z
LAST-MODIFIED:20190719T060913Z
UID:11795-1563148800-1565913599@gpoguam.com
SUMMARY:Time & Style: Buy One Get One 50% Off
DESCRIPTION:Buy One Get One 50% off entire store! \nTime & Style carries quality brands of watches\, sunglasses\, LAMY pens and more! \n(Located next to Twinkles)
URL:https://gpoguam.com/event/time-style-buy-one-get-one-50-off/
LOCATION:Time & Style
CATEGORIES:Sales
END:VEVENT
BEGIN:VEVENT
DTSTART;VALUE=DATE:20190723
DTEND;VALUE=DATE:20190729
DTSTAMP:20260423T200319
CREATED:20190723T222905Z
LAST-MODIFIED:20190723T222905Z
UID:11809-1563840000-1564358399@gpoguam.com
SUMMARY:Calvin Klein Sale
DESCRIPTION:Calvin Klein Outlet Stores \nShop The Summer Savings Event\, Up to 60% Off Entire Store \nValid: 7.23.19 – 7.28.19 \nExclusions Apply
URL:https://gpoguam.com/event/calvin-klein-sale-26/
LOCATION:Calvin Klein
CATEGORIES:Sales
END:VEVENT
BEGIN:VEVENT
DTSTART;VALUE=DATE:20190725
DTEND;VALUE=DATE:20190808
DTSTAMP:20260423T200319
CREATED:20190705T011008Z
LAST-MODIFIED:20190705T011008Z
UID:11758-1564012800-1565222399@gpoguam.com
SUMMARY:Tommy Hilfiger: Summer's Still Hot
DESCRIPTION:Summer’s Still Hot \nUp to 70% off Entire Store* \nPlus\, present this offer in-store and receive \n25% off your purchase of $250 or more or 20% off your purchase of $150 or more or 15% off your entire purchase** \nJuly 25 – August 7 \n*Ticketed price. Exclusions apply. All styles not available at all locations. Promotion not valid in California. **THIS OFFER EXPIRES ON 8/7/19 and is redeemable for an amount up to the discount stated on this Offer and must be presented in-person at Tommy Hilfiger stores in the United States\, Puerto Rico\, and Guam. It may be used only once whether or not fully redeemed and must be surrendered at purchase with any remaining value of the Offer forfeited. Not redeemable for store credit or cash. The Offer may not be combined with any other promotion and has no cash value. It is not valid for previously purchased merchandise\, gift cards\, or Internet transactions. Any discount (as shown on the receipt) applied to merchandise that is returned will be deducted from any refund amount. Customer must present this posting at time of purchase to receive the Offer. Reproductions of the Offer will not be accepted. PVH associates not eligible. Not valid in department stores\, Clearance stores\, Hilfiger stores in California and Canada\, or on tommy.com. Promo Code: 500021214000\n 
URL:https://gpoguam.com/event/tommy-hilfiger-summers-still-hot/
LOCATION:Tommy Hilfiger
CATEGORIES:Sales
END:VEVENT
BEGIN:VEVENT
DTSTART;VALUE=DATE:20190725
DTEND;VALUE=DATE:20190812
DTSTAMP:20260423T200319
CREATED:20190723T224011Z
LAST-MODIFIED:20190723T224011Z
UID:11813-1564012800-1565567999@gpoguam.com
SUMMARY:Famous Footwear 15% Off + BOGO ½ Off
DESCRIPTION:  \n \nStep back into the school year in style.  \nNow through 8/11/19\, get 15% Off + Buy One Get One ½ Off on your next Famous Footwear in-store purchase with this barcode.
URL:https://gpoguam.com/event/famous-footwear-15-off-bogo-%c2%bd-off/
LOCATION:Famous Footwear
END:VEVENT
BEGIN:VEVENT
DTSTART;TZID=Pacific/Guam:20190727T140000
DTEND;TZID=Pacific/Guam:20190727T150000
DTSTAMP:20260423T200319
CREATED:20190624T002411Z
LAST-MODIFIED:20190624T002411Z
UID:11664-1564236000-1564239600@gpoguam.com
SUMMARY:Cultural Dance Show: Guma Aniten I Taotao Tano
DESCRIPTION:Discover and experience an authentic Chamorro Cultural Experience\nwith Guma Aniten I Taotao Tano. \nEvery Saturday at 2PM in the GPO Food Court!
URL:https://gpoguam.com/event/cultural-dance-show-guma-aniten-i-taotao-tano-4/
LOCATION:GPO Food Court
CATEGORIES:Entertainment
END:VEVENT
END:VCALENDAR