BEGIN:VCALENDAR
VERSION:2.0
PRODID:-//GPO Guam - ECPv6.0.12//NONSGML v1.0//EN
CALSCALE:GREGORIAN
METHOD:PUBLISH
X-ORIGINAL-URL:https://gpoguam.com
X-WR-CALDESC:Events for GPO Guam
REFRESH-INTERVAL;VALUE=DURATION:PT1H
X-Robots-Tag:noindex
X-PUBLISHED-TTL:PT1H
BEGIN:VTIMEZONE
TZID:Pacific/Guam
BEGIN:STANDARD
TZOFFSETFROM:+1000
TZOFFSETTO:+1000
TZNAME:ChST
DTSTART:20190101T000000
END:STANDARD
END:VTIMEZONE
BEGIN:VEVENT
DTSTART;VALUE=DATE:20190628
DTEND;VALUE=DATE:20190711
DTSTAMP:20260423T201309
CREATED:20190704T233202Z
LAST-MODIFIED:20190704T233554Z
UID:11750-1561680000-1562803199@gpoguam.com
SUMMARY:Tommy Hilfiger: Here Come the Fireworks
DESCRIPTION:Here Come the Fireworks \n40% off Entire Store* \nPlus\, present this offer in-store and receive \n20% off your purchase of $150 or more or 15% off your entire purchase** \nJune 28 – July 10 \n*Ticketed price. Exclusions apply. All styles not available at all locations. Promotion not valid in California. **THIS OFFER EXPIRES ON 7/10/19 and is redeemable for an amount up to the discount stated on this Offer and must be presented in-person at Tommy Hilfiger stores in the United States\, Puerto Rico\, and Guam. It may be used only once whether or not fully redeemed and must be surrendered at purchase with any remaining value of the Offer forfeited. Not redeemable for store credit or cash. The Offer may not be combined with any other promotion and has no cash value. It is not valid for previously purchased merchandise\, gift cards\, or Internet transactions. Any discount (as shown on the receipt) applied to merchandise that is returned will be deducted from any refund amount. Customer must present this posting at time of purchase to receive the Offer. Reproductions of the Offer will not be accepted. PVH associates not eligible. Not valid in department stores\, Clearance stores\, Hilfiger stores in California and Canada\, or on tommy.com. Promo Code: 500021203000 \n 
URL:https://gpoguam.com/event/tommy-hilfiger-here-come-the-fireworks/
LOCATION:Tommy Hilfiger
CATEGORIES:Sales
END:VEVENT
BEGIN:VEVENT
DTSTART;VALUE=DATE:20190701
DTEND;VALUE=DATE:20190708
DTSTAMP:20260423T201309
CREATED:20190701T225032Z
LAST-MODIFIED:20190702T012947Z
UID:11686-1561939200-1562543999@gpoguam.com
SUMMARY:Calvin Klein: 4th of July Sale
DESCRIPTION:Weekly Web Promotion \nJuly 1st – July 7th\, 2019 \nCalvin Klein Outlet Stores \nShop The 4th of July Sale With Specials\, Up to 60% Off Entire Store \nCalvin Klein Accessory Stores \nShop The 4th of July Sale With Specials\, Accessories Up to 75% Off
URL:https://gpoguam.com/event/calvin-klein-sale-23/
LOCATION:Calvin Klein
CATEGORIES:Sales
END:VEVENT
BEGIN:VEVENT
DTSTART;VALUE=DATE:20190701
DTEND;VALUE=DATE:20190801
DTSTAMP:20260423T201309
CREATED:20190702T050432Z
LAST-MODIFIED:20190702T050432Z
UID:11692-1561939200-1564617599@gpoguam.com
SUMMARY:Chuck E. Cheese's Summer Movie Magic
DESCRIPTION:Chuck E. Cheese’s Summer Movie Magic pack for $34.99 includes: \n1 Medium 1 Topping Pizza \n2 Refillable Drinks \n15 Game Tokens \nAND 2 Movie Tickets for ANY MOVIE at GPO Regal Guam Megaplex
URL:https://gpoguam.com/event/chuck-e-cheeses-summer-movie-magic/
LOCATION:Chuck E. Cheese’s
CATEGORIES:Sales
END:VEVENT
END:VCALENDAR