BEGIN:VCALENDAR
VERSION:2.0
PRODID:-//GPO Guam - ECPv6.0.12//NONSGML v1.0//EN
CALSCALE:GREGORIAN
METHOD:PUBLISH
X-ORIGINAL-URL:https://gpoguam.com
X-WR-CALDESC:Events for GPO Guam
REFRESH-INTERVAL;VALUE=DURATION:PT1H
X-Robots-Tag:noindex
X-PUBLISHED-TTL:PT1H
BEGIN:VTIMEZONE
TZID:Pacific/Guam
BEGIN:STANDARD
TZOFFSETFROM:+1000
TZOFFSETTO:+1000
TZNAME:ChST
DTSTART:20190101T000000
END:STANDARD
END:VTIMEZONE
BEGIN:VEVENT
DTSTART;VALUE=DATE:20190530
DTEND;VALUE=DATE:20190627
DTSTAMP:20260423T212351
CREATED:20190529T231448Z
LAST-MODIFIED:20190529T231448Z
UID:11594-1559174400-1561593599@gpoguam.com
SUMMARY:Vitamin World Summer Savings
DESCRIPTION:Vitamin World’s Summer Savings! \nLocated next to AB Sports (the Nike store).
URL:https://gpoguam.com/event/vitamin-world-summer-savings/
LOCATION:Vitamin World
CATEGORIES:Sales
END:VEVENT
BEGIN:VEVENT
DTSTART;VALUE=DATE:20190601
DTEND;VALUE=DATE:20190629
DTSTAMP:20260423T212351
CREATED:20190603T034256Z
LAST-MODIFIED:20190603T034256Z
UID:11602-1559347200-1561766399@gpoguam.com
SUMMARY:HongKong Wok Anniversary Specials
DESCRIPTION:Whole Roast Duck = $20 \nTwo choice meal + all you can drink = $12 \nBoba Tea = 0.99 \nValid for the month of June
URL:https://gpoguam.com/event/hongkong-wok-anniversary-specials/
LOCATION:GPO Food Court
CATEGORIES:Sales
END:VEVENT
BEGIN:VEVENT
DTSTART;VALUE=DATE:20190601
DTEND;VALUE=DATE:20190701
DTSTAMP:20260423T212351
CREATED:20190422T034934Z
LAST-MODIFIED:20190422T034934Z
UID:11221-1559347200-1561939199@gpoguam.com
SUMMARY:Tommy Hilfiger: Kids Summer June
DESCRIPTION:Big Style for Little Hilfigers\nPresent this offer in-store and receive\n15% your entire purchase when you buy 3+ items* \nJune 1- 30 \nVisit tommy.com for store locations. Exclusions apply. All styles not available at all locations. *THIS OFFER EXPIRES ON 6/30/19 and is\nredeemable for an amount up to the discount stated on this Offer and must be presented in-person at Tommy Hilfiger stores in the\nUnited States\, Puerto Rico\, and Guam. It may be used only once whether or not fully redeemed and must be surrendered at\npurchase with any remaining value of the Offer forfeited. Not redeemable for store credit or cash. The Offer may not be combined\nwith any other promotion and has no cash value. It is not valid for previously purchased merchandise\, gift cards\, or Internet\ntransactions. Any discount (as shown on the receipt) applied to merchandise that is returned will be deducted from any refund\namount. Customer must present card at time of purchase to receive the Offer. Reproductions of the Offer will not be accepted. PVH\nassociates not eligible. Not valid in department stores\, Clearance stores\, Tommy Hilfiger stores in Canada\, or on tommy.com. Promo\nCode: 500021205000
URL:https://gpoguam.com/event/tommy-hilfiger-kids-summer-june/
LOCATION:Tommy Hilfiger
CATEGORIES:Sales
END:VEVENT
BEGIN:VEVENT
DTSTART;VALUE=DATE:20190617
DTEND;VALUE=DATE:20190627
DTSTAMP:20260423T212351
CREATED:20190613T053454Z
LAST-MODIFIED:20190613T053454Z
UID:11645-1560729600-1561593599@gpoguam.com
SUMMARY:Calvin Klein Sale
DESCRIPTION:Weekly Web Promotion \nJune 17th – June 26th\, 2019 \nExclusions apply \n\nCalvin Klein Outlet Stores \nThe Summer Wardrobe Event\, Enjoy Up to 60% Off Entire Store \n\nCalvin Klein Accessory Stores \nThe Summer Wardrobe Event\, Accessories Up to 60% Off
URL:https://gpoguam.com/event/calvin-klein-sale-20/
LOCATION:Calvin Klein
CATEGORIES:Sales
END:VEVENT
END:VCALENDAR